BEGIN:VCALENDAR
VERSION:2.0
PRODID:-//Grace Lutheran Church - Summerville, SC - ECPv6.15.20//NONSGML v1.0//EN
CALSCALE:GREGORIAN
METHOD:PUBLISH
X-WR-CALNAME:Grace Lutheran Church - Summerville, SC
X-ORIGINAL-URL:https://gracesummerville.org
X-WR-CALDESC:Events for Grace Lutheran Church - Summerville, SC
REFRESH-INTERVAL;VALUE=DURATION:PT1H
X-Robots-Tag:noindex
X-PUBLISHED-TTL:PT1H
BEGIN:VTIMEZONE
TZID:America/New_York
BEGIN:DAYLIGHT
TZOFFSETFROM:-0500
TZOFFSETTO:-0400
TZNAME:EDT
DTSTART:20210314T070000
END:DAYLIGHT
BEGIN:STANDARD
TZOFFSETFROM:-0400
TZOFFSETTO:-0500
TZNAME:EST
DTSTART:20211107T060000
END:STANDARD
BEGIN:DAYLIGHT
TZOFFSETFROM:-0500
TZOFFSETTO:-0400
TZNAME:EDT
DTSTART:20220313T070000
END:DAYLIGHT
BEGIN:STANDARD
TZOFFSETFROM:-0400
TZOFFSETTO:-0500
TZNAME:EST
DTSTART:20221106T060000
END:STANDARD
BEGIN:DAYLIGHT
TZOFFSETFROM:-0500
TZOFFSETTO:-0400
TZNAME:EDT
DTSTART:20230312T070000
END:DAYLIGHT
BEGIN:STANDARD
TZOFFSETFROM:-0400
TZOFFSETTO:-0500
TZNAME:EST
DTSTART:20231105T060000
END:STANDARD
END:VTIMEZONE
BEGIN:VEVENT
DTSTART;TZID=America/New_York:20221116T130000
DTEND;TZID=America/New_York:20221116T153000
DTSTAMP:20260425T121411
CREATED:20221110T182527Z
LAST-MODIFIED:20221110T182528Z
UID:10002048-1668603600-1668612600@gracesummerville.org
SUMMARY:Mepkin Abbey Creche Festival
DESCRIPTION:Join us as we head to Moncks Corner for the Creche Festival at Mepkin Abbey. We have 40 spots available\, so please call the church at 843-871-5444 to let us know if you would like to participate! Participants can meet at Mepkin at 2 P.M. or meet at the church at 1 P.M. to carpool. We will walk through the festival at our 2 o’clock reservation time and follow that up with a cup of coffee or cider and a treat on the abbey grounds. \nThis event is free and open to the public. Give Deaconess Karen Suter a call at the church to sign up or ask any questions (843-871-5444). See you there!
URL:https://gracesummerville.org/ourevent/mepkin-abbey-creche-festival/
LOCATION:Mepkin Abbey\, 1098 Mepkin Abbey Rd\, Moncks Corner\, SC\, 29461\, United States
ORGANIZER;CN="Karen Suter":MAILTO:deaconess@gracesummerville.org
END:VEVENT
END:VCALENDAR