BEGIN:VCALENDAR
VERSION:2.0
PRODID:-//Grace Lutheran Church - Summerville, SC - ECPv6.15.20//NONSGML v1.0//EN
CALSCALE:GREGORIAN
METHOD:PUBLISH
X-WR-CALNAME:Grace Lutheran Church - Summerville, SC
X-ORIGINAL-URL:https://gracesummerville.org
X-WR-CALDESC:Events for Grace Lutheran Church - Summerville, SC
REFRESH-INTERVAL;VALUE=DURATION:PT1H
X-Robots-Tag:noindex
X-PUBLISHED-TTL:PT1H
BEGIN:VTIMEZONE
TZID:America/New_York
BEGIN:DAYLIGHT
TZOFFSETFROM:-0500
TZOFFSETTO:-0400
TZNAME:EDT
DTSTART:20240310T070000
END:DAYLIGHT
BEGIN:STANDARD
TZOFFSETFROM:-0400
TZOFFSETTO:-0500
TZNAME:EST
DTSTART:20241103T060000
END:STANDARD
BEGIN:DAYLIGHT
TZOFFSETFROM:-0500
TZOFFSETTO:-0400
TZNAME:EDT
DTSTART:20250309T070000
END:DAYLIGHT
BEGIN:STANDARD
TZOFFSETFROM:-0400
TZOFFSETTO:-0500
TZNAME:EST
DTSTART:20251102T060000
END:STANDARD
BEGIN:DAYLIGHT
TZOFFSETFROM:-0500
TZOFFSETTO:-0400
TZNAME:EDT
DTSTART:20260308T070000
END:DAYLIGHT
BEGIN:STANDARD
TZOFFSETFROM:-0400
TZOFFSETTO:-0500
TZNAME:EST
DTSTART:20261101T060000
END:STANDARD
BEGIN:DAYLIGHT
TZOFFSETFROM:-0500
TZOFFSETTO:-0400
TZNAME:EDT
DTSTART:20270314T070000
END:DAYLIGHT
BEGIN:STANDARD
TZOFFSETFROM:-0400
TZOFFSETTO:-0500
TZNAME:EST
DTSTART:20271107T060000
END:STANDARD
END:VTIMEZONE
BEGIN:VEVENT
DTSTART;TZID=America/New_York:20260216T190000
DTEND;TZID=America/New_York:20260216T200000
DTSTAMP:20260425T114600
CREATED:20260205T202134Z
LAST-MODIFIED:20260205T202157Z
UID:10006456-1771268400-1771272000@gracesummerville.org
SUMMARY:Al-Anon/Al-Ateen Meeting
DESCRIPTION:
URL:https://gracesummerville.org/ourevent/al-anon-mtg-2/2026-02-16/
LOCATION:Grace Hall\, 1600 Old Trolley Road\, Summerville\, SC\, 29485\, United States
END:VEVENT
BEGIN:VEVENT
DTSTART;TZID=America/New_York:20260215T093000
DTEND;TZID=America/New_York:20260215T103000
DTSTAMP:20260425T114600
CREATED:20260205T231414Z
LAST-MODIFIED:20260205T231414Z
UID:10008160-1771147800-1771151400@gracesummerville.org
SUMMARY:Sunday School Adult Bible Class
DESCRIPTION:
URL:https://gracesummerville.org/ourevent/sunday-school-adult-bible-class/2026-02-15/
LOCATION:Grace Hall\, 1600 Old Trolley Road\, Summerville\, SC\, 29485\, United States
ORGANIZER;CN="Karen Suter":MAILTO:deaconess@gracesummerville.org
END:VEVENT
BEGIN:VEVENT
DTSTART;TZID=America/New_York:20260212T190000
DTEND;TZID=America/New_York:20260212T200000
DTSTAMP:20260425T114600
CREATED:20250107T202702Z
LAST-MODIFIED:20250107T210957Z
UID:10004484-1770922800-1770926400@gracesummerville.org
SUMMARY:Men's AA meeting in Grace Hall
DESCRIPTION:Practical Experience Group\nClosed\, men’s discussion meeting
URL:https://gracesummerville.org/ourevent/mens-aa-meeting-in-grace-hall/2026-02-12/
LOCATION:Grace Hall\, 1600 Old Trolley Road\, Summerville\, SC\, 29485\, United States
END:VEVENT
BEGIN:VEVENT
DTSTART;TZID=America/New_York:20260211T173000
DTEND;TZID=America/New_York:20260211T190000
DTSTAMP:20260425T114600
CREATED:20260207T185728Z
LAST-MODIFIED:20260207T185728Z
UID:10008422-1770831000-1770836400@gracesummerville.org
SUMMARY:Free Community Dinner
DESCRIPTION:
URL:https://gracesummerville.org/ourevent/free-community-dinner/2026-02-11/
LOCATION:Grace Hall\, 1600 Old Trolley Road\, Summerville\, SC\, 29485\, United States
ORGANIZER;CN="Nancy Clowney":MAILTO:nanclowney@gmail.com
END:VEVENT
BEGIN:VEVENT
DTSTART;TZID=America/New_York:20260211T093000
DTEND;TZID=America/New_York:20260211T103000
DTSTAMP:20260425T114600
CREATED:20260205T195146Z
LAST-MODIFIED:20260205T195146Z
UID:10006138-1770802200-1770805800@gracesummerville.org
SUMMARY:Craft Group
DESCRIPTION:
URL:https://gracesummerville.org/ourevent/craft-group-2/2026-02-11/
LOCATION:Grace Hall\, 1600 Old Trolley Road\, Summerville\, SC\, 29485\, United States
END:VEVENT
BEGIN:VEVENT
DTSTART;TZID=America/New_York:20260209T190000
DTEND;TZID=America/New_York:20260209T200000
DTSTAMP:20260425T114600
CREATED:20260205T202134Z
LAST-MODIFIED:20260205T202157Z
UID:10006455-1770663600-1770667200@gracesummerville.org
SUMMARY:Al-Anon/Al-Ateen Meeting
DESCRIPTION:
URL:https://gracesummerville.org/ourevent/al-anon-mtg-2/2026-02-09/
LOCATION:Grace Hall\, 1600 Old Trolley Road\, Summerville\, SC\, 29485\, United States
END:VEVENT
BEGIN:VEVENT
DTSTART;TZID=America/New_York:20260208T093000
DTEND;TZID=America/New_York:20260208T103000
DTSTAMP:20260425T114600
CREATED:20260205T231414Z
LAST-MODIFIED:20260205T231414Z
UID:10008159-1770543000-1770546600@gracesummerville.org
SUMMARY:Sunday School Adult Bible Class
DESCRIPTION:
URL:https://gracesummerville.org/ourevent/sunday-school-adult-bible-class/2026-02-08/
LOCATION:Grace Hall\, 1600 Old Trolley Road\, Summerville\, SC\, 29485\, United States
ORGANIZER;CN="Karen Suter":MAILTO:deaconess@gracesummerville.org
END:VEVENT
BEGIN:VEVENT
DTSTART;TZID=America/New_York:20260205T190000
DTEND;TZID=America/New_York:20260205T200000
DTSTAMP:20260425T114600
CREATED:20250107T202702Z
LAST-MODIFIED:20250107T210957Z
UID:10004483-1770318000-1770321600@gracesummerville.org
SUMMARY:Men's AA meeting in Grace Hall
DESCRIPTION:Practical Experience Group\nClosed\, men’s discussion meeting
URL:https://gracesummerville.org/ourevent/mens-aa-meeting-in-grace-hall/2026-02-05/
LOCATION:Grace Hall\, 1600 Old Trolley Road\, Summerville\, SC\, 29485\, United States
END:VEVENT
BEGIN:VEVENT
DTSTART;TZID=America/New_York:20260204T173000
DTEND;TZID=America/New_York:20260204T190000
DTSTAMP:20260425T114600
CREATED:20260207T185728Z
LAST-MODIFIED:20260207T185728Z
UID:10008421-1770226200-1770231600@gracesummerville.org
SUMMARY:Free Community Dinner
DESCRIPTION:
URL:https://gracesummerville.org/ourevent/free-community-dinner/2026-02-04/
LOCATION:Grace Hall\, 1600 Old Trolley Road\, Summerville\, SC\, 29485\, United States
ORGANIZER;CN="Nancy Clowney":MAILTO:nanclowney@gmail.com
END:VEVENT
BEGIN:VEVENT
DTSTART;TZID=America/New_York:20260204T093000
DTEND;TZID=America/New_York:20260204T103000
DTSTAMP:20260425T114600
CREATED:20260205T195146Z
LAST-MODIFIED:20260205T195146Z
UID:10006137-1770197400-1770201000@gracesummerville.org
SUMMARY:Craft Group
DESCRIPTION:
URL:https://gracesummerville.org/ourevent/craft-group-2/2026-02-04/
LOCATION:Grace Hall\, 1600 Old Trolley Road\, Summerville\, SC\, 29485\, United States
END:VEVENT
BEGIN:VEVENT
DTSTART;TZID=America/New_York:20260202T190000
DTEND;TZID=America/New_York:20260202T200000
DTSTAMP:20260425T114600
CREATED:20260205T202134Z
LAST-MODIFIED:20260205T202157Z
UID:10005122-1770058800-1770062400@gracesummerville.org
SUMMARY:Al-Anon/Al-Ateen Meeting
DESCRIPTION:
URL:https://gracesummerville.org/ourevent/al-anon-mtg-2/2026-02-02/
LOCATION:Grace Hall\, 1600 Old Trolley Road\, Summerville\, SC\, 29485\, United States
END:VEVENT
BEGIN:VEVENT
DTSTART;TZID=America/New_York:20260201T093000
DTEND;TZID=America/New_York:20260201T103000
DTSTAMP:20260425T114600
CREATED:20260205T231414Z
LAST-MODIFIED:20260205T231414Z
UID:10008158-1769938200-1769941800@gracesummerville.org
SUMMARY:Sunday School Adult Bible Class
DESCRIPTION:
URL:https://gracesummerville.org/ourevent/sunday-school-adult-bible-class/2026-02-01/
LOCATION:Grace Hall\, 1600 Old Trolley Road\, Summerville\, SC\, 29485\, United States
ORGANIZER;CN="Karen Suter":MAILTO:deaconess@gracesummerville.org
END:VEVENT
BEGIN:VEVENT
DTSTART;TZID=America/New_York:20260129T190000
DTEND;TZID=America/New_York:20260129T200000
DTSTAMP:20260425T114600
CREATED:20250107T202702Z
LAST-MODIFIED:20250107T210957Z
UID:10004482-1769713200-1769716800@gracesummerville.org
SUMMARY:Men's AA meeting in Grace Hall
DESCRIPTION:Practical Experience Group\nClosed\, men’s discussion meeting
URL:https://gracesummerville.org/ourevent/mens-aa-meeting-in-grace-hall/2026-01-29/
LOCATION:Grace Hall\, 1600 Old Trolley Road\, Summerville\, SC\, 29485\, United States
END:VEVENT
BEGIN:VEVENT
DTSTART;TZID=America/New_York:20260125T120000
DTEND;TZID=America/New_York:20260125T150000
DTSTAMP:20260425T114600
CREATED:20260101T170950Z
LAST-MODIFIED:20260101T170950Z
UID:10005553-1769342400-1769353200@gracesummerville.org
SUMMARY:Grace Families Game Day and Taco Bar
DESCRIPTION:
URL:https://gracesummerville.org/ourevent/grace-families-game-day-and-taco-bar/
LOCATION:Grace Hall\, 1600 Old Trolley Road\, Summerville\, SC\, 29485\, United States
END:VEVENT
BEGIN:VEVENT
DTSTART;TZID=America/New_York:20260122T190000
DTEND;TZID=America/New_York:20260122T200000
DTSTAMP:20260425T114600
CREATED:20250107T202702Z
LAST-MODIFIED:20250107T210957Z
UID:10004481-1769108400-1769112000@gracesummerville.org
SUMMARY:Men's AA meeting in Grace Hall
DESCRIPTION:Practical Experience Group\nClosed\, men’s discussion meeting
URL:https://gracesummerville.org/ourevent/mens-aa-meeting-in-grace-hall/2026-01-22/
LOCATION:Grace Hall\, 1600 Old Trolley Road\, Summerville\, SC\, 29485\, United States
END:VEVENT
BEGIN:VEVENT
DTSTART;TZID=America/New_York:20260115T190000
DTEND;TZID=America/New_York:20260115T200000
DTSTAMP:20260425T114600
CREATED:20250107T202702Z
LAST-MODIFIED:20250107T210957Z
UID:10004480-1768503600-1768507200@gracesummerville.org
SUMMARY:Men's AA meeting in Grace Hall
DESCRIPTION:Practical Experience Group\nClosed\, men’s discussion meeting
URL:https://gracesummerville.org/ourevent/mens-aa-meeting-in-grace-hall/2026-01-15/
LOCATION:Grace Hall\, 1600 Old Trolley Road\, Summerville\, SC\, 29485\, United States
END:VEVENT
BEGIN:VEVENT
DTSTART;TZID=America/New_York:20260108T190000
DTEND;TZID=America/New_York:20260108T200000
DTSTAMP:20260425T114600
CREATED:20250107T202702Z
LAST-MODIFIED:20250107T210957Z
UID:10004479-1767898800-1767902400@gracesummerville.org
SUMMARY:Men's AA meeting in Grace Hall
DESCRIPTION:Practical Experience Group\nClosed\, men’s discussion meeting
URL:https://gracesummerville.org/ourevent/mens-aa-meeting-in-grace-hall/2026-01-08/
LOCATION:Grace Hall\, 1600 Old Trolley Road\, Summerville\, SC\, 29485\, United States
END:VEVENT
BEGIN:VEVENT
DTSTART;TZID=America/New_York:20260101T190000
DTEND;TZID=America/New_York:20260101T200000
DTSTAMP:20260425T114600
CREATED:20250107T202702Z
LAST-MODIFIED:20250107T210957Z
UID:10004478-1767294000-1767297600@gracesummerville.org
SUMMARY:Men's AA meeting in Grace Hall
DESCRIPTION:Practical Experience Group\nClosed\, men’s discussion meeting
URL:https://gracesummerville.org/ourevent/mens-aa-meeting-in-grace-hall/2026-01-01/
LOCATION:Grace Hall\, 1600 Old Trolley Road\, Summerville\, SC\, 29485\, United States
END:VEVENT
BEGIN:VEVENT
DTSTART;TZID=America/New_York:20251225T190000
DTEND;TZID=America/New_York:20251225T200000
DTSTAMP:20260425T114600
CREATED:20250107T202702Z
LAST-MODIFIED:20250107T210957Z
UID:10004477-1766689200-1766692800@gracesummerville.org
SUMMARY:Men's AA meeting in Grace Hall
DESCRIPTION:Practical Experience Group\nClosed\, men’s discussion meeting
URL:https://gracesummerville.org/ourevent/mens-aa-meeting-in-grace-hall/2025-12-25/
LOCATION:Grace Hall\, 1600 Old Trolley Road\, Summerville\, SC\, 29485\, United States
END:VEVENT
BEGIN:VEVENT
DTSTART;TZID=America/New_York:20251218T190000
DTEND;TZID=America/New_York:20251218T200000
DTSTAMP:20260425T114600
CREATED:20250107T202702Z
LAST-MODIFIED:20250107T210957Z
UID:10004476-1766084400-1766088000@gracesummerville.org
SUMMARY:Men's AA meeting in Grace Hall
DESCRIPTION:Practical Experience Group\nClosed\, men’s discussion meeting
URL:https://gracesummerville.org/ourevent/mens-aa-meeting-in-grace-hall/2025-12-18/
LOCATION:Grace Hall\, 1600 Old Trolley Road\, Summerville\, SC\, 29485\, United States
END:VEVENT
BEGIN:VEVENT
DTSTART;TZID=America/New_York:20251211T190000
DTEND;TZID=America/New_York:20251211T200000
DTSTAMP:20260425T114600
CREATED:20250107T202702Z
LAST-MODIFIED:20250107T210957Z
UID:10004475-1765479600-1765483200@gracesummerville.org
SUMMARY:Men's AA meeting in Grace Hall
DESCRIPTION:Practical Experience Group\nClosed\, men’s discussion meeting
URL:https://gracesummerville.org/ourevent/mens-aa-meeting-in-grace-hall/2025-12-11/
LOCATION:Grace Hall\, 1600 Old Trolley Road\, Summerville\, SC\, 29485\, United States
END:VEVENT
BEGIN:VEVENT
DTSTART;TZID=America/New_York:20251204T190000
DTEND;TZID=America/New_York:20251204T200000
DTSTAMP:20260425T114600
CREATED:20250107T202702Z
LAST-MODIFIED:20250107T210957Z
UID:10004474-1764874800-1764878400@gracesummerville.org
SUMMARY:Men's AA meeting in Grace Hall
DESCRIPTION:Practical Experience Group\nClosed\, men’s discussion meeting
URL:https://gracesummerville.org/ourevent/mens-aa-meeting-in-grace-hall/2025-12-04/
LOCATION:Grace Hall\, 1600 Old Trolley Road\, Summerville\, SC\, 29485\, United States
END:VEVENT
BEGIN:VEVENT
DTSTART;TZID=America/New_York:20251127T190000
DTEND;TZID=America/New_York:20251127T200000
DTSTAMP:20260425T114600
CREATED:20250107T202702Z
LAST-MODIFIED:20250107T210957Z
UID:10004473-1764270000-1764273600@gracesummerville.org
SUMMARY:Men's AA meeting in Grace Hall
DESCRIPTION:Practical Experience Group\nClosed\, men’s discussion meeting
URL:https://gracesummerville.org/ourevent/mens-aa-meeting-in-grace-hall/2025-11-27/
LOCATION:Grace Hall\, 1600 Old Trolley Road\, Summerville\, SC\, 29485\, United States
END:VEVENT
BEGIN:VEVENT
DTSTART;TZID=America/New_York:20251120T190000
DTEND;TZID=America/New_York:20251120T200000
DTSTAMP:20260425T114600
CREATED:20250107T202702Z
LAST-MODIFIED:20250107T210957Z
UID:10004472-1763665200-1763668800@gracesummerville.org
SUMMARY:Men's AA meeting in Grace Hall
DESCRIPTION:Practical Experience Group\nClosed\, men’s discussion meeting
URL:https://gracesummerville.org/ourevent/mens-aa-meeting-in-grace-hall/2025-11-20/
LOCATION:Grace Hall\, 1600 Old Trolley Road\, Summerville\, SC\, 29485\, United States
END:VEVENT
BEGIN:VEVENT
DTSTART;TZID=America/New_York:20251113T190000
DTEND;TZID=America/New_York:20251113T200000
DTSTAMP:20260425T114600
CREATED:20250107T202702Z
LAST-MODIFIED:20250107T210957Z
UID:10004471-1763060400-1763064000@gracesummerville.org
SUMMARY:Men's AA meeting in Grace Hall
DESCRIPTION:Practical Experience Group\nClosed\, men’s discussion meeting
URL:https://gracesummerville.org/ourevent/mens-aa-meeting-in-grace-hall/2025-11-13/
LOCATION:Grace Hall\, 1600 Old Trolley Road\, Summerville\, SC\, 29485\, United States
END:VEVENT
BEGIN:VEVENT
DTSTART;TZID=America/New_York:20251106T190000
DTEND;TZID=America/New_York:20251106T200000
DTSTAMP:20260425T114600
CREATED:20250107T202702Z
LAST-MODIFIED:20250107T210957Z
UID:10004470-1762455600-1762459200@gracesummerville.org
SUMMARY:Men's AA meeting in Grace Hall
DESCRIPTION:Practical Experience Group\nClosed\, men’s discussion meeting
URL:https://gracesummerville.org/ourevent/mens-aa-meeting-in-grace-hall/2025-11-06/
LOCATION:Grace Hall\, 1600 Old Trolley Road\, Summerville\, SC\, 29485\, United States
END:VEVENT
BEGIN:VEVENT
DTSTART;TZID=America/New_York:20251030T190000
DTEND;TZID=America/New_York:20251030T200000
DTSTAMP:20260425T114600
CREATED:20250107T202702Z
LAST-MODIFIED:20250107T210957Z
UID:10004469-1761850800-1761854400@gracesummerville.org
SUMMARY:Men's AA meeting in Grace Hall
DESCRIPTION:Practical Experience Group\nClosed\, men’s discussion meeting
URL:https://gracesummerville.org/ourevent/mens-aa-meeting-in-grace-hall/2025-10-30/
LOCATION:Grace Hall\, 1600 Old Trolley Road\, Summerville\, SC\, 29485\, United States
END:VEVENT
BEGIN:VEVENT
DTSTART;TZID=America/New_York:20251023T190000
DTEND;TZID=America/New_York:20251023T200000
DTSTAMP:20260425T114600
CREATED:20250107T202702Z
LAST-MODIFIED:20250107T210957Z
UID:10004468-1761246000-1761249600@gracesummerville.org
SUMMARY:Men's AA meeting in Grace Hall
DESCRIPTION:Practical Experience Group\nClosed\, men’s discussion meeting
URL:https://gracesummerville.org/ourevent/mens-aa-meeting-in-grace-hall/2025-10-23/
LOCATION:Grace Hall\, 1600 Old Trolley Road\, Summerville\, SC\, 29485\, United States
END:VEVENT
BEGIN:VEVENT
DTSTART;TZID=America/New_York:20251016T190000
DTEND;TZID=America/New_York:20251016T200000
DTSTAMP:20260425T114600
CREATED:20250107T202702Z
LAST-MODIFIED:20250107T210957Z
UID:10004467-1760641200-1760644800@gracesummerville.org
SUMMARY:Men's AA meeting in Grace Hall
DESCRIPTION:Practical Experience Group\nClosed\, men’s discussion meeting
URL:https://gracesummerville.org/ourevent/mens-aa-meeting-in-grace-hall/2025-10-16/
LOCATION:Grace Hall\, 1600 Old Trolley Road\, Summerville\, SC\, 29485\, United States
END:VEVENT
BEGIN:VEVENT
DTSTART;TZID=America/New_York:20251009T190000
DTEND;TZID=America/New_York:20251009T200000
DTSTAMP:20260425T114600
CREATED:20250107T202702Z
LAST-MODIFIED:20250107T210957Z
UID:10004466-1760036400-1760040000@gracesummerville.org
SUMMARY:Men's AA meeting in Grace Hall
DESCRIPTION:Practical Experience Group\nClosed\, men’s discussion meeting
URL:https://gracesummerville.org/ourevent/mens-aa-meeting-in-grace-hall/2025-10-09/
LOCATION:Grace Hall\, 1600 Old Trolley Road\, Summerville\, SC\, 29485\, United States
END:VEVENT
END:VCALENDAR