BEGIN:VCALENDAR
VERSION:2.0
PRODID:-//Grace Lutheran Church - Summerville, SC - ECPv6.15.20//NONSGML v1.0//EN
CALSCALE:GREGORIAN
METHOD:PUBLISH
X-ORIGINAL-URL:https://gracesummerville.org
X-WR-CALDESC:Events for Grace Lutheran Church - Summerville, SC
REFRESH-INTERVAL;VALUE=DURATION:PT1H
X-Robots-Tag:noindex
X-PUBLISHED-TTL:PT1H
BEGIN:VTIMEZONE
TZID:America/New_York
BEGIN:DAYLIGHT
TZOFFSETFROM:-0500
TZOFFSETTO:-0400
TZNAME:EDT
DTSTART:20250309T070000
END:DAYLIGHT
BEGIN:STANDARD
TZOFFSETFROM:-0400
TZOFFSETTO:-0500
TZNAME:EST
DTSTART:20251102T060000
END:STANDARD
BEGIN:DAYLIGHT
TZOFFSETFROM:-0500
TZOFFSETTO:-0400
TZNAME:EDT
DTSTART:20260308T070000
END:DAYLIGHT
BEGIN:STANDARD
TZOFFSETFROM:-0400
TZOFFSETTO:-0500
TZNAME:EST
DTSTART:20261101T060000
END:STANDARD
BEGIN:DAYLIGHT
TZOFFSETFROM:-0500
TZOFFSETTO:-0400
TZNAME:EDT
DTSTART:20270314T070000
END:DAYLIGHT
BEGIN:STANDARD
TZOFFSETFROM:-0400
TZOFFSETTO:-0500
TZNAME:EST
DTSTART:20271107T060000
END:STANDARD
END:VTIMEZONE
BEGIN:VEVENT
DTSTART;TZID=America/New_York:20260717T110000
DTEND;TZID=America/New_York:20260717T120000
DTSTAMP:20260424T193233
CREATED:20260401T174050Z
LAST-MODIFIED:20260401T174051Z
UID:10006741-1784286000-1784289600@gracesummerville.org
SUMMARY:Bible Study
DESCRIPTION:Bible Study 11:00 am Choir Room
URL:https://gracesummerville.org/ourevent/bible-study-2-2/2026-07-17/
LOCATION:Choir Room\, 1600 Old Trolley Road\, Summerville\, SC\, 29485\, United States
END:VEVENT
BEGIN:VEVENT
DTSTART;TZID=America/New_York:20260721T103000
DTEND;TZID=America/New_York:20260721T113000
DTSTAMP:20260424T193233
CREATED:20260401T171906Z
LAST-MODIFIED:20260420T002316Z
UID:10008488-1784629800-1784633400@gracesummerville.org
SUMMARY:LifeLight Bible Study
DESCRIPTION:
URL:https://gracesummerville.org/ourevent/lifelight-bible-study-2/2026-07-21/
LOCATION:Choir Room\, 1600 Old Trolley Road\, Summerville\, SC\, 29485\, United States
END:VEVENT
BEGIN:VEVENT
DTSTART;TZID=America/New_York:20260724T110000
DTEND;TZID=America/New_York:20260724T120000
DTSTAMP:20260424T193233
CREATED:20260401T174050Z
LAST-MODIFIED:20260401T174051Z
UID:10006742-1784890800-1784894400@gracesummerville.org
SUMMARY:Bible Study
DESCRIPTION:Bible Study 11:00 am Choir Room
URL:https://gracesummerville.org/ourevent/bible-study-2-2/2026-07-24/
LOCATION:Choir Room\, 1600 Old Trolley Road\, Summerville\, SC\, 29485\, United States
END:VEVENT
BEGIN:VEVENT
DTSTART;TZID=America/New_York:20260728T103000
DTEND;TZID=America/New_York:20260728T113000
DTSTAMP:20260424T193233
CREATED:20260401T171906Z
LAST-MODIFIED:20260420T002316Z
UID:10008489-1785234600-1785238200@gracesummerville.org
SUMMARY:LifeLight Bible Study
DESCRIPTION:
URL:https://gracesummerville.org/ourevent/lifelight-bible-study-2/2026-07-28/
LOCATION:Choir Room\, 1600 Old Trolley Road\, Summerville\, SC\, 29485\, United States
END:VEVENT
BEGIN:VEVENT
DTSTART;TZID=America/New_York:20260731T110000
DTEND;TZID=America/New_York:20260731T120000
DTSTAMP:20260424T193233
CREATED:20260401T174050Z
LAST-MODIFIED:20260401T174051Z
UID:10006743-1785495600-1785499200@gracesummerville.org
SUMMARY:Bible Study
DESCRIPTION:Bible Study 11:00 am Choir Room
URL:https://gracesummerville.org/ourevent/bible-study-2-2/2026-07-31/
LOCATION:Choir Room\, 1600 Old Trolley Road\, Summerville\, SC\, 29485\, United States
END:VEVENT
BEGIN:VEVENT
DTSTART;TZID=America/New_York:20260804T103000
DTEND;TZID=America/New_York:20260804T113000
DTSTAMP:20260424T193233
CREATED:20260401T171906Z
LAST-MODIFIED:20260420T002316Z
UID:10008490-1785839400-1785843000@gracesummerville.org
SUMMARY:LifeLight Bible Study
DESCRIPTION:
URL:https://gracesummerville.org/ourevent/lifelight-bible-study-2/2026-08-04/
LOCATION:Choir Room\, 1600 Old Trolley Road\, Summerville\, SC\, 29485\, United States
END:VEVENT
BEGIN:VEVENT
DTSTART;TZID=America/New_York:20260807T110000
DTEND;TZID=America/New_York:20260807T120000
DTSTAMP:20260424T193233
CREATED:20260401T174050Z
LAST-MODIFIED:20260401T174051Z
UID:10006744-1786100400-1786104000@gracesummerville.org
SUMMARY:Bible Study
DESCRIPTION:Bible Study 11:00 am Choir Room
URL:https://gracesummerville.org/ourevent/bible-study-2-2/2026-08-07/
LOCATION:Choir Room\, 1600 Old Trolley Road\, Summerville\, SC\, 29485\, United States
END:VEVENT
BEGIN:VEVENT
DTSTART;TZID=America/New_York:20260811T103000
DTEND;TZID=America/New_York:20260811T113000
DTSTAMP:20260424T193233
CREATED:20260401T171906Z
LAST-MODIFIED:20260420T002316Z
UID:10008491-1786444200-1786447800@gracesummerville.org
SUMMARY:LifeLight Bible Study
DESCRIPTION:
URL:https://gracesummerville.org/ourevent/lifelight-bible-study-2/2026-08-11/
LOCATION:Choir Room\, 1600 Old Trolley Road\, Summerville\, SC\, 29485\, United States
END:VEVENT
BEGIN:VEVENT
DTSTART;TZID=America/New_York:20260814T110000
DTEND;TZID=America/New_York:20260814T120000
DTSTAMP:20260424T193233
CREATED:20260401T174050Z
LAST-MODIFIED:20260401T174051Z
UID:10006745-1786705200-1786708800@gracesummerville.org
SUMMARY:Bible Study
DESCRIPTION:Bible Study 11:00 am Choir Room
URL:https://gracesummerville.org/ourevent/bible-study-2-2/2026-08-14/
LOCATION:Choir Room\, 1600 Old Trolley Road\, Summerville\, SC\, 29485\, United States
END:VEVENT
BEGIN:VEVENT
DTSTART;TZID=America/New_York:20260818T103000
DTEND;TZID=America/New_York:20260818T113000
DTSTAMP:20260424T193233
CREATED:20260401T171906Z
LAST-MODIFIED:20260420T002316Z
UID:10008492-1787049000-1787052600@gracesummerville.org
SUMMARY:LifeLight Bible Study
DESCRIPTION:
URL:https://gracesummerville.org/ourevent/lifelight-bible-study-2/2026-08-18/
LOCATION:Choir Room\, 1600 Old Trolley Road\, Summerville\, SC\, 29485\, United States
END:VEVENT
BEGIN:VEVENT
DTSTART;TZID=America/New_York:20260821T110000
DTEND;TZID=America/New_York:20260821T120000
DTSTAMP:20260424T193233
CREATED:20260401T174050Z
LAST-MODIFIED:20260401T174051Z
UID:10006746-1787310000-1787313600@gracesummerville.org
SUMMARY:Bible Study
DESCRIPTION:Bible Study 11:00 am Choir Room
URL:https://gracesummerville.org/ourevent/bible-study-2-2/2026-08-21/
LOCATION:Choir Room\, 1600 Old Trolley Road\, Summerville\, SC\, 29485\, United States
END:VEVENT
BEGIN:VEVENT
DTSTART;TZID=America/New_York:20260825T103000
DTEND;TZID=America/New_York:20260825T113000
DTSTAMP:20260424T193233
CREATED:20260401T171906Z
LAST-MODIFIED:20260420T002316Z
UID:10008493-1787653800-1787657400@gracesummerville.org
SUMMARY:LifeLight Bible Study
DESCRIPTION:
URL:https://gracesummerville.org/ourevent/lifelight-bible-study-2/2026-08-25/
LOCATION:Choir Room\, 1600 Old Trolley Road\, Summerville\, SC\, 29485\, United States
END:VEVENT
BEGIN:VEVENT
DTSTART;TZID=America/New_York:20260828T110000
DTEND;TZID=America/New_York:20260828T120000
DTSTAMP:20260424T193233
CREATED:20260401T174050Z
LAST-MODIFIED:20260401T174051Z
UID:10006747-1787914800-1787918400@gracesummerville.org
SUMMARY:Bible Study
DESCRIPTION:Bible Study 11:00 am Choir Room
URL:https://gracesummerville.org/ourevent/bible-study-2-2/2026-08-28/
LOCATION:Choir Room\, 1600 Old Trolley Road\, Summerville\, SC\, 29485\, United States
END:VEVENT
BEGIN:VEVENT
DTSTART;TZID=America/New_York:20260901T103000
DTEND;TZID=America/New_York:20260901T113000
DTSTAMP:20260424T193233
CREATED:20260401T171906Z
LAST-MODIFIED:20260420T002316Z
UID:10008494-1788258600-1788262200@gracesummerville.org
SUMMARY:LifeLight Bible Study
DESCRIPTION:
URL:https://gracesummerville.org/ourevent/lifelight-bible-study-2/2026-09-01/
LOCATION:Choir Room\, 1600 Old Trolley Road\, Summerville\, SC\, 29485\, United States
END:VEVENT
BEGIN:VEVENT
DTSTART;TZID=America/New_York:20260904T110000
DTEND;TZID=America/New_York:20260904T120000
DTSTAMP:20260424T193233
CREATED:20260401T174050Z
LAST-MODIFIED:20260401T174051Z
UID:10006748-1788519600-1788523200@gracesummerville.org
SUMMARY:Bible Study
DESCRIPTION:Bible Study 11:00 am Choir Room
URL:https://gracesummerville.org/ourevent/bible-study-2-2/2026-09-04/
LOCATION:Choir Room\, 1600 Old Trolley Road\, Summerville\, SC\, 29485\, United States
END:VEVENT
BEGIN:VEVENT
DTSTART;TZID=America/New_York:20260908T103000
DTEND;TZID=America/New_York:20260908T113000
DTSTAMP:20260424T193233
CREATED:20260401T171906Z
LAST-MODIFIED:20260420T002316Z
UID:10008495-1788863400-1788867000@gracesummerville.org
SUMMARY:LifeLight Bible Study
DESCRIPTION:
URL:https://gracesummerville.org/ourevent/lifelight-bible-study-2/2026-09-08/
LOCATION:Choir Room\, 1600 Old Trolley Road\, Summerville\, SC\, 29485\, United States
END:VEVENT
BEGIN:VEVENT
DTSTART;TZID=America/New_York:20260911T110000
DTEND;TZID=America/New_York:20260911T120000
DTSTAMP:20260424T193233
CREATED:20260401T174050Z
LAST-MODIFIED:20260401T174051Z
UID:10006749-1789124400-1789128000@gracesummerville.org
SUMMARY:Bible Study
DESCRIPTION:Bible Study 11:00 am Choir Room
URL:https://gracesummerville.org/ourevent/bible-study-2-2/2026-09-11/
LOCATION:Choir Room\, 1600 Old Trolley Road\, Summerville\, SC\, 29485\, United States
END:VEVENT
BEGIN:VEVENT
DTSTART;TZID=America/New_York:20260915T103000
DTEND;TZID=America/New_York:20260915T113000
DTSTAMP:20260424T193233
CREATED:20260401T171906Z
LAST-MODIFIED:20260420T002316Z
UID:10008496-1789468200-1789471800@gracesummerville.org
SUMMARY:LifeLight Bible Study
DESCRIPTION:
URL:https://gracesummerville.org/ourevent/lifelight-bible-study-2/2026-09-15/
LOCATION:Choir Room\, 1600 Old Trolley Road\, Summerville\, SC\, 29485\, United States
END:VEVENT
BEGIN:VEVENT
DTSTART;TZID=America/New_York:20260918T110000
DTEND;TZID=America/New_York:20260918T120000
DTSTAMP:20260424T193233
CREATED:20260401T174050Z
LAST-MODIFIED:20260401T174051Z
UID:10006750-1789729200-1789732800@gracesummerville.org
SUMMARY:Bible Study
DESCRIPTION:Bible Study 11:00 am Choir Room
URL:https://gracesummerville.org/ourevent/bible-study-2-2/2026-09-18/
LOCATION:Choir Room\, 1600 Old Trolley Road\, Summerville\, SC\, 29485\, United States
END:VEVENT
BEGIN:VEVENT
DTSTART;TZID=America/New_York:20260922T103000
DTEND;TZID=America/New_York:20260922T113000
DTSTAMP:20260424T193233
CREATED:20260401T171906Z
LAST-MODIFIED:20260420T002316Z
UID:10008497-1790073000-1790076600@gracesummerville.org
SUMMARY:LifeLight Bible Study
DESCRIPTION:
URL:https://gracesummerville.org/ourevent/lifelight-bible-study-2/2026-09-22/
LOCATION:Choir Room\, 1600 Old Trolley Road\, Summerville\, SC\, 29485\, United States
END:VEVENT
BEGIN:VEVENT
DTSTART;TZID=America/New_York:20260925T110000
DTEND;TZID=America/New_York:20260925T120000
DTSTAMP:20260424T193233
CREATED:20260401T174050Z
LAST-MODIFIED:20260401T174051Z
UID:10006751-1790334000-1790337600@gracesummerville.org
SUMMARY:Bible Study
DESCRIPTION:Bible Study 11:00 am Choir Room
URL:https://gracesummerville.org/ourevent/bible-study-2-2/2026-09-25/
LOCATION:Choir Room\, 1600 Old Trolley Road\, Summerville\, SC\, 29485\, United States
END:VEVENT
BEGIN:VEVENT
DTSTART;TZID=America/New_York:20260929T103000
DTEND;TZID=America/New_York:20260929T113000
DTSTAMP:20260424T193233
CREATED:20260401T171906Z
LAST-MODIFIED:20260420T002316Z
UID:10008498-1790677800-1790681400@gracesummerville.org
SUMMARY:LifeLight Bible Study
DESCRIPTION:
URL:https://gracesummerville.org/ourevent/lifelight-bible-study-2/2026-09-29/
LOCATION:Choir Room\, 1600 Old Trolley Road\, Summerville\, SC\, 29485\, United States
END:VEVENT
BEGIN:VEVENT
DTSTART;TZID=America/New_York:20261002T110000
DTEND;TZID=America/New_York:20261002T120000
DTSTAMP:20260424T193233
CREATED:20260401T174050Z
LAST-MODIFIED:20260401T174051Z
UID:10006752-1790938800-1790942400@gracesummerville.org
SUMMARY:Bible Study
DESCRIPTION:Bible Study 11:00 am Choir Room
URL:https://gracesummerville.org/ourevent/bible-study-2-2/2026-10-02/
LOCATION:Choir Room\, 1600 Old Trolley Road\, Summerville\, SC\, 29485\, United States
END:VEVENT
BEGIN:VEVENT
DTSTART;TZID=America/New_York:20261006T103000
DTEND;TZID=America/New_York:20261006T113000
DTSTAMP:20260424T193233
CREATED:20260401T171906Z
LAST-MODIFIED:20260420T002316Z
UID:10008499-1791282600-1791286200@gracesummerville.org
SUMMARY:LifeLight Bible Study
DESCRIPTION:
URL:https://gracesummerville.org/ourevent/lifelight-bible-study-2/2026-10-06/
LOCATION:Choir Room\, 1600 Old Trolley Road\, Summerville\, SC\, 29485\, United States
END:VEVENT
BEGIN:VEVENT
DTSTART;TZID=America/New_York:20261009T110000
DTEND;TZID=America/New_York:20261009T120000
DTSTAMP:20260424T193233
CREATED:20260401T174050Z
LAST-MODIFIED:20260401T174051Z
UID:10006753-1791543600-1791547200@gracesummerville.org
SUMMARY:Bible Study
DESCRIPTION:Bible Study 11:00 am Choir Room
URL:https://gracesummerville.org/ourevent/bible-study-2-2/2026-10-09/
LOCATION:Choir Room\, 1600 Old Trolley Road\, Summerville\, SC\, 29485\, United States
END:VEVENT
BEGIN:VEVENT
DTSTART;TZID=America/New_York:20261013T103000
DTEND;TZID=America/New_York:20261013T113000
DTSTAMP:20260424T193233
CREATED:20260401T171906Z
LAST-MODIFIED:20260420T002316Z
UID:10008500-1791887400-1791891000@gracesummerville.org
SUMMARY:LifeLight Bible Study
DESCRIPTION:
URL:https://gracesummerville.org/ourevent/lifelight-bible-study-2/2026-10-13/
LOCATION:Choir Room\, 1600 Old Trolley Road\, Summerville\, SC\, 29485\, United States
END:VEVENT
BEGIN:VEVENT
DTSTART;TZID=America/New_York:20261016T110000
DTEND;TZID=America/New_York:20261016T120000
DTSTAMP:20260424T193233
CREATED:20260401T174050Z
LAST-MODIFIED:20260401T174051Z
UID:10006754-1792148400-1792152000@gracesummerville.org
SUMMARY:Bible Study
DESCRIPTION:Bible Study 11:00 am Choir Room
URL:https://gracesummerville.org/ourevent/bible-study-2-2/2026-10-16/
LOCATION:Choir Room\, 1600 Old Trolley Road\, Summerville\, SC\, 29485\, United States
END:VEVENT
BEGIN:VEVENT
DTSTART;TZID=America/New_York:20261020T103000
DTEND;TZID=America/New_York:20261020T113000
DTSTAMP:20260424T193233
CREATED:20260401T171906Z
LAST-MODIFIED:20260420T002316Z
UID:10008501-1792492200-1792495800@gracesummerville.org
SUMMARY:LifeLight Bible Study
DESCRIPTION:
URL:https://gracesummerville.org/ourevent/lifelight-bible-study-2/2026-10-20/
LOCATION:Choir Room\, 1600 Old Trolley Road\, Summerville\, SC\, 29485\, United States
END:VEVENT
BEGIN:VEVENT
DTSTART;TZID=America/New_York:20261023T110000
DTEND;TZID=America/New_York:20261023T120000
DTSTAMP:20260424T193233
CREATED:20260401T174050Z
LAST-MODIFIED:20260401T174051Z
UID:10006755-1792753200-1792756800@gracesummerville.org
SUMMARY:Bible Study
DESCRIPTION:Bible Study 11:00 am Choir Room
URL:https://gracesummerville.org/ourevent/bible-study-2-2/2026-10-23/
LOCATION:Choir Room\, 1600 Old Trolley Road\, Summerville\, SC\, 29485\, United States
END:VEVENT
BEGIN:VEVENT
DTSTART;TZID=America/New_York:20261027T103000
DTEND;TZID=America/New_York:20261027T113000
DTSTAMP:20260424T193233
CREATED:20260401T171906Z
LAST-MODIFIED:20260420T002316Z
UID:10008502-1793097000-1793100600@gracesummerville.org
SUMMARY:LifeLight Bible Study
DESCRIPTION:
URL:https://gracesummerville.org/ourevent/lifelight-bible-study-2/2026-10-27/
LOCATION:Choir Room\, 1600 Old Trolley Road\, Summerville\, SC\, 29485\, United States
END:VEVENT
END:VCALENDAR