BEGIN:VCALENDAR
VERSION:2.0
PRODID:-//Grace Lutheran Church - Summerville, SC - ECPv6.15.20//NONSGML v1.0//EN
CALSCALE:GREGORIAN
METHOD:PUBLISH
X-WR-CALNAME:Grace Lutheran Church - Summerville, SC
X-ORIGINAL-URL:https://gracesummerville.org
X-WR-CALDESC:Events for Grace Lutheran Church - Summerville, SC
REFRESH-INTERVAL;VALUE=DURATION:PT1H
X-Robots-Tag:noindex
X-PUBLISHED-TTL:PT1H
BEGIN:VTIMEZONE
TZID:America/New_York
BEGIN:DAYLIGHT
TZOFFSETFROM:-0500
TZOFFSETTO:-0400
TZNAME:EDT
DTSTART:20270314T070000
END:DAYLIGHT
BEGIN:STANDARD
TZOFFSETFROM:-0400
TZOFFSETTO:-0500
TZNAME:EST
DTSTART:20271107T060000
END:STANDARD
BEGIN:DAYLIGHT
TZOFFSETFROM:-0500
TZOFFSETTO:-0400
TZNAME:EDT
DTSTART:20280312T070000
END:DAYLIGHT
BEGIN:STANDARD
TZOFFSETFROM:-0400
TZOFFSETTO:-0500
TZNAME:EST
DTSTART:20281105T060000
END:STANDARD
BEGIN:DAYLIGHT
TZOFFSETFROM:-0500
TZOFFSETTO:-0400
TZNAME:EDT
DTSTART:20290311T070000
END:DAYLIGHT
BEGIN:STANDARD
TZOFFSETFROM:-0400
TZOFFSETTO:-0500
TZNAME:EST
DTSTART:20291104T060000
END:STANDARD
BEGIN:DAYLIGHT
TZOFFSETFROM:-0500
TZOFFSETTO:-0400
TZNAME:EDT
DTSTART:20300310T070000
END:DAYLIGHT
BEGIN:STANDARD
TZOFFSETFROM:-0400
TZOFFSETTO:-0500
TZNAME:EST
DTSTART:20301103T060000
END:STANDARD
END:VTIMEZONE
BEGIN:VEVENT
DTSTART;TZID=America/New_York:20281215T110000
DTEND;TZID=America/New_York:20281215T120000
DTSTAMP:20260425T063305
CREATED:20260401T174050Z
LAST-MODIFIED:20260401T174051Z
UID:10006867-1860490800-1860494400@gracesummerville.org
SUMMARY:Bible Study
DESCRIPTION:Bible Study 11:00 am Choir Room
URL:https://gracesummerville.org/ourevent/bible-study-2-2/2028-12-15/
LOCATION:Choir Room\, 1600 Old Trolley Road\, Summerville\, SC\, 29485\, United States
END:VEVENT
BEGIN:VEVENT
DTSTART;TZID=America/New_York:20281219T103000
DTEND;TZID=America/New_York:20281219T113000
DTSTAMP:20260425T063305
CREATED:20260401T171906Z
LAST-MODIFIED:20260420T002316Z
UID:10008614-1860834600-1860838200@gracesummerville.org
SUMMARY:LifeLight Bible Study
DESCRIPTION:
URL:https://gracesummerville.org/ourevent/lifelight-bible-study-2/2028-12-19/
LOCATION:Choir Room\, 1600 Old Trolley Road\, Summerville\, SC\, 29485\, United States
END:VEVENT
BEGIN:VEVENT
DTSTART;TZID=America/New_York:20281222T110000
DTEND;TZID=America/New_York:20281222T120000
DTSTAMP:20260425T063305
CREATED:20260401T174050Z
LAST-MODIFIED:20260401T174051Z
UID:10006868-1861095600-1861099200@gracesummerville.org
SUMMARY:Bible Study
DESCRIPTION:Bible Study 11:00 am Choir Room
URL:https://gracesummerville.org/ourevent/bible-study-2-2/2028-12-22/
LOCATION:Choir Room\, 1600 Old Trolley Road\, Summerville\, SC\, 29485\, United States
END:VEVENT
BEGIN:VEVENT
DTSTART;TZID=America/New_York:20281226T103000
DTEND;TZID=America/New_York:20281226T113000
DTSTAMP:20260425T063305
CREATED:20260401T171906Z
LAST-MODIFIED:20260420T002316Z
UID:10008615-1861439400-1861443000@gracesummerville.org
SUMMARY:LifeLight Bible Study
DESCRIPTION:
URL:https://gracesummerville.org/ourevent/lifelight-bible-study-2/2028-12-26/
LOCATION:Choir Room\, 1600 Old Trolley Road\, Summerville\, SC\, 29485\, United States
END:VEVENT
BEGIN:VEVENT
DTSTART;TZID=America/New_York:20281229T110000
DTEND;TZID=America/New_York:20281229T120000
DTSTAMP:20260425T063305
CREATED:20260401T174050Z
LAST-MODIFIED:20260401T174051Z
UID:10006869-1861700400-1861704000@gracesummerville.org
SUMMARY:Bible Study
DESCRIPTION:Bible Study 11:00 am Choir Room
URL:https://gracesummerville.org/ourevent/bible-study-2-2/2028-12-29/
LOCATION:Choir Room\, 1600 Old Trolley Road\, Summerville\, SC\, 29485\, United States
END:VEVENT
BEGIN:VEVENT
DTSTART;TZID=America/New_York:20290102T103000
DTEND;TZID=America/New_York:20290102T113000
DTSTAMP:20260425T063305
CREATED:20260401T171906Z
LAST-MODIFIED:20260420T002316Z
UID:10008616-1862044200-1862047800@gracesummerville.org
SUMMARY:LifeLight Bible Study
DESCRIPTION:
URL:https://gracesummerville.org/ourevent/lifelight-bible-study-2/2029-01-02/
LOCATION:Choir Room\, 1600 Old Trolley Road\, Summerville\, SC\, 29485\, United States
END:VEVENT
BEGIN:VEVENT
DTSTART;TZID=America/New_York:20290105T110000
DTEND;TZID=America/New_York:20290105T120000
DTSTAMP:20260425T063305
CREATED:20260401T174050Z
LAST-MODIFIED:20260401T174051Z
UID:10006870-1862305200-1862308800@gracesummerville.org
SUMMARY:Bible Study
DESCRIPTION:Bible Study 11:00 am Choir Room
URL:https://gracesummerville.org/ourevent/bible-study-2-2/2029-01-05/
LOCATION:Choir Room\, 1600 Old Trolley Road\, Summerville\, SC\, 29485\, United States
END:VEVENT
BEGIN:VEVENT
DTSTART;TZID=America/New_York:20290109T103000
DTEND;TZID=America/New_York:20290109T113000
DTSTAMP:20260425T063305
CREATED:20260401T171906Z
LAST-MODIFIED:20260420T002316Z
UID:10008617-1862649000-1862652600@gracesummerville.org
SUMMARY:LifeLight Bible Study
DESCRIPTION:
URL:https://gracesummerville.org/ourevent/lifelight-bible-study-2/2029-01-09/
LOCATION:Choir Room\, 1600 Old Trolley Road\, Summerville\, SC\, 29485\, United States
END:VEVENT
BEGIN:VEVENT
DTSTART;TZID=America/New_York:20290112T110000
DTEND;TZID=America/New_York:20290112T120000
DTSTAMP:20260425T063305
CREATED:20260401T174050Z
LAST-MODIFIED:20260401T174051Z
UID:10006871-1862910000-1862913600@gracesummerville.org
SUMMARY:Bible Study
DESCRIPTION:Bible Study 11:00 am Choir Room
URL:https://gracesummerville.org/ourevent/bible-study-2-2/2029-01-12/
LOCATION:Choir Room\, 1600 Old Trolley Road\, Summerville\, SC\, 29485\, United States
END:VEVENT
BEGIN:VEVENT
DTSTART;TZID=America/New_York:20290116T103000
DTEND;TZID=America/New_York:20290116T113000
DTSTAMP:20260425T063305
CREATED:20260401T171906Z
LAST-MODIFIED:20260420T002316Z
UID:10008618-1863253800-1863257400@gracesummerville.org
SUMMARY:LifeLight Bible Study
DESCRIPTION:
URL:https://gracesummerville.org/ourevent/lifelight-bible-study-2/2029-01-16/
LOCATION:Choir Room\, 1600 Old Trolley Road\, Summerville\, SC\, 29485\, United States
END:VEVENT
BEGIN:VEVENT
DTSTART;TZID=America/New_York:20290119T110000
DTEND;TZID=America/New_York:20290119T120000
DTSTAMP:20260425T063305
CREATED:20260401T174050Z
LAST-MODIFIED:20260401T174051Z
UID:10006872-1863514800-1863518400@gracesummerville.org
SUMMARY:Bible Study
DESCRIPTION:Bible Study 11:00 am Choir Room
URL:https://gracesummerville.org/ourevent/bible-study-2-2/2029-01-19/
LOCATION:Choir Room\, 1600 Old Trolley Road\, Summerville\, SC\, 29485\, United States
END:VEVENT
BEGIN:VEVENT
DTSTART;TZID=America/New_York:20290123T103000
DTEND;TZID=America/New_York:20290123T113000
DTSTAMP:20260425T063305
CREATED:20260401T171906Z
LAST-MODIFIED:20260420T002316Z
UID:10008619-1863858600-1863862200@gracesummerville.org
SUMMARY:LifeLight Bible Study
DESCRIPTION:
URL:https://gracesummerville.org/ourevent/lifelight-bible-study-2/2029-01-23/
LOCATION:Choir Room\, 1600 Old Trolley Road\, Summerville\, SC\, 29485\, United States
END:VEVENT
BEGIN:VEVENT
DTSTART;TZID=America/New_York:20290126T110000
DTEND;TZID=America/New_York:20290126T120000
DTSTAMP:20260425T063305
CREATED:20260401T174050Z
LAST-MODIFIED:20260401T174051Z
UID:10006873-1864119600-1864123200@gracesummerville.org
SUMMARY:Bible Study
DESCRIPTION:Bible Study 11:00 am Choir Room
URL:https://gracesummerville.org/ourevent/bible-study-2-2/2029-01-26/
LOCATION:Choir Room\, 1600 Old Trolley Road\, Summerville\, SC\, 29485\, United States
END:VEVENT
BEGIN:VEVENT
DTSTART;TZID=America/New_York:20290130T103000
DTEND;TZID=America/New_York:20290130T113000
DTSTAMP:20260425T063305
CREATED:20260401T171906Z
LAST-MODIFIED:20260420T002316Z
UID:10008620-1864463400-1864467000@gracesummerville.org
SUMMARY:LifeLight Bible Study
DESCRIPTION:
URL:https://gracesummerville.org/ourevent/lifelight-bible-study-2/2029-01-30/
LOCATION:Choir Room\, 1600 Old Trolley Road\, Summerville\, SC\, 29485\, United States
END:VEVENT
BEGIN:VEVENT
DTSTART;TZID=America/New_York:20290202T110000
DTEND;TZID=America/New_York:20290202T120000
DTSTAMP:20260425T063305
CREATED:20260401T174050Z
LAST-MODIFIED:20260401T174051Z
UID:10006874-1864724400-1864728000@gracesummerville.org
SUMMARY:Bible Study
DESCRIPTION:Bible Study 11:00 am Choir Room
URL:https://gracesummerville.org/ourevent/bible-study-2-2/2029-02-02/
LOCATION:Choir Room\, 1600 Old Trolley Road\, Summerville\, SC\, 29485\, United States
END:VEVENT
BEGIN:VEVENT
DTSTART;TZID=America/New_York:20290206T103000
DTEND;TZID=America/New_York:20290206T113000
DTSTAMP:20260425T063305
CREATED:20260401T171906Z
LAST-MODIFIED:20260420T002316Z
UID:10008621-1865068200-1865071800@gracesummerville.org
SUMMARY:LifeLight Bible Study
DESCRIPTION:
URL:https://gracesummerville.org/ourevent/lifelight-bible-study-2/2029-02-06/
LOCATION:Choir Room\, 1600 Old Trolley Road\, Summerville\, SC\, 29485\, United States
END:VEVENT
BEGIN:VEVENT
DTSTART;TZID=America/New_York:20290209T110000
DTEND;TZID=America/New_York:20290209T120000
DTSTAMP:20260425T063305
CREATED:20260401T174050Z
LAST-MODIFIED:20260401T174051Z
UID:10006875-1865329200-1865332800@gracesummerville.org
SUMMARY:Bible Study
DESCRIPTION:Bible Study 11:00 am Choir Room
URL:https://gracesummerville.org/ourevent/bible-study-2-2/2029-02-09/
LOCATION:Choir Room\, 1600 Old Trolley Road\, Summerville\, SC\, 29485\, United States
END:VEVENT
BEGIN:VEVENT
DTSTART;TZID=America/New_York:20290213T103000
DTEND;TZID=America/New_York:20290213T113000
DTSTAMP:20260425T063305
CREATED:20260401T171906Z
LAST-MODIFIED:20260420T002316Z
UID:10008622-1865673000-1865676600@gracesummerville.org
SUMMARY:LifeLight Bible Study
DESCRIPTION:
URL:https://gracesummerville.org/ourevent/lifelight-bible-study-2/2029-02-13/
LOCATION:Choir Room\, 1600 Old Trolley Road\, Summerville\, SC\, 29485\, United States
END:VEVENT
BEGIN:VEVENT
DTSTART;TZID=America/New_York:20290216T110000
DTEND;TZID=America/New_York:20290216T120000
DTSTAMP:20260425T063305
CREATED:20260401T174050Z
LAST-MODIFIED:20260401T174051Z
UID:10006876-1865934000-1865937600@gracesummerville.org
SUMMARY:Bible Study
DESCRIPTION:Bible Study 11:00 am Choir Room
URL:https://gracesummerville.org/ourevent/bible-study-2-2/2029-02-16/
LOCATION:Choir Room\, 1600 Old Trolley Road\, Summerville\, SC\, 29485\, United States
END:VEVENT
BEGIN:VEVENT
DTSTART;TZID=America/New_York:20290220T103000
DTEND;TZID=America/New_York:20290220T113000
DTSTAMP:20260425T063305
CREATED:20260401T171906Z
LAST-MODIFIED:20260420T002316Z
UID:10008623-1866277800-1866281400@gracesummerville.org
SUMMARY:LifeLight Bible Study
DESCRIPTION:
URL:https://gracesummerville.org/ourevent/lifelight-bible-study-2/2029-02-20/
LOCATION:Choir Room\, 1600 Old Trolley Road\, Summerville\, SC\, 29485\, United States
END:VEVENT
BEGIN:VEVENT
DTSTART;TZID=America/New_York:20290223T110000
DTEND;TZID=America/New_York:20290223T120000
DTSTAMP:20260425T063305
CREATED:20260401T174050Z
LAST-MODIFIED:20260401T174051Z
UID:10006877-1866538800-1866542400@gracesummerville.org
SUMMARY:Bible Study
DESCRIPTION:Bible Study 11:00 am Choir Room
URL:https://gracesummerville.org/ourevent/bible-study-2-2/2029-02-23/
LOCATION:Choir Room\, 1600 Old Trolley Road\, Summerville\, SC\, 29485\, United States
END:VEVENT
BEGIN:VEVENT
DTSTART;TZID=America/New_York:20290227T103000
DTEND;TZID=America/New_York:20290227T113000
DTSTAMP:20260425T063305
CREATED:20260401T171906Z
LAST-MODIFIED:20260420T002316Z
UID:10008624-1866882600-1866886200@gracesummerville.org
SUMMARY:LifeLight Bible Study
DESCRIPTION:
URL:https://gracesummerville.org/ourevent/lifelight-bible-study-2/2029-02-27/
LOCATION:Choir Room\, 1600 Old Trolley Road\, Summerville\, SC\, 29485\, United States
END:VEVENT
BEGIN:VEVENT
DTSTART;TZID=America/New_York:20290302T110000
DTEND;TZID=America/New_York:20290302T120000
DTSTAMP:20260425T063305
CREATED:20260401T174050Z
LAST-MODIFIED:20260401T174051Z
UID:10006878-1867143600-1867147200@gracesummerville.org
SUMMARY:Bible Study
DESCRIPTION:Bible Study 11:00 am Choir Room
URL:https://gracesummerville.org/ourevent/bible-study-2-2/2029-03-02/
LOCATION:Choir Room\, 1600 Old Trolley Road\, Summerville\, SC\, 29485\, United States
END:VEVENT
BEGIN:VEVENT
DTSTART;TZID=America/New_York:20290306T103000
DTEND;TZID=America/New_York:20290306T113000
DTSTAMP:20260425T063305
CREATED:20260401T171906Z
LAST-MODIFIED:20260420T002316Z
UID:10008625-1867487400-1867491000@gracesummerville.org
SUMMARY:LifeLight Bible Study
DESCRIPTION:
URL:https://gracesummerville.org/ourevent/lifelight-bible-study-2/2029-03-06/
LOCATION:Choir Room\, 1600 Old Trolley Road\, Summerville\, SC\, 29485\, United States
END:VEVENT
BEGIN:VEVENT
DTSTART;TZID=America/New_York:20290309T110000
DTEND;TZID=America/New_York:20290309T120000
DTSTAMP:20260425T063305
CREATED:20260401T174050Z
LAST-MODIFIED:20260401T174051Z
UID:10006879-1867748400-1867752000@gracesummerville.org
SUMMARY:Bible Study
DESCRIPTION:Bible Study 11:00 am Choir Room
URL:https://gracesummerville.org/ourevent/bible-study-2-2/2029-03-09/
LOCATION:Choir Room\, 1600 Old Trolley Road\, Summerville\, SC\, 29485\, United States
END:VEVENT
BEGIN:VEVENT
DTSTART;TZID=America/New_York:20290313T103000
DTEND;TZID=America/New_York:20290313T113000
DTSTAMP:20260425T063305
CREATED:20260401T171906Z
LAST-MODIFIED:20260420T002316Z
UID:10008626-1868092200-1868095800@gracesummerville.org
SUMMARY:LifeLight Bible Study
DESCRIPTION:
URL:https://gracesummerville.org/ourevent/lifelight-bible-study-2/2029-03-13/
LOCATION:Choir Room\, 1600 Old Trolley Road\, Summerville\, SC\, 29485\, United States
END:VEVENT
BEGIN:VEVENT
DTSTART;TZID=America/New_York:20290316T110000
DTEND;TZID=America/New_York:20290316T120000
DTSTAMP:20260425T063305
CREATED:20260401T174050Z
LAST-MODIFIED:20260401T174051Z
UID:10006880-1868353200-1868356800@gracesummerville.org
SUMMARY:Bible Study
DESCRIPTION:Bible Study 11:00 am Choir Room
URL:https://gracesummerville.org/ourevent/bible-study-2-2/2029-03-16/
LOCATION:Choir Room\, 1600 Old Trolley Road\, Summerville\, SC\, 29485\, United States
END:VEVENT
BEGIN:VEVENT
DTSTART;TZID=America/New_York:20290320T103000
DTEND;TZID=America/New_York:20290320T113000
DTSTAMP:20260425T063305
CREATED:20260401T171906Z
LAST-MODIFIED:20260420T002316Z
UID:10008627-1868697000-1868700600@gracesummerville.org
SUMMARY:LifeLight Bible Study
DESCRIPTION:
URL:https://gracesummerville.org/ourevent/lifelight-bible-study-2/2029-03-20/
LOCATION:Choir Room\, 1600 Old Trolley Road\, Summerville\, SC\, 29485\, United States
END:VEVENT
BEGIN:VEVENT
DTSTART;TZID=America/New_York:20290323T110000
DTEND;TZID=America/New_York:20290323T120000
DTSTAMP:20260425T063305
CREATED:20260401T174050Z
LAST-MODIFIED:20260401T174051Z
UID:10006881-1868958000-1868961600@gracesummerville.org
SUMMARY:Bible Study
DESCRIPTION:Bible Study 11:00 am Choir Room
URL:https://gracesummerville.org/ourevent/bible-study-2-2/2029-03-23/
LOCATION:Choir Room\, 1600 Old Trolley Road\, Summerville\, SC\, 29485\, United States
END:VEVENT
BEGIN:VEVENT
DTSTART;TZID=America/New_York:20290327T103000
DTEND;TZID=America/New_York:20290327T113000
DTSTAMP:20260425T063305
CREATED:20260401T171906Z
LAST-MODIFIED:20260420T002316Z
UID:10008628-1869301800-1869305400@gracesummerville.org
SUMMARY:LifeLight Bible Study
DESCRIPTION:
URL:https://gracesummerville.org/ourevent/lifelight-bible-study-2/2029-03-27/
LOCATION:Choir Room\, 1600 Old Trolley Road\, Summerville\, SC\, 29485\, United States
END:VEVENT
END:VCALENDAR