BEGIN:VCALENDAR
VERSION:2.0
PRODID:-//Grace Lutheran Church - Summerville, SC - ECPv6.15.20//NONSGML v1.0//EN
CALSCALE:GREGORIAN
METHOD:PUBLISH
X-WR-CALNAME:Grace Lutheran Church - Summerville, SC
X-ORIGINAL-URL:https://gracesummerville.org
X-WR-CALDESC:Events for Grace Lutheran Church - Summerville, SC
REFRESH-INTERVAL;VALUE=DURATION:PT1H
X-Robots-Tag:noindex
X-PUBLISHED-TTL:PT1H
BEGIN:VTIMEZONE
TZID:America/New_York
BEGIN:DAYLIGHT
TZOFFSETFROM:-0500
TZOFFSETTO:-0400
TZNAME:EDT
DTSTART:20250309T070000
END:DAYLIGHT
BEGIN:STANDARD
TZOFFSETFROM:-0400
TZOFFSETTO:-0500
TZNAME:EST
DTSTART:20251102T060000
END:STANDARD
BEGIN:DAYLIGHT
TZOFFSETFROM:-0500
TZOFFSETTO:-0400
TZNAME:EDT
DTSTART:20260308T070000
END:DAYLIGHT
BEGIN:STANDARD
TZOFFSETFROM:-0400
TZOFFSETTO:-0500
TZNAME:EST
DTSTART:20261101T060000
END:STANDARD
BEGIN:DAYLIGHT
TZOFFSETFROM:-0500
TZOFFSETTO:-0400
TZNAME:EDT
DTSTART:20270314T070000
END:DAYLIGHT
BEGIN:STANDARD
TZOFFSETFROM:-0400
TZOFFSETTO:-0500
TZNAME:EST
DTSTART:20271107T060000
END:STANDARD
END:VTIMEZONE
BEGIN:VEVENT
DTSTART;TZID=America/New_York:20260424T110000
DTEND;TZID=America/New_York:20260424T120000
DTSTAMP:20260423T200552
CREATED:20260401T174050Z
LAST-MODIFIED:20260401T174051Z
UID:10006729-1777028400-1777032000@gracesummerville.org
SUMMARY:Bible Study
DESCRIPTION:Bible Study 11:00 am Choir Room
URL:https://gracesummerville.org/ourevent/bible-study-2-2/2026-04-24/
LOCATION:Choir Room\, 1600 Old Trolley Road\, Summerville\, SC\, 29485\, United States
END:VEVENT
BEGIN:VEVENT
DTSTART;TZID=America/New_York:20260428T103000
DTEND;TZID=America/New_York:20260428T113000
DTSTAMP:20260423T200552
CREATED:20260401T171906Z
LAST-MODIFIED:20260420T002316Z
UID:10008476-1777372200-1777375800@gracesummerville.org
SUMMARY:LifeLight Bible Study
DESCRIPTION:
URL:https://gracesummerville.org/ourevent/lifelight-bible-study-2/2026-04-28/
LOCATION:Choir Room\, 1600 Old Trolley Road\, Summerville\, SC\, 29485\, United States
END:VEVENT
BEGIN:VEVENT
DTSTART;TZID=America/New_York:20260428T190000
DTEND;TZID=America/New_York:20260428T203000
DTSTAMP:20260423T200552
CREATED:20251230T155917Z
LAST-MODIFIED:20260401T173049Z
UID:10005548-1777402800-1777408200@gracesummerville.org
SUMMARY:PPC Meeting
DESCRIPTION:All Board members asked to attend
URL:https://gracesummerville.org/ourevent/ppc-meeting-12/
LOCATION:Choir Room\, 1600 Old Trolley Road\, Summerville\, SC\, 29485\, United States
END:VEVENT
BEGIN:VEVENT
DTSTART;TZID=America/New_York:20260501T110000
DTEND;TZID=America/New_York:20260501T120000
DTSTAMP:20260423T200552
CREATED:20260401T174050Z
LAST-MODIFIED:20260401T174051Z
UID:10006730-1777633200-1777636800@gracesummerville.org
SUMMARY:Bible Study
DESCRIPTION:Bible Study 11:00 am Choir Room
URL:https://gracesummerville.org/ourevent/bible-study-2-2/2026-05-01/
LOCATION:Choir Room\, 1600 Old Trolley Road\, Summerville\, SC\, 29485\, United States
END:VEVENT
BEGIN:VEVENT
DTSTART;TZID=America/New_York:20260505T103000
DTEND;TZID=America/New_York:20260505T113000
DTSTAMP:20260423T200552
CREATED:20260401T171906Z
LAST-MODIFIED:20260420T002316Z
UID:10008477-1777977000-1777980600@gracesummerville.org
SUMMARY:LifeLight Bible Study
DESCRIPTION:
URL:https://gracesummerville.org/ourevent/lifelight-bible-study-2/2026-05-05/
LOCATION:Choir Room\, 1600 Old Trolley Road\, Summerville\, SC\, 29485\, United States
END:VEVENT
BEGIN:VEVENT
DTSTART;TZID=America/New_York:20260508T110000
DTEND;TZID=America/New_York:20260508T120000
DTSTAMP:20260423T200552
CREATED:20260401T174050Z
LAST-MODIFIED:20260401T174051Z
UID:10006731-1778238000-1778241600@gracesummerville.org
SUMMARY:Bible Study
DESCRIPTION:Bible Study 11:00 am Choir Room
URL:https://gracesummerville.org/ourevent/bible-study-2-2/2026-05-08/
LOCATION:Choir Room\, 1600 Old Trolley Road\, Summerville\, SC\, 29485\, United States
END:VEVENT
BEGIN:VEVENT
DTSTART;TZID=America/New_York:20260512T103000
DTEND;TZID=America/New_York:20260512T113000
DTSTAMP:20260423T200552
CREATED:20260401T171906Z
LAST-MODIFIED:20260420T002316Z
UID:10008478-1778581800-1778585400@gracesummerville.org
SUMMARY:LifeLight Bible Study
DESCRIPTION:
URL:https://gracesummerville.org/ourevent/lifelight-bible-study-2/2026-05-12/
LOCATION:Choir Room\, 1600 Old Trolley Road\, Summerville\, SC\, 29485\, United States
END:VEVENT
BEGIN:VEVENT
DTSTART;TZID=America/New_York:20260515T110000
DTEND;TZID=America/New_York:20260515T120000
DTSTAMP:20260423T200552
CREATED:20260401T174050Z
LAST-MODIFIED:20260401T174051Z
UID:10006732-1778842800-1778846400@gracesummerville.org
SUMMARY:Bible Study
DESCRIPTION:Bible Study 11:00 am Choir Room
URL:https://gracesummerville.org/ourevent/bible-study-2-2/2026-05-15/
LOCATION:Choir Room\, 1600 Old Trolley Road\, Summerville\, SC\, 29485\, United States
END:VEVENT
BEGIN:VEVENT
DTSTART;TZID=America/New_York:20260519T103000
DTEND;TZID=America/New_York:20260519T113000
DTSTAMP:20260423T200552
CREATED:20260401T171906Z
LAST-MODIFIED:20260420T002316Z
UID:10008479-1779186600-1779190200@gracesummerville.org
SUMMARY:LifeLight Bible Study
DESCRIPTION:
URL:https://gracesummerville.org/ourevent/lifelight-bible-study-2/2026-05-19/
LOCATION:Choir Room\, 1600 Old Trolley Road\, Summerville\, SC\, 29485\, United States
END:VEVENT
BEGIN:VEVENT
DTSTART;TZID=America/New_York:20260522T110000
DTEND;TZID=America/New_York:20260522T120000
DTSTAMP:20260423T200552
CREATED:20260401T174050Z
LAST-MODIFIED:20260401T174051Z
UID:10006733-1779447600-1779451200@gracesummerville.org
SUMMARY:Bible Study
DESCRIPTION:Bible Study 11:00 am Choir Room
URL:https://gracesummerville.org/ourevent/bible-study-2-2/2026-05-22/
LOCATION:Choir Room\, 1600 Old Trolley Road\, Summerville\, SC\, 29485\, United States
END:VEVENT
BEGIN:VEVENT
DTSTART;TZID=America/New_York:20260526T103000
DTEND;TZID=America/New_York:20260526T113000
DTSTAMP:20260423T200552
CREATED:20260401T171906Z
LAST-MODIFIED:20260420T002316Z
UID:10008480-1779791400-1779795000@gracesummerville.org
SUMMARY:LifeLight Bible Study
DESCRIPTION:
URL:https://gracesummerville.org/ourevent/lifelight-bible-study-2/2026-05-26/
LOCATION:Choir Room\, 1600 Old Trolley Road\, Summerville\, SC\, 29485\, United States
END:VEVENT
BEGIN:VEVENT
DTSTART;TZID=America/New_York:20260529T110000
DTEND;TZID=America/New_York:20260529T120000
DTSTAMP:20260423T200552
CREATED:20260401T174050Z
LAST-MODIFIED:20260401T174051Z
UID:10006734-1780052400-1780056000@gracesummerville.org
SUMMARY:Bible Study
DESCRIPTION:Bible Study 11:00 am Choir Room
URL:https://gracesummerville.org/ourevent/bible-study-2-2/2026-05-29/
LOCATION:Choir Room\, 1600 Old Trolley Road\, Summerville\, SC\, 29485\, United States
END:VEVENT
BEGIN:VEVENT
DTSTART;TZID=America/New_York:20260602T103000
DTEND;TZID=America/New_York:20260602T113000
DTSTAMP:20260423T200552
CREATED:20260401T171906Z
LAST-MODIFIED:20260420T002316Z
UID:10008481-1780396200-1780399800@gracesummerville.org
SUMMARY:LifeLight Bible Study
DESCRIPTION:
URL:https://gracesummerville.org/ourevent/lifelight-bible-study-2/2026-06-02/
LOCATION:Choir Room\, 1600 Old Trolley Road\, Summerville\, SC\, 29485\, United States
END:VEVENT
BEGIN:VEVENT
DTSTART;TZID=America/New_York:20260605T110000
DTEND;TZID=America/New_York:20260605T120000
DTSTAMP:20260423T200552
CREATED:20260401T174050Z
LAST-MODIFIED:20260401T174051Z
UID:10006735-1780657200-1780660800@gracesummerville.org
SUMMARY:Bible Study
DESCRIPTION:Bible Study 11:00 am Choir Room
URL:https://gracesummerville.org/ourevent/bible-study-2-2/2026-06-05/
LOCATION:Choir Room\, 1600 Old Trolley Road\, Summerville\, SC\, 29485\, United States
END:VEVENT
BEGIN:VEVENT
DTSTART;TZID=America/New_York:20260609T103000
DTEND;TZID=America/New_York:20260609T113000
DTSTAMP:20260423T200552
CREATED:20260401T171906Z
LAST-MODIFIED:20260420T002316Z
UID:10008482-1781001000-1781004600@gracesummerville.org
SUMMARY:LifeLight Bible Study
DESCRIPTION:
URL:https://gracesummerville.org/ourevent/lifelight-bible-study-2/2026-06-09/
LOCATION:Choir Room\, 1600 Old Trolley Road\, Summerville\, SC\, 29485\, United States
END:VEVENT
BEGIN:VEVENT
DTSTART;TZID=America/New_York:20260612T110000
DTEND;TZID=America/New_York:20260612T120000
DTSTAMP:20260423T200552
CREATED:20260401T174050Z
LAST-MODIFIED:20260401T174051Z
UID:10006736-1781262000-1781265600@gracesummerville.org
SUMMARY:Bible Study
DESCRIPTION:Bible Study 11:00 am Choir Room
URL:https://gracesummerville.org/ourevent/bible-study-2-2/2026-06-12/
LOCATION:Choir Room\, 1600 Old Trolley Road\, Summerville\, SC\, 29485\, United States
END:VEVENT
BEGIN:VEVENT
DTSTART;TZID=America/New_York:20260616T103000
DTEND;TZID=America/New_York:20260616T113000
DTSTAMP:20260423T200552
CREATED:20260401T171906Z
LAST-MODIFIED:20260420T002316Z
UID:10008483-1781605800-1781609400@gracesummerville.org
SUMMARY:LifeLight Bible Study
DESCRIPTION:
URL:https://gracesummerville.org/ourevent/lifelight-bible-study-2/2026-06-16/
LOCATION:Choir Room\, 1600 Old Trolley Road\, Summerville\, SC\, 29485\, United States
END:VEVENT
BEGIN:VEVENT
DTSTART;TZID=America/New_York:20260619T110000
DTEND;TZID=America/New_York:20260619T120000
DTSTAMP:20260423T200552
CREATED:20260401T174050Z
LAST-MODIFIED:20260401T174051Z
UID:10006737-1781866800-1781870400@gracesummerville.org
SUMMARY:Bible Study
DESCRIPTION:Bible Study 11:00 am Choir Room
URL:https://gracesummerville.org/ourevent/bible-study-2-2/2026-06-19/
LOCATION:Choir Room\, 1600 Old Trolley Road\, Summerville\, SC\, 29485\, United States
END:VEVENT
BEGIN:VEVENT
DTSTART;TZID=America/New_York:20260623T103000
DTEND;TZID=America/New_York:20260623T113000
DTSTAMP:20260423T200552
CREATED:20260401T171906Z
LAST-MODIFIED:20260420T002316Z
UID:10008484-1782210600-1782214200@gracesummerville.org
SUMMARY:LifeLight Bible Study
DESCRIPTION:
URL:https://gracesummerville.org/ourevent/lifelight-bible-study-2/2026-06-23/
LOCATION:Choir Room\, 1600 Old Trolley Road\, Summerville\, SC\, 29485\, United States
END:VEVENT
BEGIN:VEVENT
DTSTART;TZID=America/New_York:20260626T110000
DTEND;TZID=America/New_York:20260626T120000
DTSTAMP:20260423T200552
CREATED:20260401T174050Z
LAST-MODIFIED:20260401T174051Z
UID:10006738-1782471600-1782475200@gracesummerville.org
SUMMARY:Bible Study
DESCRIPTION:Bible Study 11:00 am Choir Room
URL:https://gracesummerville.org/ourevent/bible-study-2-2/2026-06-26/
LOCATION:Choir Room\, 1600 Old Trolley Road\, Summerville\, SC\, 29485\, United States
END:VEVENT
BEGIN:VEVENT
DTSTART;TZID=America/New_York:20260630T103000
DTEND;TZID=America/New_York:20260630T113000
DTSTAMP:20260423T200552
CREATED:20260401T171906Z
LAST-MODIFIED:20260420T002316Z
UID:10008485-1782815400-1782819000@gracesummerville.org
SUMMARY:LifeLight Bible Study
DESCRIPTION:
URL:https://gracesummerville.org/ourevent/lifelight-bible-study-2/2026-06-30/
LOCATION:Choir Room\, 1600 Old Trolley Road\, Summerville\, SC\, 29485\, United States
END:VEVENT
BEGIN:VEVENT
DTSTART;TZID=America/New_York:20260703T110000
DTEND;TZID=America/New_York:20260703T120000
DTSTAMP:20260423T200552
CREATED:20260401T174050Z
LAST-MODIFIED:20260401T174051Z
UID:10006739-1783076400-1783080000@gracesummerville.org
SUMMARY:Bible Study
DESCRIPTION:Bible Study 11:00 am Choir Room
URL:https://gracesummerville.org/ourevent/bible-study-2-2/2026-07-03/
LOCATION:Choir Room\, 1600 Old Trolley Road\, Summerville\, SC\, 29485\, United States
END:VEVENT
BEGIN:VEVENT
DTSTART;TZID=America/New_York:20260707T103000
DTEND;TZID=America/New_York:20260707T113000
DTSTAMP:20260423T200552
CREATED:20260401T171906Z
LAST-MODIFIED:20260420T002316Z
UID:10008486-1783420200-1783423800@gracesummerville.org
SUMMARY:LifeLight Bible Study
DESCRIPTION:
URL:https://gracesummerville.org/ourevent/lifelight-bible-study-2/2026-07-07/
LOCATION:Choir Room\, 1600 Old Trolley Road\, Summerville\, SC\, 29485\, United States
END:VEVENT
BEGIN:VEVENT
DTSTART;TZID=America/New_York:20260710T110000
DTEND;TZID=America/New_York:20260710T120000
DTSTAMP:20260423T200552
CREATED:20260401T174050Z
LAST-MODIFIED:20260401T174051Z
UID:10006740-1783681200-1783684800@gracesummerville.org
SUMMARY:Bible Study
DESCRIPTION:Bible Study 11:00 am Choir Room
URL:https://gracesummerville.org/ourevent/bible-study-2-2/2026-07-10/
LOCATION:Choir Room\, 1600 Old Trolley Road\, Summerville\, SC\, 29485\, United States
END:VEVENT
BEGIN:VEVENT
DTSTART;TZID=America/New_York:20260714T103000
DTEND;TZID=America/New_York:20260714T113000
DTSTAMP:20260423T200552
CREATED:20260401T171906Z
LAST-MODIFIED:20260420T002316Z
UID:10008487-1784025000-1784028600@gracesummerville.org
SUMMARY:LifeLight Bible Study
DESCRIPTION:
URL:https://gracesummerville.org/ourevent/lifelight-bible-study-2/2026-07-14/
LOCATION:Choir Room\, 1600 Old Trolley Road\, Summerville\, SC\, 29485\, United States
END:VEVENT
BEGIN:VEVENT
DTSTART;TZID=America/New_York:20260717T110000
DTEND;TZID=America/New_York:20260717T120000
DTSTAMP:20260423T200552
CREATED:20260401T174050Z
LAST-MODIFIED:20260401T174051Z
UID:10006741-1784286000-1784289600@gracesummerville.org
SUMMARY:Bible Study
DESCRIPTION:Bible Study 11:00 am Choir Room
URL:https://gracesummerville.org/ourevent/bible-study-2-2/2026-07-17/
LOCATION:Choir Room\, 1600 Old Trolley Road\, Summerville\, SC\, 29485\, United States
END:VEVENT
BEGIN:VEVENT
DTSTART;TZID=America/New_York:20260721T103000
DTEND;TZID=America/New_York:20260721T113000
DTSTAMP:20260423T200552
CREATED:20260401T171906Z
LAST-MODIFIED:20260420T002316Z
UID:10008488-1784629800-1784633400@gracesummerville.org
SUMMARY:LifeLight Bible Study
DESCRIPTION:
URL:https://gracesummerville.org/ourevent/lifelight-bible-study-2/2026-07-21/
LOCATION:Choir Room\, 1600 Old Trolley Road\, Summerville\, SC\, 29485\, United States
END:VEVENT
BEGIN:VEVENT
DTSTART;TZID=America/New_York:20260724T110000
DTEND;TZID=America/New_York:20260724T120000
DTSTAMP:20260423T200552
CREATED:20260401T174050Z
LAST-MODIFIED:20260401T174051Z
UID:10006742-1784890800-1784894400@gracesummerville.org
SUMMARY:Bible Study
DESCRIPTION:Bible Study 11:00 am Choir Room
URL:https://gracesummerville.org/ourevent/bible-study-2-2/2026-07-24/
LOCATION:Choir Room\, 1600 Old Trolley Road\, Summerville\, SC\, 29485\, United States
END:VEVENT
BEGIN:VEVENT
DTSTART;TZID=America/New_York:20260728T103000
DTEND;TZID=America/New_York:20260728T113000
DTSTAMP:20260423T200552
CREATED:20260401T171906Z
LAST-MODIFIED:20260420T002316Z
UID:10008489-1785234600-1785238200@gracesummerville.org
SUMMARY:LifeLight Bible Study
DESCRIPTION:
URL:https://gracesummerville.org/ourevent/lifelight-bible-study-2/2026-07-28/
LOCATION:Choir Room\, 1600 Old Trolley Road\, Summerville\, SC\, 29485\, United States
END:VEVENT
BEGIN:VEVENT
DTSTART;TZID=America/New_York:20260731T110000
DTEND;TZID=America/New_York:20260731T120000
DTSTAMP:20260423T200552
CREATED:20260401T174050Z
LAST-MODIFIED:20260401T174051Z
UID:10006743-1785495600-1785499200@gracesummerville.org
SUMMARY:Bible Study
DESCRIPTION:Bible Study 11:00 am Choir Room
URL:https://gracesummerville.org/ourevent/bible-study-2-2/2026-07-31/
LOCATION:Choir Room\, 1600 Old Trolley Road\, Summerville\, SC\, 29485\, United States
END:VEVENT
END:VCALENDAR