BEGIN:VCALENDAR
VERSION:2.0
PRODID:-//Grace Lutheran Church - Summerville, SC - ECPv6.15.20//NONSGML v1.0//EN
CALSCALE:GREGORIAN
METHOD:PUBLISH
X-WR-CALNAME:Grace Lutheran Church - Summerville, SC
X-ORIGINAL-URL:https://gracesummerville.org
X-WR-CALDESC:Events for Grace Lutheran Church - Summerville, SC
REFRESH-INTERVAL;VALUE=DURATION:PT1H
X-Robots-Tag:noindex
X-PUBLISHED-TTL:PT1H
BEGIN:VTIMEZONE
TZID:America/New_York
BEGIN:DAYLIGHT
TZOFFSETFROM:-0500
TZOFFSETTO:-0400
TZNAME:EDT
DTSTART:20220313T070000
END:DAYLIGHT
BEGIN:STANDARD
TZOFFSETFROM:-0400
TZOFFSETTO:-0500
TZNAME:EST
DTSTART:20221106T060000
END:STANDARD
BEGIN:DAYLIGHT
TZOFFSETFROM:-0500
TZOFFSETTO:-0400
TZNAME:EDT
DTSTART:20230312T070000
END:DAYLIGHT
BEGIN:STANDARD
TZOFFSETFROM:-0400
TZOFFSETTO:-0500
TZNAME:EST
DTSTART:20231105T060000
END:STANDARD
BEGIN:DAYLIGHT
TZOFFSETFROM:-0500
TZOFFSETTO:-0400
TZNAME:EDT
DTSTART:20240310T070000
END:DAYLIGHT
BEGIN:STANDARD
TZOFFSETFROM:-0400
TZOFFSETTO:-0500
TZNAME:EST
DTSTART:20241103T060000
END:STANDARD
BEGIN:DAYLIGHT
TZOFFSETFROM:-0500
TZOFFSETTO:-0400
TZNAME:EDT
DTSTART:20250309T070000
END:DAYLIGHT
BEGIN:STANDARD
TZOFFSETFROM:-0400
TZOFFSETTO:-0500
TZNAME:EST
DTSTART:20251102T060000
END:STANDARD
BEGIN:DAYLIGHT
TZOFFSETFROM:-0500
TZOFFSETTO:-0400
TZNAME:EDT
DTSTART:20260308T070000
END:DAYLIGHT
BEGIN:STANDARD
TZOFFSETFROM:-0400
TZOFFSETTO:-0500
TZNAME:EST
DTSTART:20261101T060000
END:STANDARD
BEGIN:DAYLIGHT
TZOFFSETFROM:-0500
TZOFFSETTO:-0400
TZNAME:EDT
DTSTART:20270314T070000
END:DAYLIGHT
BEGIN:STANDARD
TZOFFSETFROM:-0400
TZOFFSETTO:-0500
TZNAME:EST
DTSTART:20271107T060000
END:STANDARD
END:VTIMEZONE
BEGIN:VEVENT
DTSTART;TZID=America/New_York:20260417T110000
DTEND;TZID=America/New_York:20260417T120000
DTSTAMP:20260424T013537
CREATED:20260401T174050Z
LAST-MODIFIED:20260401T174051Z
UID:10006728-1776423600-1776427200@gracesummerville.org
SUMMARY:Bible Study
DESCRIPTION:Bible Study 11:00 am Choir Room
URL:https://gracesummerville.org/ourevent/bible-study-2-2/2026-04-17/
LOCATION:Choir Room\, 1600 Old Trolley Road\, Summerville\, SC\, 29485\, United States
END:VEVENT
BEGIN:VEVENT
DTSTART;TZID=America/New_York:20260416T103000
DTEND;TZID=America/New_York:20260416T233000
DTSTAMP:20260424T013537
CREATED:20230905T161351Z
LAST-MODIFIED:20260412T162651Z
UID:10002360-1776335400-1776382200@gracesummerville.org
SUMMARY:Stephen Ministry 10:30 am CR
DESCRIPTION:Stephen Ministry meeting 10:30 in Choir Room
URL:https://gracesummerville.org/ourevent/stephen-ministry/
LOCATION:Choir Room\, 1600 Old Trolley Road\, Summerville\, SC\, 29485\, United States
ORGANIZER;CN="Karen Suter":MAILTO:deaconess@gracesummerville.org
END:VEVENT
BEGIN:VEVENT
DTSTART;TZID=America/New_York:20260414T103000
DTEND;TZID=America/New_York:20260414T113000
DTSTAMP:20260424T013537
CREATED:20260401T171906Z
LAST-MODIFIED:20260420T002316Z
UID:10008474-1776162600-1776166200@gracesummerville.org
SUMMARY:LifeLight Bible Study
DESCRIPTION:
URL:https://gracesummerville.org/ourevent/lifelight-bible-study-2/2026-04-14/
LOCATION:Choir Room\, 1600 Old Trolley Road\, Summerville\, SC\, 29485\, United States
END:VEVENT
BEGIN:VEVENT
DTSTART;TZID=America/New_York:20260410T110000
DTEND;TZID=America/New_York:20260410T120000
DTSTAMP:20260424T013537
CREATED:20260401T174050Z
LAST-MODIFIED:20260401T174051Z
UID:10006727-1775818800-1775822400@gracesummerville.org
SUMMARY:Bible Study
DESCRIPTION:Bible Study 11:00 am Choir Room
URL:https://gracesummerville.org/ourevent/bible-study-2-2/2026-04-10/
LOCATION:Choir Room\, 1600 Old Trolley Road\, Summerville\, SC\, 29485\, United States
END:VEVENT
BEGIN:VEVENT
DTSTART;TZID=America/New_York:20260407T190000
DTEND;TZID=America/New_York:20260407T203000
DTSTAMP:20260424T013537
CREATED:20260205T194204Z
LAST-MODIFIED:20260401T172300Z
UID:10005874-1775588400-1775593800@gracesummerville.org
SUMMARY:Elder's Meeting
DESCRIPTION:
URL:https://gracesummerville.org/ourevent/elders-meeting-3/
LOCATION:Choir Room\, 1600 Old Trolley Road\, Summerville\, SC\, 29485\, United States
END:VEVENT
BEGIN:VEVENT
DTSTART;TZID=America/New_York:20260407T103000
DTEND;TZID=America/New_York:20260407T113000
DTSTAMP:20260424T013537
CREATED:20260401T171906Z
LAST-MODIFIED:20260420T002316Z
UID:10005615-1775557800-1775561400@gracesummerville.org
SUMMARY:LifeLight Bible Study
DESCRIPTION:
URL:https://gracesummerville.org/ourevent/lifelight-bible-study-2/2026-04-07/
LOCATION:Choir Room\, 1600 Old Trolley Road\, Summerville\, SC\, 29485\, United States
END:VEVENT
BEGIN:VEVENT
DTSTART;TZID=America/New_York:20260327T110000
DTEND;TZID=America/New_York:20260327T120000
DTSTAMP:20260424T013537
CREATED:20260304T134344Z
LAST-MODIFIED:20260304T134345Z
UID:10006725-1774609200-1774612800@gracesummerville.org
SUMMARY:Bible Study
DESCRIPTION:Bible Study 11:00 am Choir Room
URL:https://gracesummerville.org/ourevent/bible-study-2/2026-03-27/
LOCATION:Choir Room\, 1600 Old Trolley Road\, Summerville\, SC\, 29485\, United States
END:VEVENT
BEGIN:VEVENT
DTSTART;TZID=America/New_York:20260320T110000
DTEND;TZID=America/New_York:20260320T120000
DTSTAMP:20260424T013537
CREATED:20260304T134344Z
LAST-MODIFIED:20260304T134345Z
UID:10006724-1774004400-1774008000@gracesummerville.org
SUMMARY:Bible Study
DESCRIPTION:Bible Study 11:00 am Choir Room
URL:https://gracesummerville.org/ourevent/bible-study-2/2026-03-20/
LOCATION:Choir Room\, 1600 Old Trolley Road\, Summerville\, SC\, 29485\, United States
END:VEVENT
BEGIN:VEVENT
DTSTART;TZID=America/New_York:20260319T103000
DTEND;TZID=America/New_York:20260319T113000
DTSTAMP:20260424T013537
CREATED:20260227T215612Z
LAST-MODIFIED:20260227T215612Z
UID:10008444-1773916200-1773919800@gracesummerville.org
SUMMARY:Stephen Ministry
DESCRIPTION:Stephen Ministry 10:30 am Chior Room
URL:https://gracesummerville.org/ourevent/stephen-ministry-3/
LOCATION:Choir Room\, 1600 Old Trolley Road\, Summerville\, SC\, 29485\, United States
END:VEVENT
BEGIN:VEVENT
DTSTART;TZID=America/New_York:20260313T110000
DTEND;TZID=America/New_York:20260313T120000
DTSTAMP:20260424T013537
CREATED:20260304T134344Z
LAST-MODIFIED:20260304T134345Z
UID:10006722-1773399600-1773403200@gracesummerville.org
SUMMARY:Bible Study
DESCRIPTION:Bible Study 11:00 am Choir Room
URL:https://gracesummerville.org/ourevent/bible-study-2/2026-03-13/
LOCATION:Choir Room\, 1600 Old Trolley Road\, Summerville\, SC\, 29485\, United States
END:VEVENT
BEGIN:VEVENT
DTSTART;TZID=America/New_York:20260227T110000
DTEND;TZID=America/New_York:20260227T120000
DTSTAMP:20260424T013537
CREATED:20260205T201647Z
LAST-MODIFIED:20260205T213324Z
UID:10006721-1772190000-1772193600@gracesummerville.org
SUMMARY:Bible Study
DESCRIPTION:
URL:https://gracesummerville.org/ourevent/bible-study/2026-02-27/
LOCATION:Choir Room\, 1600 Old Trolley Road\, Summerville\, SC\, 29485\, United States
END:VEVENT
BEGIN:VEVENT
DTSTART;TZID=America/New_York:20260220T110000
DTEND;TZID=America/New_York:20260220T120000
DTSTAMP:20260424T013537
CREATED:20260205T201647Z
LAST-MODIFIED:20260205T213324Z
UID:10006720-1771585200-1771588800@gracesummerville.org
SUMMARY:Bible Study
DESCRIPTION:
URL:https://gracesummerville.org/ourevent/bible-study/2026-02-20/
LOCATION:Choir Room\, 1600 Old Trolley Road\, Summerville\, SC\, 29485\, United States
END:VEVENT
BEGIN:VEVENT
DTSTART;TZID=America/New_York:20260219T103000
DTEND;TZID=America/New_York:20260219T113000
DTSTAMP:20260424T013537
CREATED:20260205T213209Z
LAST-MODIFIED:20260205T213209Z
UID:10006719-1771497000-1771500600@gracesummerville.org
SUMMARY:Stephen Ministry
DESCRIPTION:
URL:https://gracesummerville.org/ourevent/stephen-ministry-2/
LOCATION:Choir Room\, 1600 Old Trolley Road\, Summerville\, SC\, 29485\, United States
END:VEVENT
BEGIN:VEVENT
DTSTART;TZID=America/New_York:20260213T110000
DTEND;TZID=America/New_York:20260213T120000
DTSTAMP:20260424T013537
CREATED:20260205T201647Z
LAST-MODIFIED:20260205T213324Z
UID:10006404-1770980400-1770984000@gracesummerville.org
SUMMARY:Bible Study
DESCRIPTION:
URL:https://gracesummerville.org/ourevent/bible-study/2026-02-13/
LOCATION:Choir Room\, 1600 Old Trolley Road\, Summerville\, SC\, 29485\, United States
END:VEVENT
BEGIN:VEVENT
DTSTART;TZID=America/New_York:20230914T191500
DTEND;TZID=America/New_York:20230914T203000
DTSTAMP:20260424T013537
CREATED:20230905T160919Z
LAST-MODIFIED:20230905T160919Z
UID:10002357-1694718900-1694723400@gracesummerville.org
SUMMARY:Women's Bible Study
DESCRIPTION:
URL:https://gracesummerville.org/ourevent/womens-bible-study-2/
LOCATION:Choir Room\, 1600 Old Trolley Road\, Summerville\, SC\, 29485\, United States
END:VEVENT
BEGIN:VEVENT
DTSTART;TZID=America/New_York:20230725T183000
DTEND;TZID=America/New_York:20230725T193000
DTSTAMP:20260424T013537
CREATED:20230705T160552Z
LAST-MODIFIED:20230705T160552Z
UID:10002215-1690309800-1690313400@gracesummerville.org
SUMMARY:Stephen Ministry Meeting
DESCRIPTION:
URL:https://gracesummerville.org/ourevent/stephen-ministry-meeting/
LOCATION:Choir Room\, 1600 Old Trolley Road\, Summerville\, SC\, 29485\, United States
ORGANIZER;CN="Karen Suter":MAILTO:deaconess@gracesummerville.org
END:VEVENT
END:VCALENDAR