BEGIN:VCALENDAR
VERSION:2.0
PRODID:-//Grace Lutheran Church - Summerville, SC - ECPv6.15.20//NONSGML v1.0//EN
CALSCALE:GREGORIAN
METHOD:PUBLISH
X-ORIGINAL-URL:https://gracesummerville.org
X-WR-CALDESC:Events for Grace Lutheran Church - Summerville, SC
REFRESH-INTERVAL;VALUE=DURATION:PT1H
X-Robots-Tag:noindex
X-PUBLISHED-TTL:PT1H
BEGIN:VTIMEZONE
TZID:America/New_York
BEGIN:DAYLIGHT
TZOFFSETFROM:-0500
TZOFFSETTO:-0400
TZNAME:EDT
DTSTART:20240310T070000
END:DAYLIGHT
BEGIN:STANDARD
TZOFFSETFROM:-0400
TZOFFSETTO:-0500
TZNAME:EST
DTSTART:20241103T060000
END:STANDARD
BEGIN:DAYLIGHT
TZOFFSETFROM:-0500
TZOFFSETTO:-0400
TZNAME:EDT
DTSTART:20250309T070000
END:DAYLIGHT
BEGIN:STANDARD
TZOFFSETFROM:-0400
TZOFFSETTO:-0500
TZNAME:EST
DTSTART:20251102T060000
END:STANDARD
BEGIN:DAYLIGHT
TZOFFSETFROM:-0500
TZOFFSETTO:-0400
TZNAME:EDT
DTSTART:20260308T070000
END:DAYLIGHT
BEGIN:STANDARD
TZOFFSETFROM:-0400
TZOFFSETTO:-0500
TZNAME:EST
DTSTART:20261101T060000
END:STANDARD
END:VTIMEZONE
BEGIN:VEVENT
DTSTART;VALUE=DATE:20251201
DTEND;VALUE=DATE:20251202
DTSTAMP:20260424T034930
CREATED:20250107T203555Z
LAST-MODIFIED:20250107T211208Z
UID:10004839-1764547200-1764633599@gracesummerville.org
SUMMARY:Pastor & Deaconess OFF
DESCRIPTION:
URL:https://gracesummerville.org/ourevent/pastor-deaconess-off-18-2/2025-12-01/
LOCATION:Sanctuary\, 1600 Old Trolley Road\, Summerville\, SC\, 29485\, United States
END:VEVENT
BEGIN:VEVENT
DTSTART;TZID=America/New_York:20251204T190000
DTEND;TZID=America/New_York:20251204T200000
DTSTAMP:20260424T034930
CREATED:20250107T202702Z
LAST-MODIFIED:20250107T210957Z
UID:10004474-1764874800-1764878400@gracesummerville.org
SUMMARY:Men's AA meeting in Grace Hall
DESCRIPTION:Practical Experience Group\nClosed\, men’s discussion meeting
URL:https://gracesummerville.org/ourevent/mens-aa-meeting-in-grace-hall/2025-12-04/
LOCATION:Grace Hall\, 1600 Old Trolley Road\, Summerville\, SC\, 29485\, United States
END:VEVENT
BEGIN:VEVENT
DTSTART;VALUE=DATE:20251208
DTEND;VALUE=DATE:20251209
DTSTAMP:20260424T034930
CREATED:20250107T203555Z
LAST-MODIFIED:20250107T211208Z
UID:10004840-1765152000-1765238399@gracesummerville.org
SUMMARY:Pastor & Deaconess OFF
DESCRIPTION:
URL:https://gracesummerville.org/ourevent/pastor-deaconess-off-18-2/2025-12-08/
LOCATION:Sanctuary\, 1600 Old Trolley Road\, Summerville\, SC\, 29485\, United States
END:VEVENT
BEGIN:VEVENT
DTSTART;TZID=America/New_York:20251211T190000
DTEND;TZID=America/New_York:20251211T200000
DTSTAMP:20260424T034930
CREATED:20250107T202702Z
LAST-MODIFIED:20250107T210957Z
UID:10004475-1765479600-1765483200@gracesummerville.org
SUMMARY:Men's AA meeting in Grace Hall
DESCRIPTION:Practical Experience Group\nClosed\, men’s discussion meeting
URL:https://gracesummerville.org/ourevent/mens-aa-meeting-in-grace-hall/2025-12-11/
LOCATION:Grace Hall\, 1600 Old Trolley Road\, Summerville\, SC\, 29485\, United States
END:VEVENT
BEGIN:VEVENT
DTSTART;VALUE=DATE:20251215
DTEND;VALUE=DATE:20251216
DTSTAMP:20260424T034930
CREATED:20250107T203555Z
LAST-MODIFIED:20250107T211208Z
UID:10004841-1765756800-1765843199@gracesummerville.org
SUMMARY:Pastor & Deaconess OFF
DESCRIPTION:
URL:https://gracesummerville.org/ourevent/pastor-deaconess-off-18-2/2025-12-15/
LOCATION:Sanctuary\, 1600 Old Trolley Road\, Summerville\, SC\, 29485\, United States
END:VEVENT
BEGIN:VEVENT
DTSTART;TZID=America/New_York:20251218T190000
DTEND;TZID=America/New_York:20251218T200000
DTSTAMP:20260424T034930
CREATED:20250107T202702Z
LAST-MODIFIED:20250107T210957Z
UID:10004476-1766084400-1766088000@gracesummerville.org
SUMMARY:Men's AA meeting in Grace Hall
DESCRIPTION:Practical Experience Group\nClosed\, men’s discussion meeting
URL:https://gracesummerville.org/ourevent/mens-aa-meeting-in-grace-hall/2025-12-18/
LOCATION:Grace Hall\, 1600 Old Trolley Road\, Summerville\, SC\, 29485\, United States
END:VEVENT
BEGIN:VEVENT
DTSTART;VALUE=DATE:20251222
DTEND;VALUE=DATE:20251223
DTSTAMP:20260424T034930
CREATED:20250107T203555Z
LAST-MODIFIED:20250107T211208Z
UID:10004842-1766361600-1766447999@gracesummerville.org
SUMMARY:Pastor & Deaconess OFF
DESCRIPTION:
URL:https://gracesummerville.org/ourevent/pastor-deaconess-off-18-2/2025-12-22/
LOCATION:Sanctuary\, 1600 Old Trolley Road\, Summerville\, SC\, 29485\, United States
END:VEVENT
BEGIN:VEVENT
DTSTART;TZID=America/New_York:20251225T190000
DTEND;TZID=America/New_York:20251225T200000
DTSTAMP:20260424T034930
CREATED:20250107T202702Z
LAST-MODIFIED:20250107T210957Z
UID:10004477-1766689200-1766692800@gracesummerville.org
SUMMARY:Men's AA meeting in Grace Hall
DESCRIPTION:Practical Experience Group\nClosed\, men’s discussion meeting
URL:https://gracesummerville.org/ourevent/mens-aa-meeting-in-grace-hall/2025-12-25/
LOCATION:Grace Hall\, 1600 Old Trolley Road\, Summerville\, SC\, 29485\, United States
END:VEVENT
BEGIN:VEVENT
DTSTART;VALUE=DATE:20251229
DTEND;VALUE=DATE:20251230
DTSTAMP:20260424T034930
CREATED:20250107T203555Z
LAST-MODIFIED:20250107T211208Z
UID:10004843-1766966400-1767052799@gracesummerville.org
SUMMARY:Pastor & Deaconess OFF
DESCRIPTION:
URL:https://gracesummerville.org/ourevent/pastor-deaconess-off-18-2/2025-12-29/
LOCATION:Sanctuary\, 1600 Old Trolley Road\, Summerville\, SC\, 29485\, United States
END:VEVENT
END:VCALENDAR