BEGIN:VCALENDAR
VERSION:2.0
PRODID:-//Grace Lutheran Church - Summerville, SC - ECPv6.15.20//NONSGML v1.0//EN
CALSCALE:GREGORIAN
METHOD:PUBLISH
X-ORIGINAL-URL:https://gracesummerville.org
X-WR-CALDESC:Events for Grace Lutheran Church - Summerville, SC
REFRESH-INTERVAL;VALUE=DURATION:PT1H
X-Robots-Tag:noindex
X-PUBLISHED-TTL:PT1H
BEGIN:VTIMEZONE
TZID:America/New_York
BEGIN:DAYLIGHT
TZOFFSETFROM:-0500
TZOFFSETTO:-0400
TZNAME:EDT
DTSTART:20240310T070000
END:DAYLIGHT
BEGIN:STANDARD
TZOFFSETFROM:-0400
TZOFFSETTO:-0500
TZNAME:EST
DTSTART:20241103T060000
END:STANDARD
BEGIN:DAYLIGHT
TZOFFSETFROM:-0500
TZOFFSETTO:-0400
TZNAME:EDT
DTSTART:20250309T070000
END:DAYLIGHT
BEGIN:STANDARD
TZOFFSETFROM:-0400
TZOFFSETTO:-0500
TZNAME:EST
DTSTART:20251102T060000
END:STANDARD
BEGIN:DAYLIGHT
TZOFFSETFROM:-0500
TZOFFSETTO:-0400
TZNAME:EDT
DTSTART:20260308T070000
END:DAYLIGHT
BEGIN:STANDARD
TZOFFSETFROM:-0400
TZOFFSETTO:-0500
TZNAME:EST
DTSTART:20261101T060000
END:STANDARD
END:VTIMEZONE
BEGIN:VEVENT
DTSTART;TZID=America/New_York:20250101T190000
DTEND;TZID=America/New_York:20250101T200000
DTSTAMP:20260425T173236
CREATED:20240911T140004Z
LAST-MODIFIED:20250107T211721Z
UID:10005059-1735758000-1735761600@gracesummerville.org
SUMMARY:Sr. Choir Rehearsal
DESCRIPTION:
URL:https://gracesummerville.org/ourevent/sr-choir-rehearsal-3/2025-01-01/
LOCATION:Sanctuary\, 1600 Old Trolley Road\, Summerville\, SC\, 29485\, United States
END:VEVENT
BEGIN:VEVENT
DTSTART;TZID=America/New_York:20250102T190000
DTEND;TZID=America/New_York:20250102T200000
DTSTAMP:20260425T173236
CREATED:20250107T202702Z
LAST-MODIFIED:20250107T210957Z
UID:10004426-1735844400-1735848000@gracesummerville.org
SUMMARY:Men's AA meeting in Grace Hall
DESCRIPTION:Practical Experience Group\nClosed\, men’s discussion meeting
URL:https://gracesummerville.org/ourevent/mens-aa-meeting-in-grace-hall/2025-01-02/
LOCATION:Grace Hall\, 1600 Old Trolley Road\, Summerville\, SC\, 29485\, United States
END:VEVENT
BEGIN:VEVENT
DTSTART;VALUE=DATE:20250106
DTEND;VALUE=DATE:20250107
DTSTAMP:20260425T173236
CREATED:20250107T203555Z
LAST-MODIFIED:20250107T211208Z
UID:10000233-1736121600-1736207999@gracesummerville.org
SUMMARY:Pastor & Deaconess OFF
DESCRIPTION:
URL:https://gracesummerville.org/ourevent/pastor-deaconess-off-18-2/2025-01-06/
LOCATION:Sanctuary\, 1600 Old Trolley Road\, Summerville\, SC\, 29485\, United States
END:VEVENT
BEGIN:VEVENT
DTSTART;TZID=America/New_York:20250109T190000
DTEND;TZID=America/New_York:20250109T200000
DTSTAMP:20260425T173236
CREATED:20250107T202702Z
LAST-MODIFIED:20250107T210957Z
UID:10004427-1736449200-1736452800@gracesummerville.org
SUMMARY:Men's AA meeting in Grace Hall
DESCRIPTION:Practical Experience Group\nClosed\, men’s discussion meeting
URL:https://gracesummerville.org/ourevent/mens-aa-meeting-in-grace-hall/2025-01-09/
LOCATION:Grace Hall\, 1600 Old Trolley Road\, Summerville\, SC\, 29485\, United States
END:VEVENT
BEGIN:VEVENT
DTSTART;VALUE=DATE:20250113
DTEND;VALUE=DATE:20250114
DTSTAMP:20260425T173236
CREATED:20250107T203555Z
LAST-MODIFIED:20250107T211208Z
UID:10004793-1736726400-1736812799@gracesummerville.org
SUMMARY:Pastor & Deaconess OFF
DESCRIPTION:
URL:https://gracesummerville.org/ourevent/pastor-deaconess-off-18-2/2025-01-13/
LOCATION:Sanctuary\, 1600 Old Trolley Road\, Summerville\, SC\, 29485\, United States
END:VEVENT
BEGIN:VEVENT
DTSTART;TZID=America/New_York:20250115T190000
DTEND;TZID=America/New_York:20250115T200000
DTSTAMP:20260425T173236
CREATED:20240911T140004Z
LAST-MODIFIED:20250107T211721Z
UID:10003375-1736967600-1736971200@gracesummerville.org
SUMMARY:Sr. Choir Rehearsal
DESCRIPTION:
URL:https://gracesummerville.org/ourevent/sr-choir-rehearsal-3/2025-01-15/
LOCATION:Sanctuary\, 1600 Old Trolley Road\, Summerville\, SC\, 29485\, United States
END:VEVENT
BEGIN:VEVENT
DTSTART;TZID=America/New_York:20250116T190000
DTEND;TZID=America/New_York:20250116T200000
DTSTAMP:20260425T173236
CREATED:20250107T202702Z
LAST-MODIFIED:20250107T210957Z
UID:10004428-1737054000-1737057600@gracesummerville.org
SUMMARY:Men's AA meeting in Grace Hall
DESCRIPTION:Practical Experience Group\nClosed\, men’s discussion meeting
URL:https://gracesummerville.org/ourevent/mens-aa-meeting-in-grace-hall/2025-01-16/
LOCATION:Grace Hall\, 1600 Old Trolley Road\, Summerville\, SC\, 29485\, United States
END:VEVENT
BEGIN:VEVENT
DTSTART;TZID=America/New_York:20250119T083000
DTEND;TZID=America/New_York:20250119T113000
DTSTAMP:20260425T173236
CREATED:20250115T140600Z
LAST-MODIFIED:20250115T140600Z
UID:10005062-1737275400-1737286200@gracesummerville.org
SUMMARY:Blood Drive
DESCRIPTION:In the bloodmobile
URL:https://gracesummerville.org/ourevent/blood-drive-2/
LOCATION:SC
END:VEVENT
BEGIN:VEVENT
DTSTART;VALUE=DATE:20250120
DTEND;VALUE=DATE:20250121
DTSTAMP:20260425T173236
CREATED:20250107T203555Z
LAST-MODIFIED:20250107T211208Z
UID:10004794-1737331200-1737417599@gracesummerville.org
SUMMARY:Pastor & Deaconess OFF
DESCRIPTION:
URL:https://gracesummerville.org/ourevent/pastor-deaconess-off-18-2/2025-01-20/
LOCATION:Sanctuary\, 1600 Old Trolley Road\, Summerville\, SC\, 29485\, United States
END:VEVENT
BEGIN:VEVENT
DTSTART;TZID=America/New_York:20250122T190000
DTEND;TZID=America/New_York:20250122T200000
DTSTAMP:20260425T173236
CREATED:20240911T140004Z
LAST-MODIFIED:20250107T211721Z
UID:10003376-1737572400-1737576000@gracesummerville.org
SUMMARY:Sr. Choir Rehearsal
DESCRIPTION:
URL:https://gracesummerville.org/ourevent/sr-choir-rehearsal-3/2025-01-22/
LOCATION:Sanctuary\, 1600 Old Trolley Road\, Summerville\, SC\, 29485\, United States
END:VEVENT
BEGIN:VEVENT
DTSTART;TZID=America/New_York:20250123T190000
DTEND;TZID=America/New_York:20250123T200000
DTSTAMP:20260425T173236
CREATED:20250107T202702Z
LAST-MODIFIED:20250107T210957Z
UID:10004429-1737658800-1737662400@gracesummerville.org
SUMMARY:Men's AA meeting in Grace Hall
DESCRIPTION:Practical Experience Group\nClosed\, men’s discussion meeting
URL:https://gracesummerville.org/ourevent/mens-aa-meeting-in-grace-hall/2025-01-23/
LOCATION:Grace Hall\, 1600 Old Trolley Road\, Summerville\, SC\, 29485\, United States
END:VEVENT
BEGIN:VEVENT
DTSTART;TZID=America/New_York:20250123T190000
DTEND;TZID=America/New_York:20250123T200000
DTSTAMP:20260425T173236
CREATED:20250115T140419Z
LAST-MODIFIED:20250115T140419Z
UID:10005060-1737658800-1737662400@gracesummerville.org
SUMMARY:PPC Meeting
DESCRIPTION:
URL:https://gracesummerville.org/ourevent/ppc-meeting-8/
LOCATION:SC
END:VEVENT
BEGIN:VEVENT
DTSTART;VALUE=DATE:20250127
DTEND;VALUE=DATE:20250128
DTSTAMP:20260425T173236
CREATED:20250107T203555Z
LAST-MODIFIED:20250107T211208Z
UID:10004795-1737936000-1738022399@gracesummerville.org
SUMMARY:Pastor & Deaconess OFF
DESCRIPTION:
URL:https://gracesummerville.org/ourevent/pastor-deaconess-off-18-2/2025-01-27/
LOCATION:Sanctuary\, 1600 Old Trolley Road\, Summerville\, SC\, 29485\, United States
END:VEVENT
BEGIN:VEVENT
DTSTART;TZID=America/New_York:20250129T190000
DTEND;TZID=America/New_York:20250129T200000
DTSTAMP:20260425T173236
CREATED:20240911T140004Z
LAST-MODIFIED:20250107T211721Z
UID:10003377-1738177200-1738180800@gracesummerville.org
SUMMARY:Sr. Choir Rehearsal
DESCRIPTION:
URL:https://gracesummerville.org/ourevent/sr-choir-rehearsal-3/2025-01-29/
LOCATION:Sanctuary\, 1600 Old Trolley Road\, Summerville\, SC\, 29485\, United States
END:VEVENT
BEGIN:VEVENT
DTSTART;TZID=America/New_York:20250130T190000
DTEND;TZID=America/New_York:20250130T200000
DTSTAMP:20260425T173236
CREATED:20250107T202702Z
LAST-MODIFIED:20250107T210957Z
UID:10004430-1738263600-1738267200@gracesummerville.org
SUMMARY:Men's AA meeting in Grace Hall
DESCRIPTION:Practical Experience Group\nClosed\, men’s discussion meeting
URL:https://gracesummerville.org/ourevent/mens-aa-meeting-in-grace-hall/2025-01-30/
LOCATION:Grace Hall\, 1600 Old Trolley Road\, Summerville\, SC\, 29485\, United States
END:VEVENT
END:VCALENDAR