BEGIN:VCALENDAR
VERSION:2.0
PRODID:-//Grace Lutheran Church - Summerville, SC - ECPv6.15.20//NONSGML v1.0//EN
CALSCALE:GREGORIAN
METHOD:PUBLISH
X-WR-CALNAME:Grace Lutheran Church - Summerville, SC
X-ORIGINAL-URL:https://gracesummerville.org
X-WR-CALDESC:Events for Grace Lutheran Church - Summerville, SC
REFRESH-INTERVAL;VALUE=DURATION:PT1H
X-Robots-Tag:noindex
X-PUBLISHED-TTL:PT1H
BEGIN:VTIMEZONE
TZID:America/New_York
BEGIN:DAYLIGHT
TZOFFSETFROM:-0500
TZOFFSETTO:-0400
TZNAME:EDT
DTSTART:20230312T070000
END:DAYLIGHT
BEGIN:STANDARD
TZOFFSETFROM:-0400
TZOFFSETTO:-0500
TZNAME:EST
DTSTART:20231105T060000
END:STANDARD
BEGIN:DAYLIGHT
TZOFFSETFROM:-0500
TZOFFSETTO:-0400
TZNAME:EDT
DTSTART:20240310T070000
END:DAYLIGHT
BEGIN:STANDARD
TZOFFSETFROM:-0400
TZOFFSETTO:-0500
TZNAME:EST
DTSTART:20241103T060000
END:STANDARD
BEGIN:DAYLIGHT
TZOFFSETFROM:-0500
TZOFFSETTO:-0400
TZNAME:EDT
DTSTART:20250309T070000
END:DAYLIGHT
BEGIN:STANDARD
TZOFFSETFROM:-0400
TZOFFSETTO:-0500
TZNAME:EST
DTSTART:20251102T060000
END:STANDARD
END:VTIMEZONE
BEGIN:VEVENT
DTSTART;VALUE=DATE:20240505
DTEND;VALUE=DATE:20240506
DTSTAMP:20260425T213928
CREATED:20200318T181534Z
LAST-MODIFIED:20200625T163635Z
UID:10000471-1714867200-1714953599@gracesummerville.org
SUMMARY:Mites Collected
DESCRIPTION:
URL:https://gracesummerville.org/ourevent/mites-collected-5/2024-05-05/
LOCATION:Sanctuary\, 1600 Old Trolley Road\, Summerville\, SC\, 29485\, United States
END:VEVENT
BEGIN:VEVENT
DTSTART;TZID=America/New_York:20240505T093000
DTEND;TZID=America/New_York:20240505T103000
DTSTAMP:20260425T213928
CREATED:20221130T035617Z
LAST-MODIFIED:20221130T035619Z
UID:10001373-1714901400-1714905000@gracesummerville.org
SUMMARY:Sunday School
DESCRIPTION:Sunday School classes will be held at 9:30 AM in Grace Hall.
URL:https://gracesummerville.org/ourevent/sunday-school-2/2024-05-05/
LOCATION:SC
END:VEVENT
BEGIN:VEVENT
DTSTART;VALUE=DATE:20240506
DTEND;VALUE=DATE:20240507
DTSTAMP:20260425T213928
CREATED:20200318T181533Z
LAST-MODIFIED:20200625T162724Z
UID:10000209-1714953600-1715039999@gracesummerville.org
SUMMARY:Pastor & Deaconess OFF
DESCRIPTION:
URL:https://gracesummerville.org/ourevent/pastor-deaconess-off-18/2024-05-06/
LOCATION:SC
END:VEVENT
BEGIN:VEVENT
DTSTART;TZID=America/New_York:20240512T093000
DTEND;TZID=America/New_York:20240512T103000
DTSTAMP:20260425T213928
CREATED:20221130T035617Z
LAST-MODIFIED:20221130T035619Z
UID:10001374-1715506200-1715509800@gracesummerville.org
SUMMARY:Sunday School
DESCRIPTION:Sunday School classes will be held at 9:30 AM in Grace Hall.
URL:https://gracesummerville.org/ourevent/sunday-school-2/2024-05-12/
LOCATION:SC
END:VEVENT
BEGIN:VEVENT
DTSTART;VALUE=DATE:20240513
DTEND;VALUE=DATE:20240514
DTSTAMP:20260425T213928
CREATED:20200318T181533Z
LAST-MODIFIED:20200625T162724Z
UID:10000210-1715558400-1715644799@gracesummerville.org
SUMMARY:Pastor & Deaconess OFF
DESCRIPTION:
URL:https://gracesummerville.org/ourevent/pastor-deaconess-off-18/2024-05-13/
LOCATION:SC
END:VEVENT
BEGIN:VEVENT
DTSTART;TZID=America/New_York:20240519T093000
DTEND;TZID=America/New_York:20240519T103000
DTSTAMP:20260425T213928
CREATED:20221130T035617Z
LAST-MODIFIED:20221130T035619Z
UID:10001375-1716111000-1716114600@gracesummerville.org
SUMMARY:Sunday School
DESCRIPTION:Sunday School classes will be held at 9:30 AM in Grace Hall.
URL:https://gracesummerville.org/ourevent/sunday-school-2/2024-05-19/
LOCATION:SC
END:VEVENT
BEGIN:VEVENT
DTSTART;VALUE=DATE:20240520
DTEND;VALUE=DATE:20240521
DTSTAMP:20260425T213928
CREATED:20200318T181533Z
LAST-MODIFIED:20200625T162724Z
UID:10000211-1716163200-1716249599@gracesummerville.org
SUMMARY:Pastor & Deaconess OFF
DESCRIPTION:
URL:https://gracesummerville.org/ourevent/pastor-deaconess-off-18/2024-05-20/
LOCATION:SC
END:VEVENT
BEGIN:VEVENT
DTSTART;TZID=America/New_York:20240526T093000
DTEND;TZID=America/New_York:20240526T103000
DTSTAMP:20260425T213928
CREATED:20221130T035617Z
LAST-MODIFIED:20221130T035619Z
UID:10001376-1716715800-1716719400@gracesummerville.org
SUMMARY:Sunday School
DESCRIPTION:Sunday School classes will be held at 9:30 AM in Grace Hall.
URL:https://gracesummerville.org/ourevent/sunday-school-2/2024-05-26/
LOCATION:SC
END:VEVENT
BEGIN:VEVENT
DTSTART;VALUE=DATE:20240527
DTEND;VALUE=DATE:20240528
DTSTAMP:20260425T213928
CREATED:20200318T181533Z
LAST-MODIFIED:20200625T162724Z
UID:10000212-1716768000-1716854399@gracesummerville.org
SUMMARY:Pastor & Deaconess OFF
DESCRIPTION:
URL:https://gracesummerville.org/ourevent/pastor-deaconess-off-18/2024-05-27/
LOCATION:SC
END:VEVENT
END:VCALENDAR