BEGIN:VCALENDAR
VERSION:2.0
PRODID:-//Grace Lutheran Church - Summerville, SC - ECPv6.15.20//NONSGML v1.0//EN
CALSCALE:GREGORIAN
METHOD:PUBLISH
X-WR-CALNAME:Grace Lutheran Church - Summerville, SC
X-ORIGINAL-URL:https://gracesummerville.org
X-WR-CALDESC:Events for Grace Lutheran Church - Summerville, SC
REFRESH-INTERVAL;VALUE=DURATION:PT1H
X-Robots-Tag:noindex
X-PUBLISHED-TTL:PT1H
BEGIN:VTIMEZONE
TZID:America/New_York
BEGIN:DAYLIGHT
TZOFFSETFROM:-0500
TZOFFSETTO:-0400
TZNAME:EDT
DTSTART:20270314T070000
END:DAYLIGHT
BEGIN:STANDARD
TZOFFSETFROM:-0400
TZOFFSETTO:-0500
TZNAME:EST
DTSTART:20271107T060000
END:STANDARD
BEGIN:DAYLIGHT
TZOFFSETFROM:-0500
TZOFFSETTO:-0400
TZNAME:EDT
DTSTART:20280312T070000
END:DAYLIGHT
BEGIN:STANDARD
TZOFFSETFROM:-0400
TZOFFSETTO:-0500
TZNAME:EST
DTSTART:20281105T060000
END:STANDARD
BEGIN:DAYLIGHT
TZOFFSETFROM:-0500
TZOFFSETTO:-0400
TZNAME:EDT
DTSTART:20290311T070000
END:DAYLIGHT
BEGIN:STANDARD
TZOFFSETFROM:-0400
TZOFFSETTO:-0500
TZNAME:EST
DTSTART:20291104T060000
END:STANDARD
END:VTIMEZONE
BEGIN:VEVENT
DTSTART;TZID=America/New_York:20281101T093000
DTEND;TZID=America/New_York:20281101T103000
DTSTAMP:20260425T121541
CREATED:20260205T195146Z
LAST-MODIFIED:20260205T195146Z
UID:10006280-1856683800-1856687400@gracesummerville.org
SUMMARY:Craft Group
DESCRIPTION:
URL:https://gracesummerville.org/ourevent/craft-group-2/2028-11-01/
LOCATION:Grace Hall\, 1600 Old Trolley Road\, Summerville\, SC\, 29485\, United States
END:VEVENT
BEGIN:VEVENT
DTSTART;TZID=America/New_York:20281102T190000
DTEND;TZID=America/New_York:20281102T200000
DTSTAMP:20260425T121541
CREATED:20250107T202702Z
LAST-MODIFIED:20250107T210957Z
UID:10004626-1856804400-1856808000@gracesummerville.org
SUMMARY:Men's AA meeting in Grace Hall
DESCRIPTION:Practical Experience Group\nClosed\, men’s discussion meeting
URL:https://gracesummerville.org/ourevent/mens-aa-meeting-in-grace-hall/2028-11-02/
LOCATION:Grace Hall\, 1600 Old Trolley Road\, Summerville\, SC\, 29485\, United States
END:VEVENT
BEGIN:VEVENT
DTSTART;TZID=America/New_York:20281103T110000
DTEND;TZID=America/New_York:20281103T120000
DTSTAMP:20260425T121541
CREATED:20260401T174050Z
LAST-MODIFIED:20260401T174051Z
UID:10006861-1856862000-1856865600@gracesummerville.org
SUMMARY:Bible Study
DESCRIPTION:Bible Study 11:00 am Choir Room
URL:https://gracesummerville.org/ourevent/bible-study-2-2/2028-11-03/
LOCATION:Choir Room\, 1600 Old Trolley Road\, Summerville\, SC\, 29485\, United States
END:VEVENT
BEGIN:VEVENT
DTSTART;TZID=America/New_York:20281105T080000
DTEND;TZID=America/New_York:20281105T120000
DTSTAMP:20260425T121541
CREATED:20260330T214019Z
LAST-MODIFIED:20260330T214019Z
UID:10008040-1857024000-1857038400@gracesummerville.org
SUMMARY:Service of Holy Communion: 8\, 9:30\, 11 AM
DESCRIPTION:
URL:https://gracesummerville.org/ourevent/service-of-holy-communion-8-930-11-am-2/2028-11-05/
LOCATION:Sanctuary\, 1600 Old Trolley Road\, Summerville\, SC\, 29485\, United States
END:VEVENT
BEGIN:VEVENT
DTSTART;TZID=America/New_York:20281105T093000
DTEND;TZID=America/New_York:20281105T103000
DTSTAMP:20260425T121541
CREATED:20260330T215554Z
LAST-MODIFIED:20260330T215716Z
UID:10008302-1857029400-1857033000@gracesummerville.org
SUMMARY:Sunday School Adult Bible Class
DESCRIPTION:
URL:https://gracesummerville.org/ourevent/sunday-school-adult-bible-class-2/2028-11-05/
LOCATION:Grace Hall\, 1600 Old Trolley Road\, Summerville\, SC\, 29485\, United States
ORGANIZER;CN="Karen Suter":MAILTO:deaconess@gracesummerville.org
END:VEVENT
BEGIN:VEVENT
DTSTART;VALUE=DATE:20281106
DTEND;VALUE=DATE:20281107
DTSTAMP:20260425T121541
CREATED:20250107T203555Z
LAST-MODIFIED:20250107T211208Z
UID:10004992-1857081600-1857167999@gracesummerville.org
SUMMARY:Pastor & Deaconess OFF
DESCRIPTION:
URL:https://gracesummerville.org/ourevent/pastor-deaconess-off-18-2/2028-11-06/
LOCATION:Sanctuary\, 1600 Old Trolley Road\, Summerville\, SC\, 29485\, United States
END:VEVENT
BEGIN:VEVENT
DTSTART;TZID=America/New_York:20281106T190000
DTEND;TZID=America/New_York:20281106T200000
DTSTAMP:20260425T121541
CREATED:20260205T202134Z
LAST-MODIFIED:20260205T202157Z
UID:10006598-1857150000-1857153600@gracesummerville.org
SUMMARY:Al-Anon/Al-Ateen Meeting
DESCRIPTION:
URL:https://gracesummerville.org/ourevent/al-anon-mtg-2/2028-11-06/
LOCATION:Grace Hall\, 1600 Old Trolley Road\, Summerville\, SC\, 29485\, United States
END:VEVENT
BEGIN:VEVENT
DTSTART;TZID=America/New_York:20281107T103000
DTEND;TZID=America/New_York:20281107T113000
DTSTAMP:20260425T121541
CREATED:20260401T171906Z
LAST-MODIFIED:20260420T002316Z
UID:10008608-1857205800-1857209400@gracesummerville.org
SUMMARY:LifeLight Bible Study
DESCRIPTION:
URL:https://gracesummerville.org/ourevent/lifelight-bible-study-2/2028-11-07/
LOCATION:Choir Room\, 1600 Old Trolley Road\, Summerville\, SC\, 29485\, United States
END:VEVENT
BEGIN:VEVENT
DTSTART;TZID=America/New_York:20281108T093000
DTEND;TZID=America/New_York:20281108T103000
DTSTAMP:20260425T121541
CREATED:20260205T195146Z
LAST-MODIFIED:20260205T195146Z
UID:10006281-1857288600-1857292200@gracesummerville.org
SUMMARY:Craft Group
DESCRIPTION:
URL:https://gracesummerville.org/ourevent/craft-group-2/2028-11-08/
LOCATION:Grace Hall\, 1600 Old Trolley Road\, Summerville\, SC\, 29485\, United States
END:VEVENT
BEGIN:VEVENT
DTSTART;TZID=America/New_York:20281109T190000
DTEND;TZID=America/New_York:20281109T200000
DTSTAMP:20260425T121541
CREATED:20250107T202702Z
LAST-MODIFIED:20250107T210957Z
UID:10004627-1857409200-1857412800@gracesummerville.org
SUMMARY:Men's AA meeting in Grace Hall
DESCRIPTION:Practical Experience Group\nClosed\, men’s discussion meeting
URL:https://gracesummerville.org/ourevent/mens-aa-meeting-in-grace-hall/2028-11-09/
LOCATION:Grace Hall\, 1600 Old Trolley Road\, Summerville\, SC\, 29485\, United States
END:VEVENT
BEGIN:VEVENT
DTSTART;TZID=America/New_York:20281110T110000
DTEND;TZID=America/New_York:20281110T120000
DTSTAMP:20260425T121541
CREATED:20260401T174050Z
LAST-MODIFIED:20260401T174051Z
UID:10006862-1857466800-1857470400@gracesummerville.org
SUMMARY:Bible Study
DESCRIPTION:Bible Study 11:00 am Choir Room
URL:https://gracesummerville.org/ourevent/bible-study-2-2/2028-11-10/
LOCATION:Choir Room\, 1600 Old Trolley Road\, Summerville\, SC\, 29485\, United States
END:VEVENT
BEGIN:VEVENT
DTSTART;TZID=America/New_York:20281112T080000
DTEND;TZID=America/New_York:20281112T120000
DTSTAMP:20260425T121541
CREATED:20260330T214019Z
LAST-MODIFIED:20260330T214019Z
UID:10008041-1857628800-1857643200@gracesummerville.org
SUMMARY:Service of Holy Communion: 8\, 9:30\, 11 AM
DESCRIPTION:
URL:https://gracesummerville.org/ourevent/service-of-holy-communion-8-930-11-am-2/2028-11-12/
LOCATION:Sanctuary\, 1600 Old Trolley Road\, Summerville\, SC\, 29485\, United States
END:VEVENT
BEGIN:VEVENT
DTSTART;TZID=America/New_York:20281112T093000
DTEND;TZID=America/New_York:20281112T103000
DTSTAMP:20260425T121541
CREATED:20260330T215554Z
LAST-MODIFIED:20260330T215716Z
UID:10008303-1857634200-1857637800@gracesummerville.org
SUMMARY:Sunday School Adult Bible Class
DESCRIPTION:
URL:https://gracesummerville.org/ourevent/sunday-school-adult-bible-class-2/2028-11-12/
LOCATION:Grace Hall\, 1600 Old Trolley Road\, Summerville\, SC\, 29485\, United States
ORGANIZER;CN="Karen Suter":MAILTO:deaconess@gracesummerville.org
END:VEVENT
BEGIN:VEVENT
DTSTART;VALUE=DATE:20281113
DTEND;VALUE=DATE:20281114
DTSTAMP:20260425T121541
CREATED:20250107T203555Z
LAST-MODIFIED:20250107T211208Z
UID:10004993-1857686400-1857772799@gracesummerville.org
SUMMARY:Pastor & Deaconess OFF
DESCRIPTION:
URL:https://gracesummerville.org/ourevent/pastor-deaconess-off-18-2/2028-11-13/
LOCATION:Sanctuary\, 1600 Old Trolley Road\, Summerville\, SC\, 29485\, United States
END:VEVENT
BEGIN:VEVENT
DTSTART;TZID=America/New_York:20281113T190000
DTEND;TZID=America/New_York:20281113T200000
DTSTAMP:20260425T121541
CREATED:20260205T202134Z
LAST-MODIFIED:20260205T202157Z
UID:10006599-1857754800-1857758400@gracesummerville.org
SUMMARY:Al-Anon/Al-Ateen Meeting
DESCRIPTION:
URL:https://gracesummerville.org/ourevent/al-anon-mtg-2/2028-11-13/
LOCATION:Grace Hall\, 1600 Old Trolley Road\, Summerville\, SC\, 29485\, United States
END:VEVENT
BEGIN:VEVENT
DTSTART;TZID=America/New_York:20281114T103000
DTEND;TZID=America/New_York:20281114T113000
DTSTAMP:20260425T121541
CREATED:20260401T171906Z
LAST-MODIFIED:20260420T002316Z
UID:10008609-1857810600-1857814200@gracesummerville.org
SUMMARY:LifeLight Bible Study
DESCRIPTION:
URL:https://gracesummerville.org/ourevent/lifelight-bible-study-2/2028-11-14/
LOCATION:Choir Room\, 1600 Old Trolley Road\, Summerville\, SC\, 29485\, United States
END:VEVENT
BEGIN:VEVENT
DTSTART;TZID=America/New_York:20281115T093000
DTEND;TZID=America/New_York:20281115T103000
DTSTAMP:20260425T121541
CREATED:20260205T195146Z
LAST-MODIFIED:20260205T195146Z
UID:10006282-1857893400-1857897000@gracesummerville.org
SUMMARY:Craft Group
DESCRIPTION:
URL:https://gracesummerville.org/ourevent/craft-group-2/2028-11-15/
LOCATION:Grace Hall\, 1600 Old Trolley Road\, Summerville\, SC\, 29485\, United States
END:VEVENT
BEGIN:VEVENT
DTSTART;TZID=America/New_York:20281116T190000
DTEND;TZID=America/New_York:20281116T200000
DTSTAMP:20260425T121541
CREATED:20250107T202702Z
LAST-MODIFIED:20250107T210957Z
UID:10004628-1858014000-1858017600@gracesummerville.org
SUMMARY:Men's AA meeting in Grace Hall
DESCRIPTION:Practical Experience Group\nClosed\, men’s discussion meeting
URL:https://gracesummerville.org/ourevent/mens-aa-meeting-in-grace-hall/2028-11-16/
LOCATION:Grace Hall\, 1600 Old Trolley Road\, Summerville\, SC\, 29485\, United States
END:VEVENT
BEGIN:VEVENT
DTSTART;TZID=America/New_York:20281117T110000
DTEND;TZID=America/New_York:20281117T120000
DTSTAMP:20260425T121541
CREATED:20260401T174050Z
LAST-MODIFIED:20260401T174051Z
UID:10006863-1858071600-1858075200@gracesummerville.org
SUMMARY:Bible Study
DESCRIPTION:Bible Study 11:00 am Choir Room
URL:https://gracesummerville.org/ourevent/bible-study-2-2/2028-11-17/
LOCATION:Choir Room\, 1600 Old Trolley Road\, Summerville\, SC\, 29485\, United States
END:VEVENT
BEGIN:VEVENT
DTSTART;TZID=America/New_York:20281119T080000
DTEND;TZID=America/New_York:20281119T120000
DTSTAMP:20260425T121541
CREATED:20260330T214019Z
LAST-MODIFIED:20260330T214019Z
UID:10008042-1858233600-1858248000@gracesummerville.org
SUMMARY:Service of Holy Communion: 8\, 9:30\, 11 AM
DESCRIPTION:
URL:https://gracesummerville.org/ourevent/service-of-holy-communion-8-930-11-am-2/2028-11-19/
LOCATION:Sanctuary\, 1600 Old Trolley Road\, Summerville\, SC\, 29485\, United States
END:VEVENT
BEGIN:VEVENT
DTSTART;TZID=America/New_York:20281119T093000
DTEND;TZID=America/New_York:20281119T103000
DTSTAMP:20260425T121541
CREATED:20260330T215554Z
LAST-MODIFIED:20260330T215716Z
UID:10008304-1858239000-1858242600@gracesummerville.org
SUMMARY:Sunday School Adult Bible Class
DESCRIPTION:
URL:https://gracesummerville.org/ourevent/sunday-school-adult-bible-class-2/2028-11-19/
LOCATION:Grace Hall\, 1600 Old Trolley Road\, Summerville\, SC\, 29485\, United States
ORGANIZER;CN="Karen Suter":MAILTO:deaconess@gracesummerville.org
END:VEVENT
BEGIN:VEVENT
DTSTART;VALUE=DATE:20281120
DTEND;VALUE=DATE:20281121
DTSTAMP:20260425T121541
CREATED:20250107T203555Z
LAST-MODIFIED:20250107T211208Z
UID:10004994-1858291200-1858377599@gracesummerville.org
SUMMARY:Pastor & Deaconess OFF
DESCRIPTION:
URL:https://gracesummerville.org/ourevent/pastor-deaconess-off-18-2/2028-11-20/
LOCATION:Sanctuary\, 1600 Old Trolley Road\, Summerville\, SC\, 29485\, United States
END:VEVENT
BEGIN:VEVENT
DTSTART;TZID=America/New_York:20281120T190000
DTEND;TZID=America/New_York:20281120T200000
DTSTAMP:20260425T121541
CREATED:20260205T202134Z
LAST-MODIFIED:20260205T202157Z
UID:10006600-1858359600-1858363200@gracesummerville.org
SUMMARY:Al-Anon/Al-Ateen Meeting
DESCRIPTION:
URL:https://gracesummerville.org/ourevent/al-anon-mtg-2/2028-11-20/
LOCATION:Grace Hall\, 1600 Old Trolley Road\, Summerville\, SC\, 29485\, United States
END:VEVENT
BEGIN:VEVENT
DTSTART;TZID=America/New_York:20281121T103000
DTEND;TZID=America/New_York:20281121T113000
DTSTAMP:20260425T121541
CREATED:20260401T171906Z
LAST-MODIFIED:20260420T002316Z
UID:10008610-1858415400-1858419000@gracesummerville.org
SUMMARY:LifeLight Bible Study
DESCRIPTION:
URL:https://gracesummerville.org/ourevent/lifelight-bible-study-2/2028-11-21/
LOCATION:Choir Room\, 1600 Old Trolley Road\, Summerville\, SC\, 29485\, United States
END:VEVENT
BEGIN:VEVENT
DTSTART;TZID=America/New_York:20281122T093000
DTEND;TZID=America/New_York:20281122T103000
DTSTAMP:20260425T121541
CREATED:20260205T195146Z
LAST-MODIFIED:20260205T195146Z
UID:10006283-1858498200-1858501800@gracesummerville.org
SUMMARY:Craft Group
DESCRIPTION:
URL:https://gracesummerville.org/ourevent/craft-group-2/2028-11-22/
LOCATION:Grace Hall\, 1600 Old Trolley Road\, Summerville\, SC\, 29485\, United States
END:VEVENT
BEGIN:VEVENT
DTSTART;TZID=America/New_York:20281123T190000
DTEND;TZID=America/New_York:20281123T200000
DTSTAMP:20260425T121541
CREATED:20250107T202702Z
LAST-MODIFIED:20250107T210957Z
UID:10004629-1858618800-1858622400@gracesummerville.org
SUMMARY:Men's AA meeting in Grace Hall
DESCRIPTION:Practical Experience Group\nClosed\, men’s discussion meeting
URL:https://gracesummerville.org/ourevent/mens-aa-meeting-in-grace-hall/2028-11-23/
LOCATION:Grace Hall\, 1600 Old Trolley Road\, Summerville\, SC\, 29485\, United States
END:VEVENT
BEGIN:VEVENT
DTSTART;TZID=America/New_York:20281124T110000
DTEND;TZID=America/New_York:20281124T120000
DTSTAMP:20260425T121541
CREATED:20260401T174050Z
LAST-MODIFIED:20260401T174051Z
UID:10006864-1858676400-1858680000@gracesummerville.org
SUMMARY:Bible Study
DESCRIPTION:Bible Study 11:00 am Choir Room
URL:https://gracesummerville.org/ourevent/bible-study-2-2/2028-11-24/
LOCATION:Choir Room\, 1600 Old Trolley Road\, Summerville\, SC\, 29485\, United States
END:VEVENT
BEGIN:VEVENT
DTSTART;TZID=America/New_York:20281126T080000
DTEND;TZID=America/New_York:20281126T120000
DTSTAMP:20260425T121541
CREATED:20260330T214019Z
LAST-MODIFIED:20260330T214019Z
UID:10008043-1858838400-1858852800@gracesummerville.org
SUMMARY:Service of Holy Communion: 8\, 9:30\, 11 AM
DESCRIPTION:
URL:https://gracesummerville.org/ourevent/service-of-holy-communion-8-930-11-am-2/2028-11-26/
LOCATION:Sanctuary\, 1600 Old Trolley Road\, Summerville\, SC\, 29485\, United States
END:VEVENT
BEGIN:VEVENT
DTSTART;TZID=America/New_York:20281126T093000
DTEND;TZID=America/New_York:20281126T103000
DTSTAMP:20260425T121541
CREATED:20260330T215554Z
LAST-MODIFIED:20260330T215716Z
UID:10008305-1858843800-1858847400@gracesummerville.org
SUMMARY:Sunday School Adult Bible Class
DESCRIPTION:
URL:https://gracesummerville.org/ourevent/sunday-school-adult-bible-class-2/2028-11-26/
LOCATION:Grace Hall\, 1600 Old Trolley Road\, Summerville\, SC\, 29485\, United States
ORGANIZER;CN="Karen Suter":MAILTO:deaconess@gracesummerville.org
END:VEVENT
BEGIN:VEVENT
DTSTART;VALUE=DATE:20281127
DTEND;VALUE=DATE:20281128
DTSTAMP:20260425T121541
CREATED:20250107T203555Z
LAST-MODIFIED:20250107T211208Z
UID:10004995-1858896000-1858982399@gracesummerville.org
SUMMARY:Pastor & Deaconess OFF
DESCRIPTION:
URL:https://gracesummerville.org/ourevent/pastor-deaconess-off-18-2/2028-11-27/
LOCATION:Sanctuary\, 1600 Old Trolley Road\, Summerville\, SC\, 29485\, United States
END:VEVENT
END:VCALENDAR