BEGIN:VCALENDAR
VERSION:2.0
PRODID:-//Grace Lutheran Church - Summerville, SC - ECPv6.15.20//NONSGML v1.0//EN
CALSCALE:GREGORIAN
METHOD:PUBLISH
X-ORIGINAL-URL:https://gracesummerville.org
X-WR-CALDESC:Events for Grace Lutheran Church - Summerville, SC
REFRESH-INTERVAL;VALUE=DURATION:PT1H
X-Robots-Tag:noindex
X-PUBLISHED-TTL:PT1H
BEGIN:VTIMEZONE
TZID:America/New_York
BEGIN:DAYLIGHT
TZOFFSETFROM:-0500
TZOFFSETTO:-0400
TZNAME:EDT
DTSTART:20210314T070000
END:DAYLIGHT
BEGIN:STANDARD
TZOFFSETFROM:-0400
TZOFFSETTO:-0500
TZNAME:EST
DTSTART:20211107T060000
END:STANDARD
BEGIN:DAYLIGHT
TZOFFSETFROM:-0500
TZOFFSETTO:-0400
TZNAME:EDT
DTSTART:20220313T070000
END:DAYLIGHT
BEGIN:STANDARD
TZOFFSETFROM:-0400
TZOFFSETTO:-0500
TZNAME:EST
DTSTART:20221106T060000
END:STANDARD
BEGIN:DAYLIGHT
TZOFFSETFROM:-0500
TZOFFSETTO:-0400
TZNAME:EDT
DTSTART:20230312T070000
END:DAYLIGHT
BEGIN:STANDARD
TZOFFSETFROM:-0400
TZOFFSETTO:-0500
TZNAME:EST
DTSTART:20231105T060000
END:STANDARD
END:VTIMEZONE
BEGIN:VEVENT
DTSTART;TZID=America/New_York:20221009T093000
DTEND;TZID=America/New_York:20221009T103000
DTSTAMP:20260420T234531
CREATED:20200625T153616Z
LAST-MODIFIED:20200625T161030Z
UID:10000598-1665307800-1665311400@gracesummerville.org
SUMMARY:Worship Service
DESCRIPTION:
URL:https://gracesummerville.org/ourevent/worship-service/2022-10-09/
LOCATION:Sanctuary\, 1600 Old Trolley Road\, Summerville\, SC\, 29485\, United States
CATEGORIES:Divine Services
END:VEVENT
BEGIN:VEVENT
DTSTART;TZID=America/New_York:20221009T093000
DTEND;TZID=America/New_York:20221009T103000
DTSTAMP:20260420T234531
CREATED:20200821T142712Z
LAST-MODIFIED:20200825T161148Z
UID:10001291-1665307800-1665311400@gracesummerville.org
SUMMARY:Sunday School
DESCRIPTION:Sunday School classes will be held at 9:30 AM in Grace Hall.
URL:https://gracesummerville.org/ourevent/sunday-school/2022-10-09/
LOCATION:SC
END:VEVENT
BEGIN:VEVENT
DTSTART;VALUE=DATE:20221010
DTEND;VALUE=DATE:20221011
DTSTAMP:20260420T234531
CREATED:20200318T181533Z
LAST-MODIFIED:20200625T162724Z
UID:10000127-1665360000-1665446399@gracesummerville.org
SUMMARY:Pastor & Deaconess OFF
DESCRIPTION:
URL:https://gracesummerville.org/ourevent/pastor-deaconess-off-18/2022-10-10/
LOCATION:SC
END:VEVENT
BEGIN:VEVENT
DTSTART;TZID=America/New_York:20221016T080000
DTEND;TZID=America/New_York:20221016T090000
DTSTAMP:20260420T234531
CREATED:20200318T181534Z
LAST-MODIFIED:20221102T032152Z
UID:10001715-1665907200-1665910800@gracesummerville.org
SUMMARY:Worship Service
DESCRIPTION:
URL:https://gracesummerville.org/ourevent/worship-service-55/2022-10-16/
LOCATION:Sanctuary\, 1600 Old Trolley Road\, Summerville\, SC\, 29485\, United States
CATEGORIES:Divine Services
END:VEVENT
BEGIN:VEVENT
DTSTART;TZID=America/New_York:20221016T093000
DTEND;TZID=America/New_York:20221016T103000
DTSTAMP:20260420T234531
CREATED:20200625T153616Z
LAST-MODIFIED:20200625T161030Z
UID:10000599-1665912600-1665916200@gracesummerville.org
SUMMARY:Worship Service
DESCRIPTION:
URL:https://gracesummerville.org/ourevent/worship-service/2022-10-16/
LOCATION:Sanctuary\, 1600 Old Trolley Road\, Summerville\, SC\, 29485\, United States
CATEGORIES:Divine Services
END:VEVENT
BEGIN:VEVENT
DTSTART;TZID=America/New_York:20221016T093000
DTEND;TZID=America/New_York:20221016T103000
DTSTAMP:20260420T234531
CREATED:20200821T142712Z
LAST-MODIFIED:20200825T161148Z
UID:10001292-1665912600-1665916200@gracesummerville.org
SUMMARY:Sunday School
DESCRIPTION:Sunday School classes will be held at 9:30 AM in Grace Hall.
URL:https://gracesummerville.org/ourevent/sunday-school/2022-10-16/
LOCATION:SC
END:VEVENT
BEGIN:VEVENT
DTSTART;VALUE=DATE:20221017
DTEND;VALUE=DATE:20221018
DTSTAMP:20260420T234531
CREATED:20200318T181533Z
LAST-MODIFIED:20200625T162724Z
UID:10000128-1665964800-1666051199@gracesummerville.org
SUMMARY:Pastor & Deaconess OFF
DESCRIPTION:
URL:https://gracesummerville.org/ourevent/pastor-deaconess-off-18/2022-10-17/
LOCATION:SC
END:VEVENT
BEGIN:VEVENT
DTSTART;TZID=America/New_York:20221018T180000
DTEND;TZID=America/New_York:20221018T200000
DTSTAMP:20260420T234531
CREATED:20221017T161120Z
LAST-MODIFIED:20221017T161120Z
UID:10001520-1666116000-1666123200@gracesummerville.org
SUMMARY:Men's Minstry Group
DESCRIPTION:Men’s Ministry meets on the third Tuesday of the month from 6:00 – 8:00 PM in Grace Hall.  Participants share a meal\, fellowship\, the Word and relevant information.  POC: Pastor Joe Seifert
URL:https://gracesummerville.org/ourevent/mens-minstry-group/
LOCATION:SC
END:VEVENT
BEGIN:VEVENT
DTSTART;TZID=America/New_York:20221023T080000
DTEND;TZID=America/New_York:20221023T090000
DTSTAMP:20260420T234531
CREATED:20200318T181534Z
LAST-MODIFIED:20221102T032152Z
UID:10001716-1666512000-1666515600@gracesummerville.org
SUMMARY:Worship Service
DESCRIPTION:
URL:https://gracesummerville.org/ourevent/worship-service-55/2022-10-23/
LOCATION:Sanctuary\, 1600 Old Trolley Road\, Summerville\, SC\, 29485\, United States
CATEGORIES:Divine Services
END:VEVENT
BEGIN:VEVENT
DTSTART;TZID=America/New_York:20221023T093000
DTEND;TZID=America/New_York:20221023T103000
DTSTAMP:20260420T234531
CREATED:20200625T153616Z
LAST-MODIFIED:20200625T161030Z
UID:10000600-1666517400-1666521000@gracesummerville.org
SUMMARY:Worship Service
DESCRIPTION:
URL:https://gracesummerville.org/ourevent/worship-service/2022-10-23/
LOCATION:Sanctuary\, 1600 Old Trolley Road\, Summerville\, SC\, 29485\, United States
CATEGORIES:Divine Services
END:VEVENT
BEGIN:VEVENT
DTSTART;TZID=America/New_York:20221023T093000
DTEND;TZID=America/New_York:20221023T103000
DTSTAMP:20260420T234531
CREATED:20200821T142712Z
LAST-MODIFIED:20200825T161148Z
UID:10001293-1666517400-1666521000@gracesummerville.org
SUMMARY:Sunday School
DESCRIPTION:Sunday School classes will be held at 9:30 AM in Grace Hall.
URL:https://gracesummerville.org/ourevent/sunday-school/2022-10-23/
LOCATION:SC
END:VEVENT
BEGIN:VEVENT
DTSTART;VALUE=DATE:20221024
DTEND;VALUE=DATE:20221025
DTSTAMP:20260420T234531
CREATED:20200318T181533Z
LAST-MODIFIED:20200625T162724Z
UID:10000129-1666569600-1666655999@gracesummerville.org
SUMMARY:Pastor & Deaconess OFF
DESCRIPTION:
URL:https://gracesummerville.org/ourevent/pastor-deaconess-off-18/2022-10-24/
LOCATION:SC
END:VEVENT
BEGIN:VEVENT
DTSTART;TZID=America/New_York:20221026T100000
DTEND;TZID=America/New_York:20221026T130000
DTSTAMP:20260420T234531
CREATED:20221019T160333Z
LAST-MODIFIED:20221019T160333Z
UID:10001518-1666778400-1666789200@gracesummerville.org
SUMMARY:Young at Heart
DESCRIPTION:Our lunch and learn will feature Deaconess Karen’s discussion on the history of Halloween and how Christians can participate. \nLunch is provided.  Please sign up in the Narthex.
URL:https://gracesummerville.org/ourevent/young-at-heart-5/
LOCATION:SC
END:VEVENT
BEGIN:VEVENT
DTSTART;TZID=America/New_York:20221029T100000
DTEND;TZID=America/New_York:20221029T120000
DTSTAMP:20260420T234531
CREATED:20221019T161006Z
LAST-MODIFIED:20221019T161006Z
UID:10001837-1667037600-1667044800@gracesummerville.org
SUMMARY:Women of Grace Sewing Kit Assembly
DESCRIPTION:Women of Grace will be assembling sewing kits at 10:00 AM\, Oct. 29th in Grace Hall. Items needed: thread\, 3′ ribbon\, scissors\, buttons\, needles and pins for sewing. Pleased drop off in Narthex.  POC: Shirley Marquardt
URL:https://gracesummerville.org/ourevent/women-of-grace-sewing-kit-assembly/
LOCATION:SC
END:VEVENT
BEGIN:VEVENT
DTSTART;TZID=America/New_York:20221030T080000
DTEND;TZID=America/New_York:20221030T090000
DTSTAMP:20260420T234531
CREATED:20200318T181534Z
LAST-MODIFIED:20221102T032152Z
UID:10001717-1667116800-1667120400@gracesummerville.org
SUMMARY:Worship Service
DESCRIPTION:
URL:https://gracesummerville.org/ourevent/worship-service-55/2022-10-30/
LOCATION:Sanctuary\, 1600 Old Trolley Road\, Summerville\, SC\, 29485\, United States
CATEGORIES:Divine Services
END:VEVENT
BEGIN:VEVENT
DTSTART;TZID=America/New_York:20221030T093000
DTEND;TZID=America/New_York:20221030T103000
DTSTAMP:20260420T234531
CREATED:20200625T153616Z
LAST-MODIFIED:20200625T161030Z
UID:10000601-1667122200-1667125800@gracesummerville.org
SUMMARY:Worship Service
DESCRIPTION:
URL:https://gracesummerville.org/ourevent/worship-service/2022-10-30/
LOCATION:Sanctuary\, 1600 Old Trolley Road\, Summerville\, SC\, 29485\, United States
CATEGORIES:Divine Services
END:VEVENT
BEGIN:VEVENT
DTSTART;TZID=America/New_York:20221030T093000
DTEND;TZID=America/New_York:20221030T103000
DTSTAMP:20260420T234531
CREATED:20200821T142712Z
LAST-MODIFIED:20200825T161148Z
UID:10001294-1667122200-1667125800@gracesummerville.org
SUMMARY:Sunday School
DESCRIPTION:Sunday School classes will be held at 9:30 AM in Grace Hall.
URL:https://gracesummerville.org/ourevent/sunday-school/2022-10-30/
LOCATION:SC
END:VEVENT
BEGIN:VEVENT
DTSTART;TZID=America/New_York:20221030T120000
DTEND;TZID=America/New_York:20221030T150000
DTSTAMP:20260420T234531
CREATED:20221019T160655Z
LAST-MODIFIED:20221019T160655Z
UID:10001519-1667131200-1667142000@gracesummerville.org
SUMMARY:Reformation Luncheon
DESCRIPTION:Brats\, Beer\, other beverages will be served and we will have lots of fun crafts and activities for the kids. Please sign up in the Narthex to bring a side dish and remember to dress like Martin Luther or his wife Katharina! \n 
URL:https://gracesummerville.org/ourevent/reformation-luncheon/
LOCATION:SC
END:VEVENT
BEGIN:VEVENT
DTSTART;VALUE=DATE:20221031
DTEND;VALUE=DATE:20221101
DTSTAMP:20260420T234531
CREATED:20200318T181533Z
LAST-MODIFIED:20200625T162724Z
UID:10000130-1667174400-1667260799@gracesummerville.org
SUMMARY:Pastor & Deaconess OFF
DESCRIPTION:
URL:https://gracesummerville.org/ourevent/pastor-deaconess-off-18/2022-10-31/
LOCATION:SC
END:VEVENT
BEGIN:VEVENT
DTSTART;TZID=America/New_York:20221101T183000
DTEND;TZID=America/New_York:20221101T200000
DTSTAMP:20260420T234531
CREATED:20211012T151255Z
LAST-MODIFIED:20211012T152308Z
UID:10001512-1667327400-1667332800@gracesummerville.org
SUMMARY:Faith Outreach Committee
DESCRIPTION:
URL:https://gracesummerville.org/ourevent/faith-outreach-committee/2022-11-01/
LOCATION:Grace Hall\, 1600 Old Trolley Road\, Summerville\, SC\, 29485\, United States
END:VEVENT
BEGIN:VEVENT
DTSTART;TZID=America/New_York:20221103T190000
DTEND;TZID=America/New_York:20221103T203000
DTSTAMP:20260420T234531
CREATED:20220812T131032Z
LAST-MODIFIED:20220812T131032Z
UID:10001128-1667502000-1667507400@gracesummerville.org
SUMMARY:PPC Meeting
DESCRIPTION:
URL:https://gracesummerville.org/ourevent/ppc-meeting-7/
LOCATION:SC
END:VEVENT
BEGIN:VEVENT
DTSTART;TZID=America/New_York:20221105T100000
DTEND;TZID=America/New_York:20221105T140000
DTSTAMP:20260420T234531
CREATED:20221019T160844Z
LAST-MODIFIED:20221019T160844Z
UID:10001517-1667642400-1667656800@gracesummerville.org
SUMMARY:Lowcountry Pregnancy Center Walk for Life
DESCRIPTION:We will meet at Wannamaker Park in North Charleston.  Come out for a day of food\, fun\, prizes\, and more.  Grace is sponsoring the T-shirt Tent\, and we want to have a large team to walk together and help raise funds for LIFE!  Check out the table in the narthex or go to lpcfriends.com/events to register and donate.  POC: Deaconess Karen
URL:https://gracesummerville.org/ourevent/lowcountry-pregnancy-center-walk-for-life-2/
LOCATION:SC
END:VEVENT
BEGIN:VEVENT
DTSTART;VALUE=DATE:20221106
DTEND;VALUE=DATE:20221107
DTSTAMP:20260420T234531
CREATED:20200318T181534Z
LAST-MODIFIED:20200625T163635Z
UID:10000453-1667692800-1667775599@gracesummerville.org
SUMMARY:Mites Collected
DESCRIPTION:
URL:https://gracesummerville.org/ourevent/mites-collected-5/2022-11-06/
LOCATION:Sanctuary\, 1600 Old Trolley Road\, Summerville\, SC\, 29485\, United States
END:VEVENT
BEGIN:VEVENT
DTSTART;TZID=America/New_York:20221106T080000
DTEND;TZID=America/New_York:20221106T090000
DTSTAMP:20260420T234531
CREATED:20200318T181534Z
LAST-MODIFIED:20221102T032152Z
UID:10001718-1667721600-1667725200@gracesummerville.org
SUMMARY:Worship Service
DESCRIPTION:
URL:https://gracesummerville.org/ourevent/worship-service-55/2022-11-06/
LOCATION:Sanctuary\, 1600 Old Trolley Road\, Summerville\, SC\, 29485\, United States
CATEGORIES:Divine Services
END:VEVENT
BEGIN:VEVENT
DTSTART;TZID=America/New_York:20221106T093000
DTEND;TZID=America/New_York:20221106T103000
DTSTAMP:20260420T234531
CREATED:20200625T153616Z
LAST-MODIFIED:20200625T161030Z
UID:10000602-1667727000-1667730600@gracesummerville.org
SUMMARY:Worship Service
DESCRIPTION:
URL:https://gracesummerville.org/ourevent/worship-service/2022-11-06/
LOCATION:Sanctuary\, 1600 Old Trolley Road\, Summerville\, SC\, 29485\, United States
CATEGORIES:Divine Services
END:VEVENT
BEGIN:VEVENT
DTSTART;TZID=America/New_York:20221106T093000
DTEND;TZID=America/New_York:20221106T103000
DTSTAMP:20260420T234531
CREATED:20200821T142712Z
LAST-MODIFIED:20200825T161148Z
UID:10001295-1667727000-1667730600@gracesummerville.org
SUMMARY:Sunday School
DESCRIPTION:Sunday School classes will be held at 9:30 AM in Grace Hall.
URL:https://gracesummerville.org/ourevent/sunday-school/2022-11-06/
LOCATION:SC
END:VEVENT
BEGIN:VEVENT
DTSTART;VALUE=DATE:20221107
DTEND;VALUE=DATE:20221108
DTSTAMP:20260420T234531
CREATED:20200318T181533Z
LAST-MODIFIED:20200625T162724Z
UID:10000131-1667779200-1667865599@gracesummerville.org
SUMMARY:Pastor & Deaconess OFF
DESCRIPTION:
URL:https://gracesummerville.org/ourevent/pastor-deaconess-off-18/2022-11-07/
LOCATION:SC
END:VEVENT
BEGIN:VEVENT
DTSTART;VALUE=DATE:20221108
DTEND;VALUE=DATE:20221109
DTSTAMP:20260420T234531
CREATED:20220120T175113Z
LAST-MODIFIED:20220120T175113Z
UID:10001461-1667865600-1667951999@gracesummerville.org
SUMMARY:Election in GH
DESCRIPTION:
URL:https://gracesummerville.org/ourevent/election-in-gh-4/
LOCATION:SC
END:VEVENT
BEGIN:VEVENT
DTSTART;TZID=America/New_York:20221112T103000
DTEND;TZID=America/New_York:20221112T120000
DTSTAMP:20260420T234531
CREATED:20221019T161907Z
LAST-MODIFIED:20221019T162647Z
UID:10001569-1668249000-1668254400@gracesummerville.org
SUMMARY:Youth Group Shoe Box Packing Party
DESCRIPTION:On Saturday morning\, November 12\, 2022 at 10:30 a.m. – the youth will pack 100 Samaritan’s Purse Shoeboxes.  Anyone who would like to help and join this fun time is invited to help us pack.  Donuts\, muffins\, cookies\, water\, and juice will be served.  The shoeboxes will be blessed on November 13\, 2022  at all three services\, and then on November 14th\, the shoeboxes will be delivered to the collection center. POC: Melanie Franks \n 
URL:https://gracesummerville.org/ourevent/youth-group-shoe-box-packing-party/
LOCATION:SC
END:VEVENT
BEGIN:VEVENT
DTSTART;TZID=America/New_York:20221113T080000
DTEND;TZID=America/New_York:20221113T090000
DTSTAMP:20260420T234531
CREATED:20200318T181534Z
LAST-MODIFIED:20221102T032152Z
UID:10001719-1668326400-1668330000@gracesummerville.org
SUMMARY:Worship Service
DESCRIPTION:
URL:https://gracesummerville.org/ourevent/worship-service-55/2022-11-13/
LOCATION:Sanctuary\, 1600 Old Trolley Road\, Summerville\, SC\, 29485\, United States
CATEGORIES:Divine Services
END:VEVENT
END:VCALENDAR