BEGIN:VCALENDAR
VERSION:2.0
PRODID:-//Grace Lutheran Church - Summerville, SC - ECPv6.15.20//NONSGML v1.0//EN
CALSCALE:GREGORIAN
METHOD:PUBLISH
X-ORIGINAL-URL:https://gracesummerville.org
X-WR-CALDESC:Events for Grace Lutheran Church - Summerville, SC
REFRESH-INTERVAL;VALUE=DURATION:PT1H
X-Robots-Tag:noindex
X-PUBLISHED-TTL:PT1H
BEGIN:VTIMEZONE
TZID:America/New_York
BEGIN:DAYLIGHT
TZOFFSETFROM:-0500
TZOFFSETTO:-0400
TZNAME:EDT
DTSTART:20210314T070000
END:DAYLIGHT
BEGIN:STANDARD
TZOFFSETFROM:-0400
TZOFFSETTO:-0500
TZNAME:EST
DTSTART:20211107T060000
END:STANDARD
BEGIN:DAYLIGHT
TZOFFSETFROM:-0500
TZOFFSETTO:-0400
TZNAME:EDT
DTSTART:20220313T070000
END:DAYLIGHT
BEGIN:STANDARD
TZOFFSETFROM:-0400
TZOFFSETTO:-0500
TZNAME:EST
DTSTART:20221106T060000
END:STANDARD
BEGIN:DAYLIGHT
TZOFFSETFROM:-0500
TZOFFSETTO:-0400
TZNAME:EDT
DTSTART:20230312T070000
END:DAYLIGHT
BEGIN:STANDARD
TZOFFSETFROM:-0400
TZOFFSETTO:-0500
TZNAME:EST
DTSTART:20231105T060000
END:STANDARD
BEGIN:DAYLIGHT
TZOFFSETFROM:-0500
TZOFFSETTO:-0400
TZNAME:EDT
DTSTART:20240310T070000
END:DAYLIGHT
BEGIN:STANDARD
TZOFFSETFROM:-0400
TZOFFSETTO:-0500
TZNAME:EST
DTSTART:20241103T060000
END:STANDARD
BEGIN:DAYLIGHT
TZOFFSETFROM:-0500
TZOFFSETTO:-0400
TZNAME:EDT
DTSTART:20250309T070000
END:DAYLIGHT
BEGIN:STANDARD
TZOFFSETFROM:-0400
TZOFFSETTO:-0500
TZNAME:EST
DTSTART:20251102T060000
END:STANDARD
BEGIN:DAYLIGHT
TZOFFSETFROM:-0500
TZOFFSETTO:-0400
TZNAME:EDT
DTSTART:20260308T070000
END:DAYLIGHT
BEGIN:STANDARD
TZOFFSETFROM:-0400
TZOFFSETTO:-0500
TZNAME:EST
DTSTART:20261101T060000
END:STANDARD
BEGIN:DAYLIGHT
TZOFFSETFROM:-0500
TZOFFSETTO:-0400
TZNAME:EDT
DTSTART:20270314T070000
END:DAYLIGHT
BEGIN:STANDARD
TZOFFSETFROM:-0400
TZOFFSETTO:-0500
TZNAME:EST
DTSTART:20271107T060000
END:STANDARD
END:VTIMEZONE
BEGIN:VEVENT
DTSTART;TZID=America/New_York:20260403T120000
DTEND;TZID=America/New_York:20260403T200000
DTSTAMP:20260424T090001
CREATED:20260227T220314Z
LAST-MODIFIED:20260227T220451Z
UID:10008447-1775217600-1775246400@gracesummerville.org
SUMMARY:Good Friday Service 12:00 pm and 7:00 pm
DESCRIPTION:Good Friday Service 12:00 and 7:00 pm
URL:https://gracesummerville.org/ourevent/good-friday-service/
CATEGORIES:Divine Services
END:VEVENT
BEGIN:VEVENT
DTSTART;TZID=America/New_York:20241218T190000
DTEND;TZID=America/New_York:20241218T194500
DTSTAMP:20260424T090001
CREATED:20241126T181042Z
LAST-MODIFIED:20241126T181413Z
UID:10004407-1734548400-1734551100@gracesummerville.org
SUMMARY:Midweek Advent Service
DESCRIPTION:Advent Service from 7 p.m. to 7:45 p.m.
URL:https://gracesummerville.org/ourevent/midweek-advent-service-4/2024-12-18/
LOCATION:Sanctuary\, 1600 Old Trolley Road\, Summerville\, SC\, 29485\, United States
CATEGORIES:Divine Services
ORGANIZER;CN="Pastor Willsea":MAILTO:pastor@gracesummerville.org
END:VEVENT
BEGIN:VEVENT
DTSTART;TZID=America/New_York:20241218T120000
DTEND;TZID=America/New_York:20241218T124500
DTSTAMP:20260424T090001
CREATED:20241126T180851Z
LAST-MODIFIED:20241126T181517Z
UID:10004404-1734523200-1734525900@gracesummerville.org
SUMMARY:Midweek Advent Service
DESCRIPTION:Advent Service from Noon to 12:45 p.m.
URL:https://gracesummerville.org/ourevent/midweek-advent-service-3/2024-12-18/
LOCATION:Sanctuary\, 1600 Old Trolley Road\, Summerville\, SC\, 29485\, United States
CATEGORIES:Divine Services
ORGANIZER;CN="Pastor Willsea":MAILTO:pastor@gracesummerville.org
END:VEVENT
BEGIN:VEVENT
DTSTART;TZID=America/New_York:20241211T190000
DTEND;TZID=America/New_York:20241211T194500
DTSTAMP:20260424T090001
CREATED:20241126T181042Z
LAST-MODIFIED:20241126T181413Z
UID:10004406-1733943600-1733946300@gracesummerville.org
SUMMARY:Midweek Advent Service
DESCRIPTION:Advent Service from 7 p.m. to 7:45 p.m.
URL:https://gracesummerville.org/ourevent/midweek-advent-service-4/2024-12-11/
LOCATION:Sanctuary\, 1600 Old Trolley Road\, Summerville\, SC\, 29485\, United States
CATEGORIES:Divine Services
ORGANIZER;CN="Pastor Willsea":MAILTO:pastor@gracesummerville.org
END:VEVENT
BEGIN:VEVENT
DTSTART;TZID=America/New_York:20241211T120000
DTEND;TZID=America/New_York:20241211T124500
DTSTAMP:20260424T090001
CREATED:20241126T180851Z
LAST-MODIFIED:20241126T181517Z
UID:10004403-1733918400-1733921100@gracesummerville.org
SUMMARY:Midweek Advent Service
DESCRIPTION:Advent Service from Noon to 12:45 p.m.
URL:https://gracesummerville.org/ourevent/midweek-advent-service-3/2024-12-11/
LOCATION:Sanctuary\, 1600 Old Trolley Road\, Summerville\, SC\, 29485\, United States
CATEGORIES:Divine Services
ORGANIZER;CN="Pastor Willsea":MAILTO:pastor@gracesummerville.org
END:VEVENT
BEGIN:VEVENT
DTSTART;TZID=America/New_York:20241204T190000
DTEND;TZID=America/New_York:20241204T194500
DTSTAMP:20260424T090001
CREATED:20241126T181042Z
LAST-MODIFIED:20241126T181413Z
UID:10004405-1733338800-1733341500@gracesummerville.org
SUMMARY:Midweek Advent Service
DESCRIPTION:Advent Service from 7 p.m. to 7:45 p.m.
URL:https://gracesummerville.org/ourevent/midweek-advent-service-4/2024-12-04/
LOCATION:Sanctuary\, 1600 Old Trolley Road\, Summerville\, SC\, 29485\, United States
CATEGORIES:Divine Services
ORGANIZER;CN="Pastor Willsea":MAILTO:pastor@gracesummerville.org
END:VEVENT
BEGIN:VEVENT
DTSTART;TZID=America/New_York:20241204T120000
DTEND;TZID=America/New_York:20241204T124500
DTSTAMP:20260424T090001
CREATED:20241126T180851Z
LAST-MODIFIED:20241126T181517Z
UID:10004402-1733313600-1733316300@gracesummerville.org
SUMMARY:Midweek Advent Service
DESCRIPTION:Advent Service from Noon to 12:45 p.m.
URL:https://gracesummerville.org/ourevent/midweek-advent-service-3/2024-12-04/
LOCATION:Sanctuary\, 1600 Old Trolley Road\, Summerville\, SC\, 29485\, United States
CATEGORIES:Divine Services
ORGANIZER;CN="Pastor Willsea":MAILTO:pastor@gracesummerville.org
END:VEVENT
BEGIN:VEVENT
DTSTART;TZID=America/New_York:20240331T110000
DTEND;TZID=America/New_York:20240331T120000
DTSTAMP:20260424T090001
CREATED:20240301T163452Z
LAST-MODIFIED:20240301T163453Z
UID:10000898-1711882800-1711886400@gracesummerville.org
SUMMARY:Easter Worship Service
DESCRIPTION:
URL:https://gracesummerville.org/ourevent/worship-service-2-3/
LOCATION:Sanctuary\, 1600 Old Trolley Road\, Summerville\, SC\, 29485\, United States
CATEGORIES:Divine Services
END:VEVENT
BEGIN:VEVENT
DTSTART;TZID=America/New_York:20240331T093000
DTEND;TZID=America/New_York:20240331T103000
DTSTAMP:20260424T090001
CREATED:20240301T163407Z
LAST-MODIFIED:20240301T163408Z
UID:10000675-1711877400-1711881000@gracesummerville.org
SUMMARY:Easter Worship Service
DESCRIPTION:
URL:https://gracesummerville.org/ourevent/worship-service-3-2/
LOCATION:Sanctuary\, 1600 Old Trolley Road\, Summerville\, SC\, 29485\, United States
CATEGORIES:Divine Services
END:VEVENT
BEGIN:VEVENT
DTSTART;TZID=America/New_York:20240106T190000
DTEND;TZID=America/New_York:20240106T200000
DTSTAMP:20260424T090001
CREATED:20240105T202254Z
LAST-MODIFIED:20240105T202329Z
UID:10002446-1704567600-1704571200@gracesummerville.org
SUMMARY:Epiphany Service
DESCRIPTION:Celebrate the Feast of Epiphany\, marking the day the wise men visited the newborn Jesus Christ.
URL:https://gracesummerville.org/ourevent/epiphany-service-2/
LOCATION:Sanctuary\, 1600 Old Trolley Road\, Summerville\, SC\, 29485\, United States
CATEGORIES:Divine Services
END:VEVENT
BEGIN:VEVENT
DTSTART;TZID=America/New_York:20230222T190000
DTEND;TZID=America/New_York:20230222T200000
DTSTAMP:20260424T090001
CREATED:20230111T140131Z
LAST-MODIFIED:20230214T171130Z
UID:10002200-1677092400-1677096000@gracesummerville.org
SUMMARY:Ash Wednesday Worship Services
DESCRIPTION:
URL:https://gracesummerville.org/ourevent/ash-wednesday-worship-services/2023-02-22/2/
LOCATION:Sanctuary\, 1600 Old Trolley Road\, Summerville\, SC\, 29485\, United States
CATEGORIES:Divine Services
ORGANIZER;CN="Pastor Willsea":MAILTO:pastor@gracesummerville.org
END:VEVENT
BEGIN:VEVENT
DTSTART;TZID=America/New_York:20230222T120000
DTEND;TZID=America/New_York:20230222T130000
DTSTAMP:20260424T090001
CREATED:20230111T140131Z
LAST-MODIFIED:20230214T171130Z
UID:10002071-1677067200-1677070800@gracesummerville.org
SUMMARY:Ash Wednesday Worship Services
DESCRIPTION:
URL:https://gracesummerville.org/ourevent/ash-wednesday-worship-services/2023-02-22/1/
LOCATION:Sanctuary\, 1600 Old Trolley Road\, Summerville\, SC\, 29485\, United States
CATEGORIES:Divine Services
ORGANIZER;CN="Pastor Willsea":MAILTO:pastor@gracesummerville.org
END:VEVENT
BEGIN:VEVENT
DTSTART;TZID=America/New_York:20221225T100000
DTEND;TZID=America/New_York:20221225T110000
DTSTAMP:20260424T090001
CREATED:20221214T175039Z
LAST-MODIFIED:20221214T175153Z
UID:10000832-1671962400-1671966000@gracesummerville.org
SUMMARY:Christmas Day Service
DESCRIPTION:Christmas is not about the presents\, but about His presence.
URL:https://gracesummerville.org/ourevent/worship-service-2-2/
LOCATION:Sanctuary\, 1600 Old Trolley Road\, Summerville\, SC\, 29485\, United States
CATEGORIES:Divine Services
END:VEVENT
BEGIN:VEVENT
DTSTART;TZID=America/New_York:20221224T190000
DTEND;TZID=America/New_York:20221224T200000
DTSTAMP:20260424T090001
CREATED:20221214T174436Z
LAST-MODIFIED:20221214T174625Z
UID:10002056-1671908400-1671912000@gracesummerville.org
SUMMARY:Christmas Eve Service
DESCRIPTION:Christmas is not about the presents\, but about His presence.
URL:https://gracesummerville.org/ourevent/christmas-eve-service/2022-12-24/2/
LOCATION:Sanctuary\, 1600 Old Trolley Road\, Summerville\, SC\, 29485\, United States
CATEGORIES:Divine Services
ORGANIZER;CN="Pastor Willsea":MAILTO:pastor@gracesummerville.org
END:VEVENT
BEGIN:VEVENT
DTSTART;TZID=America/New_York:20221224T170000
DTEND;TZID=America/New_York:20221224T180000
DTSTAMP:20260424T090001
CREATED:20221214T174436Z
LAST-MODIFIED:20221214T174625Z
UID:10002055-1671901200-1671904800@gracesummerville.org
SUMMARY:Christmas Eve Service
DESCRIPTION:Christmas is not about the presents\, but about His presence.
URL:https://gracesummerville.org/ourevent/christmas-eve-service/2022-12-24/1/
LOCATION:Sanctuary\, 1600 Old Trolley Road\, Summerville\, SC\, 29485\, United States
CATEGORIES:Divine Services
ORGANIZER;CN="Pastor Willsea":MAILTO:pastor@gracesummerville.org
END:VEVENT
BEGIN:VEVENT
DTSTART;TZID=America/New_York:20221221T190000
DTEND;TZID=America/New_York:20221221T193500
DTSTAMP:20260424T090001
CREATED:20221110T172431Z
LAST-MODIFIED:20221130T040438Z
UID:10002045-1671649200-1671651300@gracesummerville.org
SUMMARY:Advent Midweek Service
DESCRIPTION:During the 2022 Advent Midweek series\, Pastor Willsea will be giving sermons on the topic of “Angels\, the Ultimate Divine Messengers of Hope.” Services will be November 30 and December 7\, 14\, and 21 at noon and 7 P.M.
URL:https://gracesummerville.org/ourevent/advent-midweek-service/2022-12-21/2/
LOCATION:Sanctuary\, 1600 Old Trolley Road\, Summerville\, SC\, 29485\, United States
CATEGORIES:Divine Services
END:VEVENT
BEGIN:VEVENT
DTSTART;TZID=America/New_York:20221221T120000
DTEND;TZID=America/New_York:20221221T123500
DTSTAMP:20260424T090001
CREATED:20221110T172431Z
LAST-MODIFIED:20221130T040438Z
UID:10002037-1671624000-1671626100@gracesummerville.org
SUMMARY:Advent Midweek Service
DESCRIPTION:During the 2022 Advent Midweek series\, Pastor Willsea will be giving sermons on the topic of “Angels\, the Ultimate Divine Messengers of Hope.” Services will be November 30 and December 7\, 14\, and 21 at noon and 7 P.M.
URL:https://gracesummerville.org/ourevent/advent-midweek-service/2022-12-21/1/
LOCATION:Sanctuary\, 1600 Old Trolley Road\, Summerville\, SC\, 29485\, United States
CATEGORIES:Divine Services
END:VEVENT
BEGIN:VEVENT
DTSTART;TZID=America/New_York:20221218T080000
DTEND;TZID=America/New_York:20221218T090000
DTSTAMP:20260424T090001
CREATED:20200318T181534Z
LAST-MODIFIED:20221102T032152Z
UID:10001724-1671350400-1671354000@gracesummerville.org
SUMMARY:Worship Service
DESCRIPTION:
URL:https://gracesummerville.org/ourevent/worship-service-55/2022-12-18/
LOCATION:Sanctuary\, 1600 Old Trolley Road\, Summerville\, SC\, 29485\, United States
CATEGORIES:Divine Services
END:VEVENT
BEGIN:VEVENT
DTSTART;TZID=America/New_York:20221214T190000
DTEND;TZID=America/New_York:20221214T193500
DTSTAMP:20260424T090001
CREATED:20221110T172431Z
LAST-MODIFIED:20221130T040438Z
UID:10002044-1671044400-1671046500@gracesummerville.org
SUMMARY:Advent Midweek Service
DESCRIPTION:During the 2022 Advent Midweek series\, Pastor Willsea will be giving sermons on the topic of “Angels\, the Ultimate Divine Messengers of Hope.” Services will be November 30 and December 7\, 14\, and 21 at noon and 7 P.M.
URL:https://gracesummerville.org/ourevent/advent-midweek-service/2022-12-14/2/
LOCATION:Sanctuary\, 1600 Old Trolley Road\, Summerville\, SC\, 29485\, United States
CATEGORIES:Divine Services
END:VEVENT
BEGIN:VEVENT
DTSTART;TZID=America/New_York:20221214T120000
DTEND;TZID=America/New_York:20221214T123500
DTSTAMP:20260424T090001
CREATED:20221110T172431Z
LAST-MODIFIED:20221130T040438Z
UID:10002036-1671019200-1671021300@gracesummerville.org
SUMMARY:Advent Midweek Service
DESCRIPTION:During the 2022 Advent Midweek series\, Pastor Willsea will be giving sermons on the topic of “Angels\, the Ultimate Divine Messengers of Hope.” Services will be November 30 and December 7\, 14\, and 21 at noon and 7 P.M.
URL:https://gracesummerville.org/ourevent/advent-midweek-service/2022-12-14/1/
LOCATION:Sanctuary\, 1600 Old Trolley Road\, Summerville\, SC\, 29485\, United States
CATEGORIES:Divine Services
END:VEVENT
BEGIN:VEVENT
DTSTART;TZID=America/New_York:20221211T080000
DTEND;TZID=America/New_York:20221211T090000
DTSTAMP:20260424T090001
CREATED:20200318T181534Z
LAST-MODIFIED:20221102T032152Z
UID:10001723-1670745600-1670749200@gracesummerville.org
SUMMARY:Worship Service
DESCRIPTION:
URL:https://gracesummerville.org/ourevent/worship-service-55/2022-12-11/
LOCATION:Sanctuary\, 1600 Old Trolley Road\, Summerville\, SC\, 29485\, United States
CATEGORIES:Divine Services
END:VEVENT
BEGIN:VEVENT
DTSTART;TZID=America/New_York:20221207T190000
DTEND;TZID=America/New_York:20221207T193500
DTSTAMP:20260424T090001
CREATED:20221110T172431Z
LAST-MODIFIED:20221130T040438Z
UID:10002043-1670439600-1670441700@gracesummerville.org
SUMMARY:Advent Midweek Service
DESCRIPTION:During the 2022 Advent Midweek series\, Pastor Willsea will be giving sermons on the topic of “Angels\, the Ultimate Divine Messengers of Hope.” Services will be November 30 and December 7\, 14\, and 21 at noon and 7 P.M.
URL:https://gracesummerville.org/ourevent/advent-midweek-service/2022-12-07/2/
LOCATION:Sanctuary\, 1600 Old Trolley Road\, Summerville\, SC\, 29485\, United States
CATEGORIES:Divine Services
END:VEVENT
BEGIN:VEVENT
DTSTART;TZID=America/New_York:20221207T120000
DTEND;TZID=America/New_York:20221207T123500
DTSTAMP:20260424T090001
CREATED:20221110T172431Z
LAST-MODIFIED:20221130T040438Z
UID:10002035-1670414400-1670416500@gracesummerville.org
SUMMARY:Advent Midweek Service
DESCRIPTION:During the 2022 Advent Midweek series\, Pastor Willsea will be giving sermons on the topic of “Angels\, the Ultimate Divine Messengers of Hope.” Services will be November 30 and December 7\, 14\, and 21 at noon and 7 P.M.
URL:https://gracesummerville.org/ourevent/advent-midweek-service/2022-12-07/1/
LOCATION:Sanctuary\, 1600 Old Trolley Road\, Summerville\, SC\, 29485\, United States
CATEGORIES:Divine Services
END:VEVENT
BEGIN:VEVENT
DTSTART;TZID=America/New_York:20221204T080000
DTEND;TZID=America/New_York:20221204T090000
DTSTAMP:20260424T090001
CREATED:20200318T181534Z
LAST-MODIFIED:20221102T032152Z
UID:10001722-1670140800-1670144400@gracesummerville.org
SUMMARY:Worship Service
DESCRIPTION:
URL:https://gracesummerville.org/ourevent/worship-service-55/2022-12-04/
LOCATION:Sanctuary\, 1600 Old Trolley Road\, Summerville\, SC\, 29485\, United States
CATEGORIES:Divine Services
END:VEVENT
BEGIN:VEVENT
DTSTART;TZID=America/New_York:20221130T190000
DTEND;TZID=America/New_York:20221130T193500
DTSTAMP:20260424T090001
CREATED:20221110T172431Z
LAST-MODIFIED:20221130T040438Z
UID:10002034-1669834800-1669836900@gracesummerville.org
SUMMARY:Advent Midweek Service
DESCRIPTION:During the 2022 Advent Midweek series\, Pastor Willsea will be giving sermons on the topic of “Angels\, the Ultimate Divine Messengers of Hope.” Services will be November 30 and December 7\, 14\, and 21 at noon and 7 P.M.
URL:https://gracesummerville.org/ourevent/advent-midweek-service/2022-11-30/2/
LOCATION:Sanctuary\, 1600 Old Trolley Road\, Summerville\, SC\, 29485\, United States
CATEGORIES:Divine Services
END:VEVENT
BEGIN:VEVENT
DTSTART;TZID=America/New_York:20221130T120000
DTEND;TZID=America/New_York:20221130T123500
DTSTAMP:20260424T090001
CREATED:20221110T172431Z
LAST-MODIFIED:20221130T040438Z
UID:10002033-1669809600-1669811700@gracesummerville.org
SUMMARY:Advent Midweek Service
DESCRIPTION:During the 2022 Advent Midweek series\, Pastor Willsea will be giving sermons on the topic of “Angels\, the Ultimate Divine Messengers of Hope.” Services will be November 30 and December 7\, 14\, and 21 at noon and 7 P.M.
URL:https://gracesummerville.org/ourevent/advent-midweek-service/2022-11-30/1/
LOCATION:Sanctuary\, 1600 Old Trolley Road\, Summerville\, SC\, 29485\, United States
CATEGORIES:Divine Services
END:VEVENT
BEGIN:VEVENT
DTSTART;TZID=America/New_York:20221127T093000
DTEND;TZID=America/New_York:20221127T103000
DTSTAMP:20260424T090001
CREATED:20200625T153616Z
LAST-MODIFIED:20200625T161030Z
UID:10000605-1669541400-1669545000@gracesummerville.org
SUMMARY:Worship Service
DESCRIPTION:
URL:https://gracesummerville.org/ourevent/worship-service/2022-11-27/
LOCATION:Sanctuary\, 1600 Old Trolley Road\, Summerville\, SC\, 29485\, United States
CATEGORIES:Divine Services
END:VEVENT
BEGIN:VEVENT
DTSTART;TZID=America/New_York:20221127T080000
DTEND;TZID=America/New_York:20221127T090000
DTSTAMP:20260424T090001
CREATED:20200318T181534Z
LAST-MODIFIED:20221102T032152Z
UID:10001721-1669536000-1669539600@gracesummerville.org
SUMMARY:Worship Service
DESCRIPTION:
URL:https://gracesummerville.org/ourevent/worship-service-55/2022-11-27/
LOCATION:Sanctuary\, 1600 Old Trolley Road\, Summerville\, SC\, 29485\, United States
CATEGORIES:Divine Services
END:VEVENT
BEGIN:VEVENT
DTSTART;TZID=America/New_York:20221120T093000
DTEND;TZID=America/New_York:20221120T103000
DTSTAMP:20260424T090001
CREATED:20200625T153616Z
LAST-MODIFIED:20200625T161030Z
UID:10000604-1668936600-1668940200@gracesummerville.org
SUMMARY:Worship Service
DESCRIPTION:
URL:https://gracesummerville.org/ourevent/worship-service/2022-11-20/
LOCATION:Sanctuary\, 1600 Old Trolley Road\, Summerville\, SC\, 29485\, United States
CATEGORIES:Divine Services
END:VEVENT
BEGIN:VEVENT
DTSTART;TZID=America/New_York:20221120T080000
DTEND;TZID=America/New_York:20221120T090000
DTSTAMP:20260424T090001
CREATED:20200318T181534Z
LAST-MODIFIED:20221102T032152Z
UID:10001720-1668931200-1668934800@gracesummerville.org
SUMMARY:Worship Service
DESCRIPTION:
URL:https://gracesummerville.org/ourevent/worship-service-55/2022-11-20/
LOCATION:Sanctuary\, 1600 Old Trolley Road\, Summerville\, SC\, 29485\, United States
CATEGORIES:Divine Services
END:VEVENT
END:VCALENDAR