BEGIN:VCALENDAR
VERSION:2.0
PRODID:-//Grace Lutheran Church - Summerville, SC - ECPv6.15.20//NONSGML v1.0//EN
CALSCALE:GREGORIAN
METHOD:PUBLISH
X-ORIGINAL-URL:https://gracesummerville.org
X-WR-CALDESC:Events for Grace Lutheran Church - Summerville, SC
REFRESH-INTERVAL;VALUE=DURATION:PT1H
X-Robots-Tag:noindex
X-PUBLISHED-TTL:PT1H
BEGIN:VTIMEZONE
TZID:America/New_York
BEGIN:DAYLIGHT
TZOFFSETFROM:-0500
TZOFFSETTO:-0400
TZNAME:EDT
DTSTART:20220313T070000
END:DAYLIGHT
BEGIN:STANDARD
TZOFFSETFROM:-0400
TZOFFSETTO:-0500
TZNAME:EST
DTSTART:20221106T060000
END:STANDARD
BEGIN:DAYLIGHT
TZOFFSETFROM:-0500
TZOFFSETTO:-0400
TZNAME:EDT
DTSTART:20230312T070000
END:DAYLIGHT
BEGIN:STANDARD
TZOFFSETFROM:-0400
TZOFFSETTO:-0500
TZNAME:EST
DTSTART:20231105T060000
END:STANDARD
BEGIN:DAYLIGHT
TZOFFSETFROM:-0500
TZOFFSETTO:-0400
TZNAME:EDT
DTSTART:20240310T070000
END:DAYLIGHT
BEGIN:STANDARD
TZOFFSETFROM:-0400
TZOFFSETTO:-0500
TZNAME:EST
DTSTART:20241103T060000
END:STANDARD
END:VTIMEZONE
BEGIN:VEVENT
DTSTART;TZID=America/New_York:20230827T093000
DTEND;TZID=America/New_York:20230827T103000
DTSTAMP:20260425T171031
CREATED:20221130T035617Z
LAST-MODIFIED:20221130T035619Z
UID:10001337-1693128600-1693132200@gracesummerville.org
SUMMARY:Sunday School
DESCRIPTION:Sunday School classes will be held at 9:30 AM in Grace Hall.
URL:https://gracesummerville.org/ourevent/sunday-school-2/2023-08-27/
END:VEVENT
BEGIN:VEVENT
DTSTART;TZID=America/New_York:20230820T093000
DTEND;TZID=America/New_York:20230820T103000
DTSTAMP:20260425T171031
CREATED:20221130T035617Z
LAST-MODIFIED:20221130T035619Z
UID:10001336-1692523800-1692527400@gracesummerville.org
SUMMARY:Sunday School
DESCRIPTION:Sunday School classes will be held at 9:30 AM in Grace Hall.
URL:https://gracesummerville.org/ourevent/sunday-school-2/2023-08-20/
END:VEVENT
BEGIN:VEVENT
DTSTART;TZID=America/New_York:20230813T093000
DTEND;TZID=America/New_York:20230813T103000
DTSTAMP:20260425T171031
CREATED:20221130T035617Z
LAST-MODIFIED:20221130T035619Z
UID:10001335-1691919000-1691922600@gracesummerville.org
SUMMARY:Sunday School
DESCRIPTION:Sunday School classes will be held at 9:30 AM in Grace Hall.
URL:https://gracesummerville.org/ourevent/sunday-school-2/2023-08-13/
END:VEVENT
BEGIN:VEVENT
DTSTART;TZID=America/New_York:20230806T093000
DTEND;TZID=America/New_York:20230806T103000
DTSTAMP:20260425T171031
CREATED:20221130T035617Z
LAST-MODIFIED:20221130T035619Z
UID:10001334-1691314200-1691317800@gracesummerville.org
SUMMARY:Sunday School
DESCRIPTION:Sunday School classes will be held at 9:30 AM in Grace Hall.
URL:https://gracesummerville.org/ourevent/sunday-school-2/2023-08-06/
END:VEVENT
BEGIN:VEVENT
DTSTART;TZID=America/New_York:20230730T093000
DTEND;TZID=America/New_York:20230730T103000
DTSTAMP:20260425T171031
CREATED:20221130T035617Z
LAST-MODIFIED:20221130T035619Z
UID:10001333-1690709400-1690713000@gracesummerville.org
SUMMARY:Sunday School
DESCRIPTION:Sunday School classes will be held at 9:30 AM in Grace Hall.
URL:https://gracesummerville.org/ourevent/sunday-school-2/2023-07-30/
END:VEVENT
BEGIN:VEVENT
DTSTART;TZID=America/New_York:20230723T093000
DTEND;TZID=America/New_York:20230723T103000
DTSTAMP:20260425T171031
CREATED:20221130T035617Z
LAST-MODIFIED:20221130T035619Z
UID:10001332-1690104600-1690108200@gracesummerville.org
SUMMARY:Sunday School
DESCRIPTION:Sunday School classes will be held at 9:30 AM in Grace Hall.
URL:https://gracesummerville.org/ourevent/sunday-school-2/2023-07-23/
END:VEVENT
BEGIN:VEVENT
DTSTART;TZID=America/New_York:20230716T093000
DTEND;TZID=America/New_York:20230716T103000
DTSTAMP:20260425T171031
CREATED:20221130T035617Z
LAST-MODIFIED:20221130T035619Z
UID:10001331-1689499800-1689503400@gracesummerville.org
SUMMARY:Sunday School
DESCRIPTION:Sunday School classes will be held at 9:30 AM in Grace Hall.
URL:https://gracesummerville.org/ourevent/sunday-school-2/2023-07-16/
END:VEVENT
BEGIN:VEVENT
DTSTART;TZID=America/New_York:20230709T093000
DTEND;TZID=America/New_York:20230709T103000
DTSTAMP:20260425T171031
CREATED:20221130T035617Z
LAST-MODIFIED:20221130T035619Z
UID:10001330-1688895000-1688898600@gracesummerville.org
SUMMARY:Sunday School
DESCRIPTION:Sunday School classes will be held at 9:30 AM in Grace Hall.
URL:https://gracesummerville.org/ourevent/sunday-school-2/2023-07-09/
END:VEVENT
BEGIN:VEVENT
DTSTART;TZID=America/New_York:20230702T093000
DTEND;TZID=America/New_York:20230702T103000
DTSTAMP:20260425T171031
CREATED:20221130T035617Z
LAST-MODIFIED:20221130T035619Z
UID:10001329-1688290200-1688293800@gracesummerville.org
SUMMARY:Sunday School
DESCRIPTION:Sunday School classes will be held at 9:30 AM in Grace Hall.
URL:https://gracesummerville.org/ourevent/sunday-school-2/2023-07-02/
END:VEVENT
BEGIN:VEVENT
DTSTART;TZID=America/New_York:20230625T093000
DTEND;TZID=America/New_York:20230625T103000
DTSTAMP:20260425T171031
CREATED:20221130T035617Z
LAST-MODIFIED:20221130T035619Z
UID:10001328-1687685400-1687689000@gracesummerville.org
SUMMARY:Sunday School
DESCRIPTION:Sunday School classes will be held at 9:30 AM in Grace Hall.
URL:https://gracesummerville.org/ourevent/sunday-school-2/2023-06-25/
END:VEVENT
BEGIN:VEVENT
DTSTART;TZID=America/New_York:20230618T093000
DTEND;TZID=America/New_York:20230618T103000
DTSTAMP:20260425T171031
CREATED:20221130T035617Z
LAST-MODIFIED:20221130T035619Z
UID:10001327-1687080600-1687084200@gracesummerville.org
SUMMARY:Sunday School
DESCRIPTION:Sunday School classes will be held at 9:30 AM in Grace Hall.
URL:https://gracesummerville.org/ourevent/sunday-school-2/2023-06-18/
END:VEVENT
BEGIN:VEVENT
DTSTART;TZID=America/New_York:20230611T093000
DTEND;TZID=America/New_York:20230611T103000
DTSTAMP:20260425T171031
CREATED:20221130T035617Z
LAST-MODIFIED:20221130T035619Z
UID:10001326-1686475800-1686479400@gracesummerville.org
SUMMARY:Sunday School
DESCRIPTION:Sunday School classes will be held at 9:30 AM in Grace Hall.
URL:https://gracesummerville.org/ourevent/sunday-school-2/2023-06-11/
END:VEVENT
BEGIN:VEVENT
DTSTART;TZID=America/New_York:20230604T093000
DTEND;TZID=America/New_York:20230604T103000
DTSTAMP:20260425T171031
CREATED:20221130T035617Z
LAST-MODIFIED:20221130T035619Z
UID:10001325-1685871000-1685874600@gracesummerville.org
SUMMARY:Sunday School
DESCRIPTION:Sunday School classes will be held at 9:30 AM in Grace Hall.
URL:https://gracesummerville.org/ourevent/sunday-school-2/2023-06-04/
END:VEVENT
BEGIN:VEVENT
DTSTART;TZID=America/New_York:20230528T093000
DTEND;TZID=America/New_York:20230528T103000
DTSTAMP:20260425T171031
CREATED:20221130T035617Z
LAST-MODIFIED:20221130T035619Z
UID:10001324-1685266200-1685269800@gracesummerville.org
SUMMARY:Sunday School
DESCRIPTION:Sunday School classes will be held at 9:30 AM in Grace Hall.
URL:https://gracesummerville.org/ourevent/sunday-school-2/2023-05-28/
END:VEVENT
BEGIN:VEVENT
DTSTART;TZID=America/New_York:20230521T093000
DTEND;TZID=America/New_York:20230521T103000
DTSTAMP:20260425T171031
CREATED:20221130T035617Z
LAST-MODIFIED:20221130T035619Z
UID:10001323-1684661400-1684665000@gracesummerville.org
SUMMARY:Sunday School
DESCRIPTION:Sunday School classes will be held at 9:30 AM in Grace Hall.
URL:https://gracesummerville.org/ourevent/sunday-school-2/2023-05-21/
END:VEVENT
BEGIN:VEVENT
DTSTART;TZID=America/New_York:20230514T093000
DTEND;TZID=America/New_York:20230514T103000
DTSTAMP:20260425T171031
CREATED:20221130T035617Z
LAST-MODIFIED:20221130T035619Z
UID:10001322-1684056600-1684060200@gracesummerville.org
SUMMARY:Sunday School
DESCRIPTION:Sunday School classes will be held at 9:30 AM in Grace Hall.
URL:https://gracesummerville.org/ourevent/sunday-school-2/2023-05-14/
END:VEVENT
BEGIN:VEVENT
DTSTART;TZID=America/New_York:20230507T093000
DTEND;TZID=America/New_York:20230507T103000
DTSTAMP:20260425T171031
CREATED:20221130T035617Z
LAST-MODIFIED:20221130T035619Z
UID:10001321-1683451800-1683455400@gracesummerville.org
SUMMARY:Sunday School
DESCRIPTION:Sunday School classes will be held at 9:30 AM in Grace Hall.
URL:https://gracesummerville.org/ourevent/sunday-school-2/2023-05-07/
END:VEVENT
BEGIN:VEVENT
DTSTART;TZID=America/New_York:20230430T093000
DTEND;TZID=America/New_York:20230430T103000
DTSTAMP:20260425T171031
CREATED:20221130T035617Z
LAST-MODIFIED:20221130T035619Z
UID:10001320-1682847000-1682850600@gracesummerville.org
SUMMARY:Sunday School
DESCRIPTION:Sunday School classes will be held at 9:30 AM in Grace Hall.
URL:https://gracesummerville.org/ourevent/sunday-school-2/2023-04-30/
END:VEVENT
BEGIN:VEVENT
DTSTART;TZID=America/New_York:20230423T093000
DTEND;TZID=America/New_York:20230423T103000
DTSTAMP:20260425T171031
CREATED:20221130T035617Z
LAST-MODIFIED:20221130T035619Z
UID:10001319-1682242200-1682245800@gracesummerville.org
SUMMARY:Sunday School
DESCRIPTION:Sunday School classes will be held at 9:30 AM in Grace Hall.
URL:https://gracesummerville.org/ourevent/sunday-school-2/2023-04-23/
END:VEVENT
BEGIN:VEVENT
DTSTART;TZID=America/New_York:20230416T093000
DTEND;TZID=America/New_York:20230416T103000
DTSTAMP:20260425T171031
CREATED:20221130T035617Z
LAST-MODIFIED:20221130T035619Z
UID:10001318-1681637400-1681641000@gracesummerville.org
SUMMARY:Sunday School
DESCRIPTION:Sunday School classes will be held at 9:30 AM in Grace Hall.
URL:https://gracesummerville.org/ourevent/sunday-school-2/2023-04-16/
END:VEVENT
BEGIN:VEVENT
DTSTART;TZID=America/New_York:20230409T093000
DTEND;TZID=America/New_York:20230409T103000
DTSTAMP:20260425T171031
CREATED:20221130T035617Z
LAST-MODIFIED:20221130T035619Z
UID:10001317-1681032600-1681036200@gracesummerville.org
SUMMARY:Sunday School
DESCRIPTION:Sunday School classes will be held at 9:30 AM in Grace Hall.
URL:https://gracesummerville.org/ourevent/sunday-school-2/2023-04-09/
END:VEVENT
BEGIN:VEVENT
DTSTART;TZID=America/New_York:20230402T093000
DTEND;TZID=America/New_York:20230402T103000
DTSTAMP:20260425T171031
CREATED:20221130T035617Z
LAST-MODIFIED:20221130T035619Z
UID:10001316-1680427800-1680431400@gracesummerville.org
SUMMARY:Sunday School
DESCRIPTION:Sunday School classes will be held at 9:30 AM in Grace Hall.
URL:https://gracesummerville.org/ourevent/sunday-school-2/2023-04-02/
END:VEVENT
BEGIN:VEVENT
DTSTART;TZID=America/New_York:20230326T093000
DTEND;TZID=America/New_York:20230326T103000
DTSTAMP:20260425T171031
CREATED:20221130T035617Z
LAST-MODIFIED:20221130T035619Z
UID:10001315-1679823000-1679826600@gracesummerville.org
SUMMARY:Sunday School
DESCRIPTION:Sunday School classes will be held at 9:30 AM in Grace Hall.
URL:https://gracesummerville.org/ourevent/sunday-school-2/2023-03-26/
END:VEVENT
BEGIN:VEVENT
DTSTART;TZID=America/New_York:20230319T093000
DTEND;TZID=America/New_York:20230319T103000
DTSTAMP:20260425T171031
CREATED:20221130T035617Z
LAST-MODIFIED:20221130T035619Z
UID:10001314-1679218200-1679221800@gracesummerville.org
SUMMARY:Sunday School
DESCRIPTION:Sunday School classes will be held at 9:30 AM in Grace Hall.
URL:https://gracesummerville.org/ourevent/sunday-school-2/2023-03-19/
END:VEVENT
BEGIN:VEVENT
DTSTART;TZID=America/New_York:20230312T093000
DTEND;TZID=America/New_York:20230312T103000
DTSTAMP:20260425T171031
CREATED:20221130T035617Z
LAST-MODIFIED:20221130T035619Z
UID:10001313-1678613400-1678617000@gracesummerville.org
SUMMARY:Sunday School
DESCRIPTION:Sunday School classes will be held at 9:30 AM in Grace Hall.
URL:https://gracesummerville.org/ourevent/sunday-school-2/2023-03-12/
END:VEVENT
BEGIN:VEVENT
DTSTART;TZID=America/New_York:20230305T093000
DTEND;TZID=America/New_York:20230305T103000
DTSTAMP:20260425T171031
CREATED:20221130T035617Z
LAST-MODIFIED:20221130T035619Z
UID:10001312-1678008600-1678012200@gracesummerville.org
SUMMARY:Sunday School
DESCRIPTION:Sunday School classes will be held at 9:30 AM in Grace Hall.
URL:https://gracesummerville.org/ourevent/sunday-school-2/2023-03-05/
END:VEVENT
BEGIN:VEVENT
DTSTART;TZID=America/New_York:20230226T093000
DTEND;TZID=America/New_York:20230226T103000
DTSTAMP:20260425T171031
CREATED:20221130T035617Z
LAST-MODIFIED:20221130T035619Z
UID:10001311-1677403800-1677407400@gracesummerville.org
SUMMARY:Sunday School
DESCRIPTION:Sunday School classes will be held at 9:30 AM in Grace Hall.
URL:https://gracesummerville.org/ourevent/sunday-school-2/2023-02-26/
END:VEVENT
BEGIN:VEVENT
DTSTART;TZID=America/New_York:20230219T093000
DTEND;TZID=America/New_York:20230219T103000
DTSTAMP:20260425T171031
CREATED:20221130T035617Z
LAST-MODIFIED:20221130T035619Z
UID:10001310-1676799000-1676802600@gracesummerville.org
SUMMARY:Sunday School
DESCRIPTION:Sunday School classes will be held at 9:30 AM in Grace Hall.
URL:https://gracesummerville.org/ourevent/sunday-school-2/2023-02-19/
END:VEVENT
BEGIN:VEVENT
DTSTART;TZID=America/New_York:20230212T093000
DTEND;TZID=America/New_York:20230212T103000
DTSTAMP:20260425T171031
CREATED:20221130T035617Z
LAST-MODIFIED:20221130T035619Z
UID:10001309-1676194200-1676197800@gracesummerville.org
SUMMARY:Sunday School
DESCRIPTION:Sunday School classes will be held at 9:30 AM in Grace Hall.
URL:https://gracesummerville.org/ourevent/sunday-school-2/2023-02-12/
END:VEVENT
BEGIN:VEVENT
DTSTART;TZID=America/New_York:20230205T093000
DTEND;TZID=America/New_York:20230205T103000
DTSTAMP:20260425T171031
CREATED:20221130T035617Z
LAST-MODIFIED:20221130T035619Z
UID:10001308-1675589400-1675593000@gracesummerville.org
SUMMARY:Sunday School
DESCRIPTION:Sunday School classes will be held at 9:30 AM in Grace Hall.
URL:https://gracesummerville.org/ourevent/sunday-school-2/2023-02-05/
END:VEVENT
END:VCALENDAR