BEGIN:VCALENDAR
VERSION:2.0
PRODID:-//Grace Lutheran Church - Summerville, SC - ECPv6.15.20//NONSGML v1.0//EN
CALSCALE:GREGORIAN
METHOD:PUBLISH
X-ORIGINAL-URL:https://gracesummerville.org
X-WR-CALDESC:Events for Grace Lutheran Church - Summerville, SC
REFRESH-INTERVAL;VALUE=DURATION:PT1H
X-Robots-Tag:noindex
X-PUBLISHED-TTL:PT1H
BEGIN:VTIMEZONE
TZID:America/New_York
BEGIN:DAYLIGHT
TZOFFSETFROM:-0500
TZOFFSETTO:-0400
TZNAME:EDT
DTSTART:20220313T070000
END:DAYLIGHT
BEGIN:STANDARD
TZOFFSETFROM:-0400
TZOFFSETTO:-0500
TZNAME:EST
DTSTART:20221106T060000
END:STANDARD
BEGIN:DAYLIGHT
TZOFFSETFROM:-0500
TZOFFSETTO:-0400
TZNAME:EDT
DTSTART:20230312T070000
END:DAYLIGHT
BEGIN:STANDARD
TZOFFSETFROM:-0400
TZOFFSETTO:-0500
TZNAME:EST
DTSTART:20231105T060000
END:STANDARD
BEGIN:DAYLIGHT
TZOFFSETFROM:-0500
TZOFFSETTO:-0400
TZNAME:EDT
DTSTART:20240310T070000
END:DAYLIGHT
BEGIN:STANDARD
TZOFFSETFROM:-0400
TZOFFSETTO:-0500
TZNAME:EST
DTSTART:20241103T060000
END:STANDARD
BEGIN:DAYLIGHT
TZOFFSETFROM:-0500
TZOFFSETTO:-0400
TZNAME:EDT
DTSTART:20250309T070000
END:DAYLIGHT
BEGIN:STANDARD
TZOFFSETFROM:-0400
TZOFFSETTO:-0500
TZNAME:EST
DTSTART:20251102T060000
END:STANDARD
END:VTIMEZONE
BEGIN:VEVENT
DTSTART;TZID=America/New_York:20240428T093000
DTEND;TZID=America/New_York:20240428T103000
DTSTAMP:20260424T063725
CREATED:20221130T035617Z
LAST-MODIFIED:20221130T035619Z
UID:10001372-1714296600-1714300200@gracesummerville.org
SUMMARY:Sunday School
DESCRIPTION:Sunday School classes will be held at 9:30 AM in Grace Hall.
URL:https://gracesummerville.org/ourevent/sunday-school-2/2024-04-28/
END:VEVENT
BEGIN:VEVENT
DTSTART;TZID=America/New_York:20240421T093000
DTEND;TZID=America/New_York:20240421T103000
DTSTAMP:20260424T063725
CREATED:20221130T035617Z
LAST-MODIFIED:20221130T035619Z
UID:10001371-1713691800-1713695400@gracesummerville.org
SUMMARY:Sunday School
DESCRIPTION:Sunday School classes will be held at 9:30 AM in Grace Hall.
URL:https://gracesummerville.org/ourevent/sunday-school-2/2024-04-21/
END:VEVENT
BEGIN:VEVENT
DTSTART;TZID=America/New_York:20240414T093000
DTEND;TZID=America/New_York:20240414T103000
DTSTAMP:20260424T063725
CREATED:20221130T035617Z
LAST-MODIFIED:20221130T035619Z
UID:10001370-1713087000-1713090600@gracesummerville.org
SUMMARY:Sunday School
DESCRIPTION:Sunday School classes will be held at 9:30 AM in Grace Hall.
URL:https://gracesummerville.org/ourevent/sunday-school-2/2024-04-14/
END:VEVENT
BEGIN:VEVENT
DTSTART;TZID=America/New_York:20240407T093000
DTEND;TZID=America/New_York:20240407T103000
DTSTAMP:20260424T063725
CREATED:20221130T035617Z
LAST-MODIFIED:20221130T035619Z
UID:10001369-1712482200-1712485800@gracesummerville.org
SUMMARY:Sunday School
DESCRIPTION:Sunday School classes will be held at 9:30 AM in Grace Hall.
URL:https://gracesummerville.org/ourevent/sunday-school-2/2024-04-07/
END:VEVENT
BEGIN:VEVENT
DTSTART;TZID=America/New_York:20240324T093000
DTEND;TZID=America/New_York:20240324T103000
DTSTAMP:20260424T063725
CREATED:20221130T035617Z
LAST-MODIFIED:20221130T035619Z
UID:10001367-1711272600-1711276200@gracesummerville.org
SUMMARY:Sunday School
DESCRIPTION:Sunday School classes will be held at 9:30 AM in Grace Hall.
URL:https://gracesummerville.org/ourevent/sunday-school-2/2024-03-24/
END:VEVENT
BEGIN:VEVENT
DTSTART;TZID=America/New_York:20240317T093000
DTEND;TZID=America/New_York:20240317T103000
DTSTAMP:20260424T063725
CREATED:20221130T035617Z
LAST-MODIFIED:20221130T035619Z
UID:10001366-1710667800-1710671400@gracesummerville.org
SUMMARY:Sunday School
DESCRIPTION:Sunday School classes will be held at 9:30 AM in Grace Hall.
URL:https://gracesummerville.org/ourevent/sunday-school-2/2024-03-17/
END:VEVENT
BEGIN:VEVENT
DTSTART;TZID=America/New_York:20240310T093000
DTEND;TZID=America/New_York:20240310T103000
DTSTAMP:20260424T063725
CREATED:20221130T035617Z
LAST-MODIFIED:20221130T035619Z
UID:10001365-1710063000-1710066600@gracesummerville.org
SUMMARY:Sunday School
DESCRIPTION:Sunday School classes will be held at 9:30 AM in Grace Hall.
URL:https://gracesummerville.org/ourevent/sunday-school-2/2024-03-10/
END:VEVENT
BEGIN:VEVENT
DTSTART;TZID=America/New_York:20240303T093000
DTEND;TZID=America/New_York:20240303T103000
DTSTAMP:20260424T063725
CREATED:20221130T035617Z
LAST-MODIFIED:20221130T035619Z
UID:10001364-1709458200-1709461800@gracesummerville.org
SUMMARY:Sunday School
DESCRIPTION:Sunday School classes will be held at 9:30 AM in Grace Hall.
URL:https://gracesummerville.org/ourevent/sunday-school-2/2024-03-03/
END:VEVENT
BEGIN:VEVENT
DTSTART;TZID=America/New_York:20240225T093000
DTEND;TZID=America/New_York:20240225T103000
DTSTAMP:20260424T063725
CREATED:20221130T035617Z
LAST-MODIFIED:20221130T035619Z
UID:10001363-1708853400-1708857000@gracesummerville.org
SUMMARY:Sunday School
DESCRIPTION:Sunday School classes will be held at 9:30 AM in Grace Hall.
URL:https://gracesummerville.org/ourevent/sunday-school-2/2024-02-25/
END:VEVENT
BEGIN:VEVENT
DTSTART;TZID=America/New_York:20240218T093000
DTEND;TZID=America/New_York:20240218T103000
DTSTAMP:20260424T063725
CREATED:20221130T035617Z
LAST-MODIFIED:20221130T035619Z
UID:10001362-1708248600-1708252200@gracesummerville.org
SUMMARY:Sunday School
DESCRIPTION:Sunday School classes will be held at 9:30 AM in Grace Hall.
URL:https://gracesummerville.org/ourevent/sunday-school-2/2024-02-18/
END:VEVENT
BEGIN:VEVENT
DTSTART;TZID=America/New_York:20240211T093000
DTEND;TZID=America/New_York:20240211T103000
DTSTAMP:20260424T063725
CREATED:20221130T035617Z
LAST-MODIFIED:20221130T035619Z
UID:10001361-1707643800-1707647400@gracesummerville.org
SUMMARY:Sunday School
DESCRIPTION:Sunday School classes will be held at 9:30 AM in Grace Hall.
URL:https://gracesummerville.org/ourevent/sunday-school-2/2024-02-11/
END:VEVENT
BEGIN:VEVENT
DTSTART;TZID=America/New_York:20240204T093000
DTEND;TZID=America/New_York:20240204T103000
DTSTAMP:20260424T063725
CREATED:20221130T035617Z
LAST-MODIFIED:20221130T035619Z
UID:10001360-1707039000-1707042600@gracesummerville.org
SUMMARY:Sunday School
DESCRIPTION:Sunday School classes will be held at 9:30 AM in Grace Hall.
URL:https://gracesummerville.org/ourevent/sunday-school-2/2024-02-04/
END:VEVENT
BEGIN:VEVENT
DTSTART;TZID=America/New_York:20240128T093000
DTEND;TZID=America/New_York:20240128T103000
DTSTAMP:20260424T063725
CREATED:20221130T035617Z
LAST-MODIFIED:20221130T035619Z
UID:10001359-1706434200-1706437800@gracesummerville.org
SUMMARY:Sunday School
DESCRIPTION:Sunday School classes will be held at 9:30 AM in Grace Hall.
URL:https://gracesummerville.org/ourevent/sunday-school-2/2024-01-28/
END:VEVENT
BEGIN:VEVENT
DTSTART;TZID=America/New_York:20240121T093000
DTEND;TZID=America/New_York:20240121T103000
DTSTAMP:20260424T063725
CREATED:20221130T035617Z
LAST-MODIFIED:20221130T035619Z
UID:10001358-1705829400-1705833000@gracesummerville.org
SUMMARY:Sunday School
DESCRIPTION:Sunday School classes will be held at 9:30 AM in Grace Hall.
URL:https://gracesummerville.org/ourevent/sunday-school-2/2024-01-21/
END:VEVENT
BEGIN:VEVENT
DTSTART;TZID=America/New_York:20240114T093000
DTEND;TZID=America/New_York:20240114T103000
DTSTAMP:20260424T063725
CREATED:20221130T035617Z
LAST-MODIFIED:20221130T035619Z
UID:10001357-1705224600-1705228200@gracesummerville.org
SUMMARY:Sunday School
DESCRIPTION:Sunday School classes will be held at 9:30 AM in Grace Hall.
URL:https://gracesummerville.org/ourevent/sunday-school-2/2024-01-14/
END:VEVENT
BEGIN:VEVENT
DTSTART;TZID=America/New_York:20240107T093000
DTEND;TZID=America/New_York:20240107T103000
DTSTAMP:20260424T063725
CREATED:20221130T035617Z
LAST-MODIFIED:20221130T035619Z
UID:10001356-1704619800-1704623400@gracesummerville.org
SUMMARY:Sunday School
DESCRIPTION:Sunday School classes will be held at 9:30 AM in Grace Hall.
URL:https://gracesummerville.org/ourevent/sunday-school-2/2024-01-07/
END:VEVENT
BEGIN:VEVENT
DTSTART;TZID=America/New_York:20231231T093000
DTEND;TZID=America/New_York:20231231T103000
DTSTAMP:20260424T063725
CREATED:20221130T035617Z
LAST-MODIFIED:20221130T035619Z
UID:10001355-1704015000-1704018600@gracesummerville.org
SUMMARY:Sunday School
DESCRIPTION:Sunday School classes will be held at 9:30 AM in Grace Hall.
URL:https://gracesummerville.org/ourevent/sunday-school-2/2023-12-31/
END:VEVENT
BEGIN:VEVENT
DTSTART;TZID=America/New_York:20231224T093000
DTEND;TZID=America/New_York:20231224T103000
DTSTAMP:20260424T063725
CREATED:20221130T035617Z
LAST-MODIFIED:20221130T035619Z
UID:10001354-1703410200-1703413800@gracesummerville.org
SUMMARY:Sunday School
DESCRIPTION:Sunday School classes will be held at 9:30 AM in Grace Hall.
URL:https://gracesummerville.org/ourevent/sunday-school-2/2023-12-24/
END:VEVENT
BEGIN:VEVENT
DTSTART;TZID=America/New_York:20231217T093000
DTEND;TZID=America/New_York:20231217T103000
DTSTAMP:20260424T063725
CREATED:20221130T035617Z
LAST-MODIFIED:20221130T035619Z
UID:10001353-1702805400-1702809000@gracesummerville.org
SUMMARY:Sunday School
DESCRIPTION:Sunday School classes will be held at 9:30 AM in Grace Hall.
URL:https://gracesummerville.org/ourevent/sunday-school-2/2023-12-17/
END:VEVENT
BEGIN:VEVENT
DTSTART;TZID=America/New_York:20231210T093000
DTEND;TZID=America/New_York:20231210T103000
DTSTAMP:20260424T063725
CREATED:20221130T035617Z
LAST-MODIFIED:20221130T035619Z
UID:10001352-1702200600-1702204200@gracesummerville.org
SUMMARY:Sunday School
DESCRIPTION:Sunday School classes will be held at 9:30 AM in Grace Hall.
URL:https://gracesummerville.org/ourevent/sunday-school-2/2023-12-10/
END:VEVENT
BEGIN:VEVENT
DTSTART;TZID=America/New_York:20231203T093000
DTEND;TZID=America/New_York:20231203T103000
DTSTAMP:20260424T063725
CREATED:20221130T035617Z
LAST-MODIFIED:20221130T035619Z
UID:10001351-1701595800-1701599400@gracesummerville.org
SUMMARY:Sunday School
DESCRIPTION:Sunday School classes will be held at 9:30 AM in Grace Hall.
URL:https://gracesummerville.org/ourevent/sunday-school-2/2023-12-03/
END:VEVENT
BEGIN:VEVENT
DTSTART;TZID=America/New_York:20231126T093000
DTEND;TZID=America/New_York:20231126T103000
DTSTAMP:20260424T063725
CREATED:20221130T035617Z
LAST-MODIFIED:20221130T035619Z
UID:10001350-1700991000-1700994600@gracesummerville.org
SUMMARY:Sunday School
DESCRIPTION:Sunday School classes will be held at 9:30 AM in Grace Hall.
URL:https://gracesummerville.org/ourevent/sunday-school-2/2023-11-26/
END:VEVENT
BEGIN:VEVENT
DTSTART;TZID=America/New_York:20231119T093000
DTEND;TZID=America/New_York:20231119T103000
DTSTAMP:20260424T063725
CREATED:20221130T035617Z
LAST-MODIFIED:20221130T035619Z
UID:10001349-1700386200-1700389800@gracesummerville.org
SUMMARY:Sunday School
DESCRIPTION:Sunday School classes will be held at 9:30 AM in Grace Hall.
URL:https://gracesummerville.org/ourevent/sunday-school-2/2023-11-19/
END:VEVENT
BEGIN:VEVENT
DTSTART;TZID=America/New_York:20231112T093000
DTEND;TZID=America/New_York:20231112T103000
DTSTAMP:20260424T063725
CREATED:20221130T035617Z
LAST-MODIFIED:20221130T035619Z
UID:10001348-1699781400-1699785000@gracesummerville.org
SUMMARY:Sunday School
DESCRIPTION:Sunday School classes will be held at 9:30 AM in Grace Hall.
URL:https://gracesummerville.org/ourevent/sunday-school-2/2023-11-12/
END:VEVENT
BEGIN:VEVENT
DTSTART;TZID=America/New_York:20231105T110000
DTEND;TZID=America/New_York:20231105T140000
DTSTAMP:20260424T063725
CREATED:20230814T143634Z
LAST-MODIFIED:20230814T143634Z
UID:10002353-1699182000-1699192800@gracesummerville.org
SUMMARY:Samaritan's Purse Shoebox Packing
DESCRIPTION:
URL:https://gracesummerville.org/ourevent/samaritans-purse-shoebox-packing/
LOCATION:Grace Hall\, 1600 Old Trolley Road\, Summerville\, SC\, 29485\, United States
END:VEVENT
BEGIN:VEVENT
DTSTART;TZID=America/New_York:20231105T093000
DTEND;TZID=America/New_York:20231105T103000
DTSTAMP:20260424T063725
CREATED:20221130T035617Z
LAST-MODIFIED:20221130T035619Z
UID:10001347-1699176600-1699180200@gracesummerville.org
SUMMARY:Sunday School
DESCRIPTION:Sunday School classes will be held at 9:30 AM in Grace Hall.
URL:https://gracesummerville.org/ourevent/sunday-school-2/2023-11-05/
END:VEVENT
BEGIN:VEVENT
DTSTART;TZID=America/New_York:20231029T093000
DTEND;TZID=America/New_York:20231029T103000
DTSTAMP:20260424T063725
CREATED:20221130T035617Z
LAST-MODIFIED:20221130T035619Z
UID:10001346-1698571800-1698575400@gracesummerville.org
SUMMARY:Sunday School
DESCRIPTION:Sunday School classes will be held at 9:30 AM in Grace Hall.
URL:https://gracesummerville.org/ourevent/sunday-school-2/2023-10-29/
END:VEVENT
BEGIN:VEVENT
DTSTART;TZID=America/New_York:20231022T093000
DTEND;TZID=America/New_York:20231022T103000
DTSTAMP:20260424T063725
CREATED:20221130T035617Z
LAST-MODIFIED:20221130T035619Z
UID:10001345-1697967000-1697970600@gracesummerville.org
SUMMARY:Sunday School
DESCRIPTION:Sunday School classes will be held at 9:30 AM in Grace Hall.
URL:https://gracesummerville.org/ourevent/sunday-school-2/2023-10-22/
END:VEVENT
BEGIN:VEVENT
DTSTART;TZID=America/New_York:20231015T093000
DTEND;TZID=America/New_York:20231015T103000
DTSTAMP:20260424T063725
CREATED:20221130T035617Z
LAST-MODIFIED:20221130T035619Z
UID:10001344-1697362200-1697365800@gracesummerville.org
SUMMARY:Sunday School
DESCRIPTION:Sunday School classes will be held at 9:30 AM in Grace Hall.
URL:https://gracesummerville.org/ourevent/sunday-school-2/2023-10-15/
END:VEVENT
BEGIN:VEVENT
DTSTART;TZID=America/New_York:20231008T093000
DTEND;TZID=America/New_York:20231008T103000
DTSTAMP:20260424T063725
CREATED:20221130T035617Z
LAST-MODIFIED:20221130T035619Z
UID:10001343-1696757400-1696761000@gracesummerville.org
SUMMARY:Sunday School
DESCRIPTION:Sunday School classes will be held at 9:30 AM in Grace Hall.
URL:https://gracesummerville.org/ourevent/sunday-school-2/2023-10-08/
END:VEVENT
END:VCALENDAR